Workbook
Name Countries: Language!$C$1:$J$1
Name GroupA: Calculator!$ED$7
Name GroupB: Calculator!$ED$13
Name GroupC: Calculator!$ED$19
Name GroupD: Calculator!$ED$25
Name GroupE: Calculator!$ED$31
Name GroupF: Calculator!$ED$37
Name GroupG: Calculator!$ED$43
Name GroupH: Calculator!$ED$49
Name LanguageRef: Language!$C$1:$I$1
Name Team: Calculator!$DS$7:$DS$38
Name TimeZoneData: Setup!$C$4
Name TimeZoneList: Calculator!$DW$7:$DW$56
Name Translation: Language!$C$3:$I$171
Name TransRef: Language!$B$3:$B$171

Sheet Setup
B2: SETUP | C2: PURCHASE UNPROTECTED SCHEDULE & SCORESHEET. MORE MODELS. WORKS ON GOOGLE SPREADSHEET. CLICK HERE
B4: Time Difference with New York Time (ET) ► | C4: 0 | D4: Your City Name | K4: ◄ | L4: Select your time preference by adding or subtracting your local time with New York time
B5: Language ► | C5: English | F5: FIFA Rank | G5: Fair Play Points | K5: ◄ | L5: Select your language. There are only 6 translated language. You can translate default English language to your own by typing its translation in column C. YOU NEED TO TRANSLATE ALL TEXTS FROM COLUMN B if you want to use your own translation.
B6: Custom Language Translation Title ► | C6: MY LANGUAGE | L6: Do not forget to select your Custom Language translation title in cell C5 to translate matches worksheet to your language after you filling all translation rows in column C
B7: Original Language (English) | C7: Your Language Translation | D7: Group | K7: ◄ | L7: You may type your city name in cell D6. It will be shown if you change time zone to your timezone in cell Q2 in Matches Tab
A8: 1 | B8: Mexico | D8: A | E8:  | F8: 16 | L8: Do not change or sort country order. It will break country reference formula
A9: 2 | B9: South Africa | D9: A | E9:  | F9: 60 | K9: ◄ | L9: You may need to type FAIR PLAY points if two or more teams in group standings have to go through tie-breaker 8 where their standings is decided by fair play point (do not forget to add minus sign)
A10: 3 | B10: Korea Republic | D10: A | E10:  | F10: 22 | K10: ◄ | L10: You may edit FIFA Rank in column F to make sure it follows the latest FIFA rank if team rank has to be decided by tie-breaker 9
A11: 4 | B11: Czechia | D11: A | E11:  | F11: 43 | K11: TIE BREAKER REGULATION
A12: 5 | B12: Canada | D12: B | E12:  | F12: 29 | K12: The ranking of teams in the group stage is determined as follows:
A13: 6 | B13: Bosnia and Herzegovina | D13: B | E13:  | F13: 71 | K13: 1 | L13: Points obtained in all group matches;
A14: 7 | B14: Qatar | D14: B | E14:  | F14: 56 | K14: 2 | L14: Points obtained in the matches played between the teams in question;
A15: 8 | B15: Switzerland | D15: B | E15:  | F15: 18 | K15: 3 | L15: Goal difference in the matches played between the teams in question;
A16: 9 | B16: Brazil | D16: C | E16:  | F16: 5 | K16: 4 | L16: Number of goals scored in the matches played between the teams in question;
A17: 10 | B17: Morocco | D17: C | E17:  | F17: 8 | K17: 5 | L17: If, after having applied criteria 1 to 3, teams still have an equal ranking, criteria 2 to 4 are reapplied exclusively to the matches between the teams who are still level to determine their final rankings.[a] If this procedure does not lead to a decision, criteria 6 to 9 will apply;
A18: 11 | B18: Haiti | D18: C | E18:  | F18: 83 | K18: 6 | L18: Goal difference in all group matches;
A19: 12 | B19: Scotland | D19: C | E19:  | F19: 38 | K19: 7 | L19: Number of goals scored in all group matches;
A20: 13 | B20: USA | D20: D | E20:  | F20: 15 | K20: 8 | L20: Fair play points in all group matches (only one deduction can be applied to a player or coach in a single match):
A21: 14 | B21: Paraguay | D21: D | E21:  | F21: 40 | L21: > Yellow card: −1 point;
A22: 15 | B22: Australia | D22: D | E22:  | F22: 27 | L22: > Indirect red card (second yellow card): −3 points;
A23: 16 | B23: Türkiye | D23: D | E23:  | F23: 25 | L23: > Direct red card: −4 points;
A24: 17 | B24: Germany | D24: E | E24:  | F24: 10 | L24: > Yellow card and direct red card: −5 points;
A25: 18 | B25: Curacao | D25: E | E25:  | F25: 81 | K25: 9 | L25: Better position in the most recent FIFA Men's World Ranking;
A26: 19 | B26: Cote D'Voire | D26: E | E26:  | F26: 37
A27: 20 | B27: Ecuador | D27: E | E27:  | F27: 23 | L27: FIFA World Ranking Source
A28: 21 | B28: Netherlands | D28: F | E28:  | F28: 7
A29: 22 | B29: Japan | D29: F | E29:  | F29: 19
A30: 23 | B30: Sweden | D30: F | E30:  | F30: 42
A31: 24 | B31: Tunisia | D31: F | E31:  | F31: 47
A32: 25 | B32: Belgium | D32: G | E32:  | F32: 9
A33: 26 | B33: Egypt | D33: G | E33:  | F33: 31
A34: 27 | B34: Iran | D34: G | E34:  | F34: 20
A35: 28 | B35: New Zealand | D35: G | E35:  | F35: 85
A36: 29 | B36: Spain | D36: H | E36:  | F36: 1
A37: 30 | B37: Cabo Verde | D37: H | E37:  | F37: 67
A38: 31 | B38: Saudi Arabia | D38: H | E38:  | F38: 61
A39: 32 | B39: Uruguay | D39: H | E39:  | F39: 17
... A55: 48 | B55: Panama | D55: L | E55:  | F55: 33
B56: Language
B57: Timezone
...

Sheet Matches
B2: =UPPER(INDEX(Translation,MATCH("World Cup 2026 Fixtures",TransRef,0),MATCH(Setup!C5,LanguageRef,0))) -> WORLD CUP 2026 FIXTURES | Q2: =IF(TimeZoneData<>0,IF(Setup!D6<>"",Setup!D6&" TIME",""),"NEW YORK TIME ") -> NEW YORK TIME | S2: WANNA PLAY PREDICTION GAME with YOUR FRIENDS? CLICK HERE TO GET PREDICTOR GAME SPREADSHEET
B3: =INDEX(Translation,MATCH("Match #",TransRef,0),MATCH(Setup!C5,LanguageRef,0)) -> Match # | D3: =INDEX(Translation,MATCH("Time",TransRef,0),MATCH(Setup!C5,LanguageRef,0)) -> Time | H3: =INDEX(Translation,MATCH("Country",TransRef,0),MATCH(Setup!C5,LanguageRef,0)) -> Country | J3: =INDEX(Translation,MATCH("Score",TransRef,0),MATCH(Setup!C5,LanguageRef,0)) -> Score | M3: =INDEX(Translation,MATCH("Country",TransRef,0),MATCH(Setup!C5,LanguageRef,0)) -> Country | Q3: =INDEX(Translation,MATCH("Venue",TransRef,0),MATCH(Setup!C5,LanguageRef,0)) -> Venue | S3: =INDEX(Language!$A$1:$H$172,MATCH("Standings",Language!$B$1:$B$182,0),MATCH(Setup!C5,Language!$A$1:$G$1,0)) -> Standings | AF3: Notes :
B4: 1 | C4: A | D4: =Calculator!EB7 -> 46184.625 | H4: =INDEX(Language!$A$1:$K$177,MATCH(Setup!B8,Language!$B$1:$B$177,0),MATCH(Setup!$C$5,Language!$A$1:$J$1,0)) -> Mexico | M4: =INDEX(Language!$A$1:$K$177,MATCH(Setup!B9,Language!$B$1:$B$177,0),MATCH(Setup!$C$5,Language!$A$1:$J$1,0)) -> South Africa | Q4: Estadio Azteca, Mexico City 🇲🇽 | S4: =INDEX(Language!$A$1:$K$177,MATCH("Group A",Language!$B$1:$B$177,0),MATCH(Setup!$C$5,Language!$A$1:$J$1,0)) -> Group A | V4: P | W4: W | X4: D | Y4: L | Z4: F | AA4: A | AB4: Pt | AF4: GROUP MATCHES ARE SORTED BY MATCH NUMBER
B5: 2 | C5: A | D5: =Calculator!EB8 -> 46184.917 | H5: =INDEX(Language!$A$1:$K$177,MATCH(Setup!B10,Language!$B$1:$B$177,0),MATCH(Setup!$C$5,Language!$A$1:$J$1,0)) -> Korea Republic | M5: =INDEX(Language!$A$1:$K$177,MATCH(Setup!B11,Language!$B$1:$B$177,0),MATCH(Setup!$C$5,Language!$A$1:$J$1,0)) -> Czechia | Q5: Estadio Akron, Guadalajara 🇲🇽 | S5: 1 | T5: =INDEX(Calculator!C$4:C$7,MATCH($S5,Calculator!$B$4:$B$7,0),0) -> Mexico | V5: =SUM(W5:Y5) -> 0 | W5: =INDEX(Calculator!D$4:D$7,MATCH($S5,Calculator!$B$4:$B$7,0),0) -> 0 | X5: =INDEX(Calculator!E$4:E$7,MATCH($S5,Calculator!$B$4:$B$7,0),0) -> 0 | Y5: =INDEX(Calculator!F$4:F$7,MATCH($S5,Calculator!$B$4:$B$7,0),0) -> 0 | Z5: =INDEX(Calculator!G$4:G$7,MATCH($S5,Calculator!$B$4:$B$7,0),0) -> 0 | AA5: =INDEX(Calculator!H$4:H$7,MATCH($S5,Calculator!$B$4:$B$7,0),0) -> 0 | AB5: =INDEX(Calculator!J$4:J$7,MATCH($S5,Calculator!$B$4:$B$7,0),0) -> 0
B6: 3 | C6: B | D6: =Calculator!EB9 -> 46185.625 | H6: =INDEX(Language!$A$1:$K$177,MATCH(Setup!B12,Language!$B$1:$B$177,0),MATCH(Setup!$C$5,Language!$A$1:$J$1,0)) -> Canada | M6: =INDEX(Language!$A$1:$K$177,MATCH(Setup!B13,Language!$B$1:$B$177,0),MATCH(Setup!$C$5,Language!$A$1:$J$1,0)) -> Bosnia and Herzegovina | Q6: BMO Field, Toronto 🇨🇦 | S6: 2 | T6: =INDEX(Calculator!C$4:C$7,MATCH($S6,Calculator!$B$4:$B$7,0),0) -> Korea Republic | V6: =SUM(W6:Y6) -> 0 | W6: =INDEX(Calculator!D$4:D$7,MATCH($S6,Calculator!$B$4:$B$7,0),0) -> 0 | X6: =INDEX(Calculator!E$4:E$7,MATCH($S6,Calculator!$B$4:$B$7,0),0) -> 0 | Y6: =INDEX(Calculator!F$4:F$7,MATCH($S6,Calculator!$B$4:$B$7,0),0) -> 0 | Z6: =INDEX(Calculator!G$4:G$7,MATCH($S6,Calculator!$B$4:$B$7,0),0) -> 0 | AA6: =INDEX(Calculator!H$4:H$7,MATCH($S6,Calculator!$B$4:$B$7,0),0) -> 0 | AB6: =INDEX(Calculator!J$4:J$7,MATCH($S6,Calculator!$B$4:$B$7,0),0) -> 0
B7: 4 | C7: D | D7: =Calculator!EB10 -> 46185.875 | H7: =INDEX(Language!$A$1:$K$177,MATCH(Setup!B20,Language!$B$1:$B$177,0),MATCH(Setup!$C$5,Language!$A$1:$J$1,0)) -> USA | M7: =INDEX(Language!$A$1:$K$177,MATCH(Setup!B21,Language!$B$1:$B$177,0),MATCH(Setup!$C$5,Language!$A$1:$J$1,0)) -> Paraguay | Q7: SoFi Stadium, Los Angeles 🇺🇸 | S7: 3 | T7: =INDEX(Calculator!C$4:C$7,MATCH($S7,Calculator!$B$4:$B$7,0),0) -> Czechia | V7: =SUM(W7:Y7) -> 0 | W7: =INDEX(Calculator!D$4:D$7,MATCH($S7,Calculator!$B$4:$B$7,0),0) -> 0 | X7: =INDEX(Calculator!E$4:E$7,MATCH($S7,Calculator!$B$4:$B$7,0),0) -> 0 | Y7: =INDEX(Calculator!F$4:F$7,MATCH($S7,Calculator!$B$4:$B$7,0),0) -> 0 | Z7: =INDEX(Calculator!G$4:G$7,MATCH($S7,Calculator!$B$4:$B$7,0),0) -> 0 | AA7: =INDEX(Calculator!H$4:H$7,MATCH($S7,Calculator!$B$4:$B$7,0),0) -> 0 | AB7: =INDEX(Calculator!J$4:J$7,MATCH($S7,Calculator!$B$4:$B$7,0),0) -> 0 | AF7: ● | AG7: Fill full time scores in column J and K
B8: 5 | C8: C | D8: =Calculator!EB11 -> 46186.875 | H8: =INDEX(Language!$A$1:$K$177,MATCH(Setup!B18,Language!$B$1:$B$177,0),MATCH(Setup!$C$5,Language!$A$1:$J$1,0)) -> Haiti | M8: =INDEX(Language!$A$1:$K$177,MATCH(Setup!B19,Language!$B$1:$B$177,0),MATCH(Setup!$C$5,Language!$A$1:$J$1,0)) -> Scotland | Q8: Gillette Stadium, Boston 🇺🇸 | S8: 4 | T8: =INDEX(Calculator!C$4:C$7,MATCH($S8,Calculator!$B$4:$B$7,0),0) -> South Africa | V8: =SUM(W8:Y8) -> 0 | W8: =INDEX(Calculator!D$4:D$7,MATCH($S8,Calculator!$B$4:$B$7,0),0) -> 0 | X8: =INDEX(Calculator!E$4:E$7,MATCH($S8,Calculator!$B$4:$B$7,0),0) -> 0 | Y8: =INDEX(Calculator!F$4:F$7,MATCH($S8,Calculator!$B$4:$B$7,0),0) -> 0 | Z8: =INDEX(Calculator!G$4:G$7,MATCH($S8,Calculator!$B$4:$B$7,0),0) -> 0 | AA8: =INDEX(Calculator!H$4:H$7,MATCH($S8,Calculator!$B$4:$B$7,0),0) -> 0 | AB8: =INDEX(Calculator!J$4:J$7,MATCH($S8,Calculator!$B$4:$B$7,0),0) -> 0 | AF8: ● | AG8: Fill penalty shoot out scores in KO rounds in columns at the right of Full Time scores columns
B9: 6 | C9: D | D9: =Calculator!EB12 -> 46187 | H9: =INDEX(Language!$A$1:$K$177,MATCH(Setup!B22,Language!$B$1:$B$177,0),MATCH(Setup!$C$5,Language!$A$1:$J$1,0)) -> Australia | M9: =INDEX(Language!$A$1:$K$177,MATCH(Setup!B23,Language!$B$1:$B$177,0),MATCH(Setup!$C$5,Language!$A$1:$J$1,0)) -> Türkiye | Q9: BC Place, Vancouver 🇨🇦 | AF9: ● | AG9: Group standings will be calculated automatically based on official FIFA Club World Cup Tie Breaker regulation
B10: 7 | C10: C | D10: =Calculator!EB13 -> 46186.75 | H10: =INDEX(Language!$A$1:$K$177,MATCH(Setup!B16,Language!$B$1:$B$177,0),MATCH(Setup!$C$5,Language!$A$1:$J$1,0)) -> Brazil | M10: =INDEX(Language!$A$1:$K$177,MATCH(Setup!B17,Language!$B$1:$B$177,0),MATCH(Setup!$C$5,Language!$A$1:$J$1,0)) -> Morocco | Q10: MetLife Stadium, NY/NJ 🇺🇸 | S10: =INDEX(Language!$A$1:$K$177,MATCH("Group B",Language!$B$1:$B$177,0),MATCH(Setup!$C$5,Language!$A$1:$J$1,0)) -> Group B | V10: P | W10: W | X10: D | Y10: L | Z10: F | AA10: A | AB10: Pt | AF10: ● | AG10: Pairing teams in Knock Out rounds will be placed automatically
B11: 8 | C11: B | D11: =Calculator!EB14 -> 46186.625 | H11: =INDEX(Language!$A$1:$K$177,MATCH(Setup!B14,Language!$B$1:$B$177,0),MATCH(Setup!$C$5,Language!$A$1:$J$1,0)) -> Qatar | M11: =INDEX(Language!$A$1:$K$177,MATCH(Setup!B15,Language!$B$1:$B$177,0),MATCH(Setup!$C$5,Language!$A$1:$J$1,0)) -> Switzerland | Q11: Levi’s Stadium, San Francisco 🇺🇸 | S11: 1 | T11: =INDEX(Calculator!C$11:C$14,MATCH($S11,Calculator!$B$11:$B$14,0),0) -> Switzerland | V11: =SUM(W11:Y11) -> 0 | W11: =INDEX(Calculator!D$11:D$14,MATCH($S11,Calculator!$B$11:$B$14,0),0) -> 0 | X11: =INDEX(Calculator!E$11:E$14,MATCH($S11,Calculator!$B$11:$B$14,0),0) -> 0 | Y11: =INDEX(Calculator!F$11:F$14,MATCH($S11,Calculator!$B$11:$B$14,0),0) -> 0 | Z11: =INDEX(Calculator!G$11:G$14,MATCH($S11,Calculator!$B$11:$B$14,0),0) -> 0 | AA11: =INDEX(Calculator!H$11:H$14,MATCH($S11,Calculator!$B$11:$B$14,0),0) -> 0 | AB11: =INDEX(Calculator!J$11:J$14,MATCH($S11,Calculator!$B$11:$B$14,0),0) -> 0 | AF11: Color meaning :
B12: 9 | C12: E | D12: =Calculator!EB15 -> 46187.792 | H12: =INDEX(Language!$A$1:$K$177,MATCH(Setup!B26,Language!$B$1:$B$177,0),MATCH(Setup!$C$5,Language!$A$1:$J$1,0)) -> Cote D'Voire | M12: =INDEX(Language!$A$1:$K$177,MATCH(Setup!B27,Language!$B$1:$B$177,0),MATCH(Setup!$C$5,Language!$A$1:$J$1,0)) -> Ecuador | Q12: Lincoln Financial Field, Philadelphia 🇺🇸 | S12: 2 | T12: =INDEX(Calculator!C$11:C$14,MATCH($S12,Calculator!$B$11:$B$14,0),0) -> Canada | V12: =SUM(W12:Y12) -> 0 | W12: =INDEX(Calculator!D$11:D$14,MATCH($S12,Calculator!$B$11:$B$14,0),0) -> 0 | X12: =INDEX(Calculator!E$11:E$14,MATCH($S12,Calculator!$B$11:$B$14,0),0) -> 0 | Y12: =INDEX(Calculator!F$11:F$14,MATCH($S12,Calculator!$B$11:$B$14,0),0) -> 0 | Z12: =INDEX(Calculator!G$11:G$14,MATCH($S12,Calculator!$B$11:$B$14,0),0) -> 0 | AA12: =INDEX(Calculator!H$11:H$14,MATCH($S12,Calculator!$B$11:$B$14,0),0) -> 0 | AB12: =INDEX(Calculator!J$11:J$14,MATCH($S12,Calculator!$B$11:$B$14,0),0) -> 0 | AG12: Team Name | AI12: Won in Group Stages
B13: 10 | C13: E | D13: =Calculator!EB16 -> 46187.542 | H13: =INDEX(Language!$A$1:$K$177,MATCH(Setup!B24,Language!$B$1:$B$177,0),MATCH(Setup!$C$5,Language!$A$1:$J$1,0)) -> Germany | M13: =INDEX(Language!$A$1:$K$177,MATCH(Setup!B25,Language!$B$1:$B$177,0),MATCH(Setup!$C$5,Language!$A$1:$J$1,0)) -> Curacao | Q13: NRG Stadium, Houston 🇺🇸 | S13: 3 | T13: =INDEX(Calculator!C$11:C$14,MATCH($S13,Calculator!$B$11:$B$14,0),0) -> Qatar | V13: =SUM(W13:Y13) -> 0 | W13: =INDEX(Calculator!D$11:D$14,MATCH($S13,Calculator!$B$11:$B$14,0),0) -> 0 | X13: =INDEX(Calculator!E$11:E$14,MATCH($S13,Calculator!$B$11:$B$14,0),0) -> 0 | Y13: =INDEX(Calculator!F$11:F$14,MATCH($S13,Calculator!$B$11:$B$14,0),0) -> 0 | Z13: =INDEX(Calculator!G$11:G$14,MATCH($S13,Calculator!$B$11:$B$14,0),0) -> 0 | AA13: =INDEX(Calculator!H$11:H$14,MATCH($S13,Calculator!$B$11:$B$14,0),0) -> 0 | AB13: =INDEX(Calculator!J$11:J$14,MATCH($S13,Calculator!$B$11:$B$14,0),0) -> 0 | AG13: Team Name | AI13: Won by KO Rounds
B14: 11 | C14: F | D14: =Calculator!EB17 -> 46187.667 | H14: =INDEX(Language!$A$1:$K$177,MATCH(Setup!B28,Language!$B$1:$B$177,0),MATCH(Setup!$C$5,Language!$A$1:$J$1,0)) -> Netherlands | M14: =INDEX(Language!$A$1:$K$177,MATCH(Setup!B29,Language!$B$1:$B$177,0),MATCH(Setup!$C$5,Language!$A$1:$J$1,0)) -> Japan | Q14: AT&T Stadium, Dallas 🇺🇸 | S14: 4 | T14: =INDEX(Calculator!C$11:C$14,MATCH($S14,Calculator!$B$11:$B$14,0),0) -> Bosnia and Herzegovina | V14: =SUM(W14:Y14) -> 0 | W14: =INDEX(Calculator!D$11:D$14,MATCH($S14,Calculator!$B$11:$B$14,0),0) -> 0 | X14: =INDEX(Calculator!E$11:E$14,MATCH($S14,Calculator!$B$11:$B$14,0),0) -> 0 | Y14: =INDEX(Calculator!F$11:F$14,MATCH($S14,Calculator!$B$11:$B$14,0),0) -> 0 | Z14: =INDEX(Calculator!G$11:G$14,MATCH($S14,Calculator!$B$11:$B$14,0),0) -> 0 | AA14: =INDEX(Calculator!H$11:H$14,MATCH($S14,Calculator!$B$11:$B$14,0),0) -> 0 | AB14: =INDEX(Calculator!J$11:J$14,MATCH($S14,Calculator!$B$11:$B$14,0),0) -> 0 | AG14: Team Name | AI14: Lose in Group and KO Stages
B15: 12 | C15: F | D15: =Calculator!EB18 -> 46187.917 | H15: =INDEX(Language!$A$1:$K$177,MATCH(Setup!B30,Language!$B$1:$B$177,0),MATCH(Setup!$C$5,Language!$A$1:$J$1,0)) -> Sweden | M15: =INDEX(Language!$A$1:$K$177,MATCH(Setup!B31,Language!$B$1:$B$177,0),MATCH(Setup!$C$5,Language!$A$1:$J$1,0)) -> Tunisia | Q15: Estadio BBVA, Monterrey 🇲🇽
B16: 13 | C16: H | D16: =Calculator!EB19 -> 46188.75 | H16: =INDEX(Language!$A$1:$K$177,MATCH(Setup!B38,Language!$B$1:$B$177,0),MATCH(Setup!$C$5,Language!$A$1:$J$1,0)) -> Saudi Arabia | M16: =INDEX(Language!$A$1:$K$177,MATCH(Setup!B39,Language!$B$1:$B$177,0),MATCH(Setup!$C$5,Language!$A$1:$J$1,0)) -> Uruguay | Q16: Hard Rock Stadium, Miami 🇺🇸 | S16: =INDEX(Language!$A$1:$K$177,MATCH("Group C",Language!$B$1:$B$177,0),MATCH(Setup!$C$5,Language!$A$1:$J$1,0)) -> Group C | V16: P | W16: W | X16: D | Y16: L | Z16: F | AA16: A | AB16: Pt
B17: 14 | C17: H | D17: =Calculator!EB20 -> 46188.5 | H17: =INDEX(Language!$A$1:$K$177,MATCH(Setup!B36,Language!$B$1:$B$177,0),MATCH(Setup!$C$5,Language!$A$1:$J$1,0)) -> Spain | M17: =INDEX(Language!$A$1:$K$177,MATCH(Setup!B37,Language!$B$1:$B$177,0),MATCH(Setup!$C$5,Language!$A$1:$J$1,0)) -> Cabo Verde | Q17: Mercedes-Benz Stadium, Atlanta 🇺🇸 | S17: 1 | T17: =INDEX(Calculator!C$18:C$21,MATCH($S17,Calculator!$B$18:$B$21,0),0) -> Brazil | V17: =SUM(W17:Y17) -> 0 | W17: =INDEX(Calculator!D$18:D$21,MATCH($S17,Calculator!$B$18:$B$21,0),0) -> 0 | X17: =INDEX(Calculator!E$18:E$21,MATCH($S17,Calculator!$B$18:$B$21,0),0) -> 0 | Y17: =INDEX(Calculator!F$18:F$21,MATCH($S17,Calculator!$B$18:$B$21,0),0) -> 0 | Z17: =INDEX(Calculator!G$18:G$21,MATCH($S17,Calculator!$B$18:$B$21,0),0) -> 0 | AA17: =INDEX(Calculator!H$18:H$21,MATCH($S17,Calculator!$B$18:$B$21,0),0) -> 0 | AB17: =INDEX(Calculator!J$18:J$21,MATCH($S17,Calculator!$B$18:$B$21,0),0) -> 0
B18: 15 | C18: G | D18: =Calculator!EB21 -> 46188.875 | H18: =INDEX(Language!$A$1:$K$177,MATCH(Setup!B34,Language!$B$1:$B$177,0),MATCH(Setup!$C$5,Language!$A$1:$J$1,0)) -> Iran | M18: =INDEX(Language!$A$1:$K$177,MATCH(Setup!B35,Language!$B$1:$B$177,0),MATCH(Setup!$C$5,Language!$A$1:$J$1,0)) -> New Zealand | Q18: SoFi Stadium, Los Angeles 🇺🇸 | S18: 2 | T18: =INDEX(Calculator!C$18:C$21,MATCH($S18,Calculator!$B$18:$B$21,0),0) -> Morocco | V18: =SUM(W18:Y18) -> 0 | W18: =INDEX(Calculator!D$18:D$21,MATCH($S18,Calculator!$B$18:$B$21,0),0) -> 0 | X18: =INDEX(Calculator!E$18:E$21,MATCH($S18,Calculator!$B$18:$B$21,0),0) -> 0 | Y18: =INDEX(Calculator!F$18:F$21,MATCH($S18,Calculator!$B$18:$B$21,0),0) -> 0 | Z18: =INDEX(Calculator!G$18:G$21,MATCH($S18,Calculator!$B$18:$B$21,0),0) -> 0 | AA18: =INDEX(Calculator!H$18:H$21,MATCH($S18,Calculator!$B$18:$B$21,0),0) -> 0 | AB18: =INDEX(Calculator!J$18:J$21,MATCH($S18,Calculator!$B$18:$B$21,0),0) -> 0
B19: 16 | C19: G | D19: =Calculator!EB22 -> 46188.625 | H19: =INDEX(Language!$A$1:$K$177,MATCH(Setup!B32,Language!$B$1:$B$177,0),MATCH(Setup!$C$5,Language!$A$1:$J$1,0)) -> Belgium | M19: =INDEX(Language!$A$1:$K$177,MATCH(Setup!B33,Language!$B$1:$B$177,0),MATCH(Setup!$C$5,Language!$A$1:$J$1,0)) -> Egypt | Q19: Lumen Field, Seattle 🇺🇸 | S19: 3 | T19: =INDEX(Calculator!C$18:C$21,MATCH($S19,Calculator!$B$18:$B$21,0),0) -> Scotland | V19: =SUM(W19:Y19) -> 0 | W19: =INDEX(Calculator!D$18:D$21,MATCH($S19,Calculator!$B$18:$B$21,0),0) -> 0 | X19: =INDEX(Calculator!E$18:E$21,MATCH($S19,Calculator!$B$18:$B$21,0),0) -> 0 | Y19: =INDEX(Calculator!F$18:F$21,MATCH($S19,Calculator!$B$18:$B$21,0),0) -> 0 | Z19: =INDEX(Calculator!G$18:G$21,MATCH($S19,Calculator!$B$18:$B$21,0),0) -> 0 | AA19: =INDEX(Calculator!H$18:H$21,MATCH($S19,Calculator!$B$18:$B$21,0),0) -> 0 | AB19: =INDEX(Calculator!J$18:J$21,MATCH($S19,Calculator!$B$18:$B$21,0),0) -> 0
B20: 17 | C20: I | D20: =Calculator!EB23 -> 46189.625 | H20: =INDEX(Language!$A$1:$K$177,MATCH(Setup!B40,Language!$B$1:$B$177,0),MATCH(Setup!$C$5,Language!$A$1:$J$1,0)) -> France | M20: =INDEX(Language!$A$1:$K$177,MATCH(Setup!B41,Language!$B$1:$B$177,0),MATCH(Setup!$C$5,Language!$A$1:$J$1,0)) -> Senegal | Q20: MetLife Stadium, NY/NJ 🇺🇸 | S20: 4 | T20: =INDEX(Calculator!C$18:C$21,MATCH($S20,Calculator!$B$18:$B$21,0),0) -> Haiti | V20: =SUM(W20:Y20) -> 0 | W20: =INDEX(Calculator!D$18:D$21,MATCH($S20,Calculator!$B$18:$B$21,0),0) -> 0 | X20: =INDEX(Calculator!E$18:E$21,MATCH($S20,Calculator!$B$18:$B$21,0),0) -> 0 | Y20: =INDEX(Calculator!F$18:F$21,MATCH($S20,Calculator!$B$18:$B$21,0),0) -> 0 | Z20: =INDEX(Calculator!G$18:G$21,MATCH($S20,Calculator!$B$18:$B$21,0),0) -> 0 | AA20: =INDEX(Calculator!H$18:H$21,MATCH($S20,Calculator!$B$18:$B$21,0),0) -> 0 | AB20: =INDEX(Calculator!J$18:J$21,MATCH($S20,Calculator!$B$18:$B$21,0),0) -> 0
B21: 18 | C21: I | D21: =Calculator!EB24 -> 46189.75 | H21: =INDEX(Language!$A$1:$K$177,MATCH(Setup!B42,Language!$B$1:$B$177,0),MATCH(Setup!$C$5,Language!$A$1:$J$1,0)) -> Iraq | M21: =INDEX(Language!$A$1:$K$177,MATCH(Setup!B43,Language!$B$1:$B$177,0),MATCH(Setup!$C$5,Language!$A$1:$J$1,0)) -> Norway | Q21: Gillette Stadium, Boston 🇺🇸
B22: 19 | C22: J | D22: =Calculator!EB25 -> 46189.875 | H22: =INDEX(Language!$A$1:$K$177,MATCH(Setup!B44,Language!$B$1:$B$177,0),MATCH(Setup!$C$5,Language!$A$1:$J$1,0)) -> Argentina | M22: =INDEX(Language!$A$1:$K$177,MATCH(Setup!B45,Language!$B$1:$B$177,0),MATCH(Setup!$C$5,Language!$A$1:$J$1,0)) -> Algeria | Q22: Arrowhead Stadium, Kansas City 🇺🇸 | S22: =INDEX(Language!$A$1:$K$177,MATCH("Group D",Language!$B$1:$B$177,0),MATCH(Setup!$C$5,Language!$A$1:$J$1,0)) -> Group D | V22: P | W22: W | X22: D | Y22: L | Z22: F | AA22: A | AB22: Pt
B23: 20 | C23: J | D23: =Calculator!EB26 -> 46189 | H23: =INDEX(Language!$A$1:$K$177,MATCH(Setup!B46,Language!$B$1:$B$177,0),MATCH(Setup!$C$5,Language!$A$1:$J$1,0)) -> Austria | M23: =INDEX(Language!$A$1:$K$177,MATCH(Setup!B47,Language!$B$1:$B$177,0),MATCH(Setup!$C$5,Language!$A$1:$J$1,0)) -> Jordan | Q23: Levi’s Stadium, San Francisco 🇺🇸 | S23: 1 | T23: =INDEX(Calculator!C$25:C$28,MATCH($S23,Calculator!$B$25:$B$28,0),0) -> USA | V23: =SUM(W23:Y23) -> 0 | W23: =INDEX(Calculator!D$25:D$28,MATCH($S23,Calculator!$B$25:$B$28,0),0) -> 0 | X23: =INDEX(Calculator!E$25:E$28,MATCH($S23,Calculator!$B$25:$B$28,0),0) -> 0 | Y23: =INDEX(Calculator!F$25:F$28,MATCH($S23,Calculator!$B$25:$B$28,0),0) -> 0 | Z23: =INDEX(Calculator!G$25:G$28,MATCH($S23,Calculator!$B$25:$B$28,0),0) -> 0 | AA23: =INDEX(Calculator!H$25:H$28,MATCH($S23,Calculator!$B$25:$B$28,0),0) -> 0 | AB23: =INDEX(Calculator!J$25:J$28,MATCH($S23,Calculator!$B$25:$B$28,0),0) -> 0
B24: 21 | C24: L | D24: =Calculator!EB27 -> 46190.792 | H24: =INDEX(Language!$A$1:$K$177,MATCH(Setup!B54,Language!$B$1:$B$177,0),MATCH(Setup!$C$5,Language!$A$1:$J$1,0)) -> Ghana | M24: =INDEX(Language!$A$1:$K$177,MATCH(Setup!B55,Language!$B$1:$B$177,0),MATCH(Setup!$C$5,Language!$A$1:$J$1,0)) -> Panama | Q24: BMO Field, Toronto 🇨🇦 | S24: 2 | T24: =INDEX(Calculator!C$25:C$28,MATCH($S24,Calculator!$B$25:$B$28,0),0) -> Türkiye | V24: =SUM(W24:Y24) -> 0 | W24: =INDEX(Calculator!D$25:D$28,MATCH($S24,Calculator!$B$25:$B$28,0),0) -> 0 | X24: =INDEX(Calculator!E$25:E$28,MATCH($S24,Calculator!$B$25:$B$28,0),0) -> 0 | Y24: =INDEX(Calculator!F$25:F$28,MATCH($S24,Calculator!$B$25:$B$28,0),0) -> 0 | Z24: =INDEX(Calculator!G$25:G$28,MATCH($S24,Calculator!$B$25:$B$28,0),0) -> 0 | AA24: =INDEX(Calculator!H$25:H$28,MATCH($S24,Calculator!$B$25:$B$28,0),0) -> 0 | AB24: =INDEX(Calculator!J$25:J$28,MATCH($S24,Calculator!$B$25:$B$28,0),0) -> 0
B25: 22 | C25: L | D25: =Calculator!EB28 -> 46190.667 | H25: =INDEX(Language!$A$1:$K$177,MATCH(Setup!B52,Language!$B$1:$B$177,0),MATCH(Setup!$C$5,Language!$A$1:$J$1,0)) -> England | M25: =INDEX(Language!$A$1:$K$177,MATCH(Setup!B53,Language!$B$1:$B$177,0),MATCH(Setup!$C$5,Language!$A$1:$J$1,0)) -> Croatia | Q25: AT&T Stadium, Dallas 🇺🇸 | S25: 3 | T25: =INDEX(Calculator!C$25:C$28,MATCH($S25,Calculator!$B$25:$B$28,0),0) -> Australia | V25: =SUM(W25:Y25) -> 0 | W25: =INDEX(Calculator!D$25:D$28,MATCH($S25,Calculator!$B$25:$B$28,0),0) -> 0 | X25: =INDEX(Calculator!E$25:E$28,MATCH($S25,Calculator!$B$25:$B$28,0),0) -> 0 | Y25: =INDEX(Calculator!F$25:F$28,MATCH($S25,Calculator!$B$25:$B$28,0),0) -> 0 | Z25: =INDEX(Calculator!G$25:G$28,MATCH($S25,Calculator!$B$25:$B$28,0),0) -> 0 | AA25: =INDEX(Calculator!H$25:H$28,MATCH($S25,Calculator!$B$25:$B$28,0),0) -> 0 | AB25: =INDEX(Calculator!J$25:J$28,MATCH($S25,Calculator!$B$25:$B$28,0),0) -> 0
B26: 23 | C26: K | D26: =Calculator!EB29 -> 46190.542 | H26: =INDEX(Language!$A$1:$K$177,MATCH(Setup!B48,Language!$B$1:$B$177,0),MATCH(Setup!$C$5,Language!$A$1:$J$1,0)) -> Portugal | M26: =INDEX(Language!$A$1:$K$177,MATCH(Setup!B49,Language!$B$1:$B$177,0),MATCH(Setup!$C$5,Language!$A$1:$J$1,0)) -> DR Congo | Q26: NRG Stadium, Houston 🇺🇸 | S26: 4 | T26: =INDEX(Calculator!C$25:C$28,MATCH($S26,Calculator!$B$25:$B$28,0),0) -> Paraguay | V26: =SUM(W26:Y26) -> 0 | W26: =INDEX(Calculator!D$25:D$28,MATCH($S26,Calculator!$B$25:$B$28,0),0) -> 0 | X26: =INDEX(Calculator!E$25:E$28,MATCH($S26,Calculator!$B$25:$B$28,0),0) -> 0 | Y26: =INDEX(Calculator!F$25:F$28,MATCH($S26,Calculator!$B$25:$B$28,0),0) -> 0 | Z26: =INDEX(Calculator!G$25:G$28,MATCH($S26,Calculator!$B$25:$B$28,0),0) -> 0 | AA26: =INDEX(Calculator!H$25:H$28,MATCH($S26,Calculator!$B$25:$B$28,0),0) -> 0 | AB26: =INDEX(Calculator!J$25:J$28,MATCH($S26,Calculator!$B$25:$B$28,0),0) -> 0
B27: 24 | C27: K | D27: =Calculator!EB30 -> 46190.917 | H27: =INDEX(Language!$A$1:$K$177,MATCH(Setup!B50,Language!$B$1:$B$177,0),MATCH(Setup!$C$5,Language!$A$1:$J$1,0)) -> Uzbekistan | M27: =INDEX(Language!$A$1:$K$177,MATCH(Setup!B51,Language!$B$1:$B$177,0),MATCH(Setup!$C$5,Language!$A$1:$J$1,0)) -> Colombia | Q27: Estadio Azteca, Mexico City 🇲🇽
B28: 25 | C28: A | D28: =Calculator!EB31 -> 46191.5 | H28: =M5 -> Czechia | M28: =M4 -> South Africa | Q28: Mercedes-Benz Stadium, Atlanta 🇺🇸 | S28: =INDEX(Language!$A$1:$K$177,MATCH("Group E",Language!$B$1:$B$177,0),MATCH(Setup!$C$5,Language!$A$1:$J$1,0)) -> Group E | V28: P | W28: W | X28: D | Y28: L | Z28: F | AA28: A | AB28: Pt
B29: 26 | C29: B | D29: =Calculator!EB32 -> 46191.625 | H29: =M11 -> Switzerland | M29: =M6 -> Bosnia and Herzegovina | Q29: SoFi Stadium, Los Angeles 🇺🇸 | S29: 1 | T29: =INDEX(Calculator!C$31:C$34,MATCH($S29,Calculator!$B$31:$B$34,0),0) -> Germany | V29: =SUM(W29:Y29) -> 0 | W29: =INDEX(Calculator!D$31:D$34,MATCH($S29,Calculator!$B$31:$B$34,0),0) -> 0 | X29: =INDEX(Calculator!E$31:E$34,MATCH($S29,Calculator!$B$31:$B$34,0),0) -> 0 | Y29: =INDEX(Calculator!F$31:F$34,MATCH($S29,Calculator!$B$31:$B$34,0),0) -> 0 | Z29: =INDEX(Calculator!G$31:G$34,MATCH($S29,Calculator!$B$31:$B$34,0),0) -> 0 | AA29: =INDEX(Calculator!H$31:H$34,MATCH($S29,Calculator!$B$31:$B$34,0),0) -> 0 | AB29: =INDEX(Calculator!J$31:J$34,MATCH($S29,Calculator!$B$31:$B$34,0),0) -> 0
B30: 27 | C30: B | D30: =Calculator!EB33 -> 46191.75 | H30: =H6 -> Canada | M30: =H11 -> Qatar | Q30: BC Place, Vancouver 🇨🇦 | S30: 2 | T30: =INDEX(Calculator!C$31:C$34,MATCH($S30,Calculator!$B$31:$B$34,0),0) -> Ecuador | V30: =SUM(W30:Y30) -> 0 | W30: =INDEX(Calculator!D$31:D$34,MATCH($S30,Calculator!$B$31:$B$34,0),0) -> 0 | X30: =INDEX(Calculator!E$31:E$34,MATCH($S30,Calculator!$B$31:$B$34,0),0) -> 0 | Y30: =INDEX(Calculator!F$31:F$34,MATCH($S30,Calculator!$B$31:$B$34,0),0) -> 0 | Z30: =INDEX(Calculator!G$31:G$34,MATCH($S30,Calculator!$B$31:$B$34,0),0) -> 0 | AA30: =INDEX(Calculator!H$31:H$34,MATCH($S30,Calculator!$B$31:$B$34,0),0) -> 0 | AB30: =INDEX(Calculator!J$31:J$34,MATCH($S30,Calculator!$B$31:$B$34,0),0) -> 0
B31: 28 | C31: A | D31: =Calculator!EB34 -> 46191.875 | H31: =H4 -> Mexico | M31: =H5 -> Korea Republic | Q31: Estadio Akron, Guadalajara 🇲🇽 | S31: 3 | T31: =INDEX(Calculator!C$31:C$34,MATCH($S31,Calculator!$B$31:$B$34,0),0) -> Cote D'Voire | V31: =SUM(W31:Y31) -> 0 | W31: =INDEX(Calculator!D$31:D$34,MATCH($S31,Calculator!$B$31:$B$34,0),0) -> 0 | X31: =INDEX(Calculator!E$31:E$34,MATCH($S31,Calculator!$B$31:$B$34,0),0) -> 0 | Y31: =INDEX(Calculator!F$31:F$34,MATCH($S31,Calculator!$B$31:$B$34,0),0) -> 0 | Z31: =INDEX(Calculator!G$31:G$34,MATCH($S31,Calculator!$B$31:$B$34,0),0) -> 0 | AA31: =INDEX(Calculator!H$31:H$34,MATCH($S31,Calculator!$B$31:$B$34,0),0) -> 0 | AB31: =INDEX(Calculator!J$31:J$34,MATCH($S31,Calculator!$B$31:$B$34,0),0) -> 0
B32: 29 | C32: C | D32: =Calculator!EB35 -> 46192.854 | H32: =H10 -> Brazil | M32: =H8 -> Haiti | Q32: Lincoln Financial Field, Philadelphia 🇺🇸 | S32: 4 | T32: =INDEX(Calculator!C$31:C$34,MATCH($S32,Calculator!$B$31:$B$34,0),0) -> Curacao | V32: =SUM(W32:Y32) -> 0 | W32: =INDEX(Calculator!D$31:D$34,MATCH($S32,Calculator!$B$31:$B$34,0),0) -> 0 | X32: =INDEX(Calculator!E$31:E$34,MATCH($S32,Calculator!$B$31:$B$34,0),0) -> 0 | Y32: =INDEX(Calculator!F$31:F$34,MATCH($S32,Calculator!$B$31:$B$34,0),0) -> 0 | Z32: =INDEX(Calculator!G$31:G$34,MATCH($S32,Calculator!$B$31:$B$34,0),0) -> 0 | AA32: =INDEX(Calculator!H$31:H$34,MATCH($S32,Calculator!$B$31:$B$34,0),0) -> 0 | AB32: =INDEX(Calculator!J$31:J$34,MATCH($S32,Calculator!$B$31:$B$34,0),0) -> 0
B33: 30 | C33: C | D33: =Calculator!EB36 -> 46192.75 | H33: =M8 -> Scotland | M33: =M10 -> Morocco | Q33: Gillette Stadium, Boston 🇺🇸
B34: 31 | C34: D | D34: =Calculator!EB37 -> 46192.958 | H34: =M9 -> Türkiye | M34: =M7 -> Paraguay | Q34: Levi’s Stadium, San Francisco 🇺🇸 | S34: =INDEX(Language!$A$1:$K$177,MATCH("Group F",Language!$B$1:$B$177,0),MATCH(Setup!$C$5,Language!$A$1:$J$1,0)) -> Group F | V34: P | W34: W | X34: D | Y34: L | Z34: F | AA34: A | AB34: Pt
B35: 32 | C35: D | D35: =Calculator!EB38 -> 46192.625 | H35: =H7 -> USA | M35: =H9 -> Australia | Q35: Lumen Field, Seattle 🇺🇸 | S35: 1 | T35: =INDEX(Calculator!C$37:C$397,MATCH($S35,Calculator!$B$37:$B$397,0),0) -> Netherlands | V35: =SUM(W35:Y35) -> 0 | W35: =INDEX(Calculator!D$37:D$397,MATCH($S35,Calculator!$B$37:$B$397,0),0) -> 0 | X35: =INDEX(Calculator!E$37:E$397,MATCH($S35,Calculator!$B$37:$B$397,0),0) -> 0 | Y35: =INDEX(Calculator!F$37:F$397,MATCH($S35,Calculator!$B$37:$B$397,0),0) -> 0 | Z35: =INDEX(Calculator!G$37:G$397,MATCH($S35,Calculator!$B$37:$B$397,0),0) -> 0 | AA35: =INDEX(Calculator!H$37:H$397,MATCH($S35,Calculator!$B$37:$B$397,0),0) -> 0 | AB35: =INDEX(Calculator!J$37:J$397,MATCH($S35,Calculator!$B$37:$B$397,0),0) -> 0
B36: 33 | C36: E | D36: =Calculator!EB39 -> 46193.667 | H36: =H13 -> Germany | M36: =H12 -> Cote D'Voire | Q36: BMO Field, Toronto 🇨🇦 | S36: 2 | T36: =INDEX(Calculator!C$37:C$397,MATCH($S36,Calculator!$B$37:$B$397,0),0) -> Japan | V36: =SUM(W36:Y36) -> 0 | W36: =INDEX(Calculator!D$37:D$397,MATCH($S36,Calculator!$B$37:$B$397,0),0) -> 0 | X36: =INDEX(Calculator!E$37:E$397,MATCH($S36,Calculator!$B$37:$B$397,0),0) -> 0 | Y36: =INDEX(Calculator!F$37:F$397,MATCH($S36,Calculator!$B$37:$B$397,0),0) -> 0 | Z36: =INDEX(Calculator!G$37:G$397,MATCH($S36,Calculator!$B$37:$B$397,0),0) -> 0 | AA36: =INDEX(Calculator!H$37:H$397,MATCH($S36,Calculator!$B$37:$B$397,0),0) -> 0 | AB36: =INDEX(Calculator!J$37:J$397,MATCH($S36,Calculator!$B$37:$B$397,0),0) -> 0
B37: 34 | C37: E | D37: =Calculator!EB40 -> 46193.833 | H37: =M12 -> Ecuador | M37: =M13 -> Curacao | Q37: Arrowhead Stadium, Kansas City 🇺🇸 | S37: 3 | T37: =INDEX(Calculator!C$37:C$397,MATCH($S37,Calculator!$B$37:$B$397,0),0) -> Sweden | V37: =SUM(W37:Y37) -> 0 | W37: =INDEX(Calculator!D$37:D$397,MATCH($S37,Calculator!$B$37:$B$397,0),0) -> 0 | X37: =INDEX(Calculator!E$37:E$397,MATCH($S37,Calculator!$B$37:$B$397,0),0) -> 0 | Y37: =INDEX(Calculator!F$37:F$397,MATCH($S37,Calculator!$B$37:$B$397,0),0) -> 0 | Z37: =INDEX(Calculator!G$37:G$397,MATCH($S37,Calculator!$B$37:$B$397,0),0) -> 0 | AA37: =INDEX(Calculator!H$37:H$397,MATCH($S37,Calculator!$B$37:$B$397,0),0) -> 0 | AB37: =INDEX(Calculator!J$37:J$397,MATCH($S37,Calculator!$B$37:$B$397,0),0) -> 0
B38: 35 | C38: F | D38: =Calculator!EB41 -> 46193.542 | H38: =H14 -> Netherlands | M38: =H15 -> Sweden | Q38: NRG Stadium, Houston 🇺🇸 | S38: 4 | T38: =INDEX(Calculator!C$37:C$397,MATCH($S38,Calculator!$B$37:$B$397,0),0) -> Tunisia | V38: =SUM(W38:Y38) -> 0 | W38: =INDEX(Calculator!D$37:D$397,MATCH($S38,Calculator!$B$37:$B$397,0),0) -> 0 | X38: =INDEX(Calculator!E$37:E$397,MATCH($S38,Calculator!$B$37:$B$397,0),0) -> 0 | Y38: =INDEX(Calculator!F$37:F$397,MATCH($S38,Calculator!$B$37:$B$397,0),0) -> 0 | Z38: =INDEX(Calculator!G$37:G$397,MATCH($S38,Calculator!$B$37:$B$397,0),0) -> 0 | AA38: =INDEX(Calculator!H$37:H$397,MATCH($S38,Calculator!$B$37:$B$397,0),0) -> 0 | AB38: =INDEX(Calculator!J$37:J$397,MATCH($S38,Calculator!$B$37:$B$397,0),0) -> 0
B39: 36 | C39: F | D39: =Calculator!EB42 -> 46193 | H39: =M15 -> Tunisia | M39: =M14 -> Japan | Q39: Estadio BBVA, Monterrey 🇲🇽
B40: 37 | C40: H | D40: =Calculator!EB43 -> 46194.75 | H40: =M16 -> Uruguay | M40: =M17 -> Cabo Verde | Q40: Hard Rock Stadium, Miami 🇺🇸 | S40: =INDEX(Language!$A$1:$K$177,MATCH("Group G",Language!$B$1:$B$177,0),MATCH(Setup!$C$5,Language!$A$1:$J$1,0)) -> Group G | V40: P | W40: W | X40: D | Y40: L | Z40: F | AA40: A | AB40: Pt
B41: 38 | C41: H | D41: =Calculator!EB44 -> 46194.5 | H41: =H17 -> Spain | M41: =H16 -> Saudi Arabia | Q41: Mercedes-Benz Stadium, Atlanta 🇺🇸 | S41: 1 | T41: =INDEX(Calculator!C$43:C$46,MATCH($S41,Calculator!$B$43:$B$46,0),0) -> Belgium | V41: =SUM(W41:Y41) -> 0 | W41: =INDEX(Calculator!D$43:D$46,MATCH($S41,Calculator!$B$43:$B$46,0),0) -> 0 | X41: =INDEX(Calculator!E$43:E$46,MATCH($S41,Calculator!$B$43:$B$46,0),0) -> 0 | Y41: =INDEX(Calculator!F$43:F$46,MATCH($S41,Calculator!$B$43:$B$46,0),0) -> 0 | Z41: =INDEX(Calculator!G$43:G$46,MATCH($S41,Calculator!$B$43:$B$46,0),0) -> 0 | AA41: =INDEX(Calculator!H$43:H$46,MATCH($S41,Calculator!$B$43:$B$46,0),0) -> 0 | AB41: =INDEX(Calculator!J$43:J$46,MATCH($S41,Calculator!$B$43:$B$46,0),0) -> 0
...

Sheet Calculator
AH1: Rule
V2: table rank 1 | AH2: 1 | AI2: 2 | AJ2: 3 | AK2: 5 | AL2: 6 | AM2: 9 | AP2: table rank 2 | BJ2: table rank 3 | CD2: table rank 4 | DA2: =INDEX(Matches!D4:D109,MATCH(105,Matches!B4:B109,0),0) -> 0 | DB2: GS | DC2: GA
D3: W | E3: D | F3: L | G3: GS | H3: GA | I3: Diff | J3: Points | K3: Rank | L3: rankall points | N3: rerank | Q3: rank 1 | R3: rank 2 | S3: rank 3 | T3: rank 4 | V3: Team | W3: W | X3: D | Y3: L | Z3: GS | AA3: GA | AB3: Diff | AC3: P | AD3: Sdif | AE3: SGS | AF3: Koef | AG3: Pts | AH3: R | AI3: GD | AJ3: GS | AK3: Sdiff | AL3: SGS | AM3: Koef | AN3: FR | AP3: Team | AQ3: W | AR3: D | AS3: L | AT3: GS | AU3: GA | AV3: Diff | AW3: P | AX3: Sdif | AY3: SGS | AZ3: Koef | BA3: Pts | BB3: R | BC3: GD | BD3: GS | BE3: Sdiff | BF3: SGS | BG3: Koef | BH3: FR | BJ3: Team | BK3: W | BL3: D | BM3: L | BN3: GS | BO3: GA | BP3: Diff | BQ3: P | BR3: Sdif | BS3: SGS | BT3: Koef | BU3: Pts | BV3: R | BW3: GD | BX3: GS | BY3: Sdif | BZ3: SGS | CA3: Koef | CB3: FR | CD3: Team | CE3: W | CF3: D | CG3: L | CH3: GS | CI3: GA | CJ3: Diff | CK3: P | CL3: Sdif | CM3: SGS | CN3: Koef | CO3: Pts | CP3: R | CQ3: GD | CR3: GS | CS3: Sdif | CT3: SGS | CU3: Koef | CV3: FR | CZ3: 1 | DA3: =Matches!H4 -> Mexico | DB3: =IF($DA$2<>"",IF(AND(Matches!J4<>"",Matches!K4<>""),Matches!J4,0),"") -> 0 | DC3: =IF($DA$2<>"",IF(AND(Matches!J4<>"",Matches!K4<>""),Matches!K4,0),"") -> 0 | DD3: =Matches!M4 -> South Africa | DE3: =IF(AND(Matches!J4<>"",Matches!K4<>""),IF(DB3>DC3,"W",IF(DB3=DC3,"D","L")),"") | DF3: =IF(DE3<>"",IF(DE3="W","L",IF(DE3="L","W","D")),"")
A4: =Setup!F8+100 -> 116 | B4: =VLOOKUP(C4,CX$4:CY$8,2,FALSE) -> 1 | C4: =EE7 -> Mexico | D4: =SUMPRODUCT((DA$3:DA$105=C4)*(DE$3:DE$105="W"))+SUMPRODUCT((DD$3:DD$105=C4)*(DF$3:DF$105="W")) -> 0 | E4: =SUMPRODUCT((DA$3:DA$105=C4)*(DE$3:DE$105="D"))+SUMPRODUCT((DD$3:DD$105=C4)*(DF$3:DF$105="D")) -> 0 | F4: =SUMPRODUCT((DA$3:DA$105=C4)*(DE$3:DE$105="L"))+SUMPRODUCT((DD$3:DD$105=C4)*(DF$3:DF$105="L")) -> 0 | G4: =SUMIF(DA3:DA123,C4,DB3:DB123)+SUMIF(DD3:DD123,C4,DC3:DC123) -> 0 | H4: =SUMIF(DD3:DD123,C4,DB3:DB123)+SUMIF(DA3:DA123,C4,DC3:DC123) -> 0 | I4: =G4-H4+1000 -> 1000 | J4: =D4*3+E4*1 -> 0 | K4: =IF(Setup!G8<>"",Setup!G8,-A4) -> -116 | L4: =IF(COUNTIF(J4:J8,4)<>4,RANK(J4,J4:J8),J83) -> 1 | N4: =SUMPRODUCT((L4:L7=L4)*(K4:K7<K4))+L4 -> 4 | O4: =INDEX(C4:C8,MATCH(1,N4:N8,0),0) -> South Africa | P4: =INDEX(L4:L8,MATCH(O4,C4:C8,0),0) -> 1 | Q4: =IF(P5=1,O4,"") -> South Africa | R4: =IF(P6=2,O5,"") | S4: =IF(P7=3,O6,"") | T4: =IF(P8=4,O7,"") | V4: =IF(Q4<>"",Q4,"") -> South Africa | W4: =SUMPRODUCT((DA$3:DA$105=V4)*(DD$3:DD$105=V5)*(DE$3:DE$105="W"))+SUMPRODUCT((DA$3:DA$105=V4)*(DD$3:DD$105=V6)*(DE$3:DE$105="W"))+SUMPRODUCT((DA$3:DA$105=V4)*(DD$3:DD$105=V7)*(DE$3:DE$105="W"))+SUMPRODUCT((DA$3:DA$105=V4)*(DD$3:DD$105=V8)*(DE$3:DE$105="W"))+SUMPRODUCT((DA$3:DA$105=V5)*(DD$3:DD$105=V4)*(DF$3:DF$105="W"))+SUMPRODUCT((DA$3:DA$105=V6)*(DD$3:DD$105=V4)*(DF$3:DF$105="W"))+SUMPRODUCT((DA$3:DA$105=V7)*(DD$3:DD$105=V4)*(DF$3:DF$105="W"))+SUMPRODUCT((DA$3:DA$105=V8)*(DD$3:DD$105=V4)*(DF$3:DF$105="W")) -> 0 | X4: =SUMPRODUCT((DA$3:DA$105=V4)*(DD$3:DD$105=V5)*(DE$3:DE$105="D"))+SUMPRODUCT((DA$3:DA$105=V4)*(DD$3:DD$105=V6)*(DE$3:DE$105="D"))+SUMPRODUCT((DA$3:DA$105=V4)*(DD$3:DD$105=V7)*(DE$3:DE$105="D"))+SUMPRODUCT((DA$3:DA$105=V4)*(DD$3:DD$105=V8)*(DE$3:DE$105="D"))+SUMPRODUCT((DA$3:DA$105=V5)*(DD$3:DD$105=V4)*(DE$3:DE$105="D"))+SUMPRODUCT((DA$3:DA$105=V6)*(DD$3:DD$105=V4)*(DE$3:DE$105="D"))+SUMPRODUCT((DA$3:DA$105=V7)*(DD$3:DD$105=V4)*(DE$3:DE$105="D"))+SUMPRODUCT((DA$3:DA$105=V8)*(DD$3:DD$105=V4)*(DE$3:DE$105="D")) -> 0 | Y4: =SUMPRODUCT((DA$3:DA$105=V4)*(DD$3:DD$105=V5)*(DE$3:DE$105="L"))+SUMPRODUCT((DA$3:DA$105=V4)*(DD$3:DD$105=V6)*(DE$3:DE$105="L"))+SUMPRODUCT((DA$3:DA$105=V4)*(DD$3:DD$105=V7)*(DE$3:DE$105="L"))+SUMPRODUCT((DA$3:DA$105=V4)*(DD$3:DD$105=V8)*(DE$3:DE$105="L"))+SUMPRODUCT((DA$3:DA$105=V5)*(DD$3:DD$105=V4)*(DF$3:DF$105="L"))+SUMPRODUCT((DA$3:DA$105=V6)*(DD$3:DD$105=V4)*(DF$3:DF$105="L"))+SUMPRODUCT((DA$3:DA$105=V7)*(DD$3:DD$105=V4)*(DF$3:DF$105="L"))+SUMPRODUCT((DA$3:DA$105=V8)*(DD$3:DD$105=V4)*(DF$3:DF$105="L")) -> 0 | Z4: =SUMPRODUCT((DA$3:DA$105=V4)*(DD$3:DD$105=V5)*DB$3:DB$105)+SUMPRODUCT((DA$3:DA$105=V4)*(DD$3:DD$105=V6)*DB$3:DB$105)+SUMPRODUCT((DA$3:DA$105=V4)*(DD$3:DD$105=V7)*DB$3:DB$105)+SUMPRODUCT((DA$3:DA$105=V4)*(DD$3:DD$105=V8)*DB$3:DB$105)+SUMPRODUCT((DA$3:DA$105=V5)*(DD$3:DD$105=V4)*DC$3:DC$105)+SUMPRODUCT((DA$3:DA$105=V6)*(DD$3:DD$105=V4)*DC$3:DC$105)+SUMPRODUCT((DA$3:DA$105=V7)*(DD$3:DD$105=V4)*DC$3:DC$105)+SUMPRODUCT((DA$3:DA$105=V8)*(DD$3:DD$105=V4)*DC$3:DC$105) -> 0 | AA4: =SUMPRODUCT((DA$3:DA$105=V4)*(DD$3:DD$105=V5)*DC$3:DC$105)+SUMPRODUCT((DA$3:DA$105=V4)*(DD$3:DD$105=V6)*DC$3:DC$105)+SUMPRODUCT((DA$3:DA$105=V4)*(DD$3:DD$105=V7)*DC$3:DC$105)+SUMPRODUCT((DA$3:DA$105=V4)*(DD$3:DD$105=V8)*DC$3:DC$105)+SUMPRODUCT((DA$3:DA$105=V5)*(DD$3:DD$105=V4)*DB$3:DB$105)+SUMPRODUCT((DA$3:DA$105=V6)*(DD$3:DD$105=V4)*DB$3:DB$105)+SUMPRODUCT((DA$3:DA$105=V7)*(DD$3:DD$105=V4)*DB$3:DB$105)+SUMPRODUCT((DA$3:DA$105=V8)*(DD$3:DD$105=V4)*DB$3:DB$105) -> 0 | AB4: =Z4-AA4+1000 -> 1000 | AC4: =IF(V4<>"",W4*3+X4*1,"") -> 0 | AD4: =IF(V4<>"",VLOOKUP(V4,C$4:I$52,7,FALSE),"") -> 1000 | AE4: =IF(V4<>"",VLOOKUP(V4,C$4:I$52,5,FALSE),"") -> 0 | AF4: =IF(V4<>"",VLOOKUP(V4,C$4:K$52,9,FALSE),"") -> -160 | AG4: =AC4 -> 0 | AH4: =IF(V4<>"",RANK(AG4,AG4:AG8),"") -> 1 | AI4: =IF(V4<>"",SUMPRODUCT((AG4:AG8=AG4)*(AB4:AB8>AB4)),"") -> 0 | AJ4: =IF(V4<>"",SUMPRODUCT((AG4:AG8=AG4)*(AB4:AB8=AB4)*(Z4:Z8>Z4)),"") -> 0 | AK4: =IF(V4<>"",SUMPRODUCT((AG4:AG8=AG4)*(AB4:AB8=AB4)*(Z4:Z8=Z4)*(AD4:AD8>AD4)),"") -> 0 | AL4: =IF(V4<>"",SUMPRODUCT((AG4:AG8=AG4)*(AB4:AB8=AB4)*(Z4:Z8=Z4)*(AD4:AD8=AD4)*(AE4:AE8>AE4)),"") -> 0 | AM4: =IF(V4<>"",SUMPRODUCT((AG4:AG8=AG4)*(AB4:AB8=AB4)*(Z4:Z8=Z4)*(AD4:AD8=AD4)*(AE4:AE8=AE4)*(AF4:AF8>AF4)),"") -> 3 | AN4: =IF(V4<>"",IF(AN83<>"",IF(U82=3,AN83,AN83+U82),SUM(AH4:AM4)),"") -> 4 | AO4: =IF(V4<>"",INDEX(V4:V8,MATCH(1,AN4:AN8,0),0),"") -> Mexico | CX4: =IF(AO4<>"",AO4,O4) -> Mexico | CY4: 1 | CZ4: 2 | DA4: =Matches!H5 -> Korea Republic | DB4: =IF($DA$2<>"",IF(AND(Matches!J5<>"",Matches!K5<>""),Matches!J5,0),"") -> 0 | DC4: =IF($DA$2<>"",IF(AND(Matches!J5<>"",Matches!K5<>""),Matches!K5,0),"") -> 0 | DD4: =Matches!M5 -> Czechia | DE4: =IF(AND(Matches!J5<>"",Matches!K5<>""),IF(DB4>DC4,"W",IF(DB4=DC4,"D","L")),"") | DF4: =IF(DE4<>"",IF(DE4="W","L",IF(DE4="L","W","D")),"")
A5: =Setup!F9+100 -> 160 | B5: =VLOOKUP(C5,CX$4:CY$8,2,FALSE) -> 4 | C5: =EE8 -> South Africa | D5: =SUMPRODUCT((DA$3:DA$105=C5)*(DE$3:DE$105="W"))+SUMPRODUCT((DD$3:DD$105=C5)*(DF$3:DF$105="W")) -> 0 | E5: =SUMPRODUCT((DA$3:DA$105=C5)*(DE$3:DE$105="D"))+SUMPRODUCT((DD$3:DD$105=C5)*(DF$3:DF$105="D")) -> 0 | F5: =SUMPRODUCT((DA$3:DA$105=C5)*(DE$3:DE$105="L"))+SUMPRODUCT((DD$3:DD$105=C5)*(DF$3:DF$105="L")) -> 0 | G5: =SUMIF(DA3:DA123,C5,DB3:DB123)+SUMIF(DD3:DD123,C5,DC3:DC123) -> 0 | H5: =SUMIF(DD3:DD123,C5,DB3:DB123)+SUMIF(DA3:DA123,C5,DC3:DC123) -> 0 | I5: =G5-H5+1000 -> 1000 | J5: =D5*3+E5*1 -> 0 | K5: =IF(Setup!G9<>"",Setup!G9,-A5) -> -160 | L5: =IF(COUNTIF(J4:J8,4)<>4,RANK(J5,J4:J8),J84) -> 1 | N5: =SUMPRODUCT((L4:L7=L5)*(K4:K7<K5))+L5 -> 1 | O5: =INDEX(C4:C8,MATCH(2,N4:N8,0),0) -> Czechia | P5: =INDEX(L4:L8,MATCH(O5,C4:C8,0),0) -> 1 | Q5: =IF(Q4<>"",O5,"") -> Czechia | R5: =IF(R4<>"",O6,"") | S5: =IF(S4<>"",O7,"") | T5: =IF(T4<>"",O8,"") | V5: =IF(Q5<>"",Q5,"") -> Czechia | W5: =SUMPRODUCT((DA$3:DA$105=V5)*(DD$3:DD$105=V6)*(DE$3:DE$105="W"))+SUMPRODUCT((DA$3:DA$105=V5)*(DD$3:DD$105=V7)*(DE$3:DE$105="W"))+SUMPRODUCT((DA$3:DA$105=V5)*(DD$3:DD$105=V8)*(DE$3:DE$105="W"))+SUMPRODUCT((DA$3:DA$105=V5)*(DD$3:DD$105=V4)*(DE$3:DE$105="W"))+SUMPRODUCT((DA$3:DA$105=V6)*(DD$3:DD$105=V5)*(DF$3:DF$105="W"))+SUMPRODUCT((DA$3:DA$105=V7)*(DD$3:DD$105=V5)*(DF$3:DF$105="W"))+SUMPRODUCT((DA$3:DA$105=V8)*(DD$3:DD$105=V5)*(DF$3:DF$105="W"))+SUMPRODUCT((DA$3:DA$105=V4)*(DD$3:DD$105=V5)*(DF$3:DF$105="W")) -> 0 | X5: =SUMPRODUCT((DA$3:DA$105=V5)*(DD$3:DD$105=V6)*(DE$3:DE$105="D"))+SUMPRODUCT((DA$3:DA$105=V5)*(DD$3:DD$105=V7)*(DE$3:DE$105="D"))+SUMPRODUCT((DA$3:DA$105=V5)*(DD$3:DD$105=V8)*(DE$3:DE$105="D"))+SUMPRODUCT((DA$3:DA$105=V5)*(DD$3:DD$105=V4)*(DE$3:DE$105="D"))+SUMPRODUCT((DA$3:DA$105=V6)*(DD$3:DD$105=V5)*(DE$3:DE$105="D"))+SUMPRODUCT((DA$3:DA$105=V7)*(DD$3:DD$105=V5)*(DE$3:DE$105="D"))+SUMPRODUCT((DA$3:DA$105=V8)*(DD$3:DD$105=V5)*(DE$3:DE$105="D"))+SUMPRODUCT((DA$3:DA$105=V4)*(DD$3:DD$105=V5)*(DE$3:DE$105="D")) -> 0 | Y5: =SUMPRODUCT((DA$3:DA$105=V5)*(DD$3:DD$105=V6)*(DE$3:DE$105="L"))+SUMPRODUCT((DA$3:DA$105=V5)*(DD$3:DD$105=V7)*(DE$3:DE$105="L"))+SUMPRODUCT((DA$3:DA$105=V5)*(DD$3:DD$105=V8)*(DE$3:DE$105="L"))+SUMPRODUCT((DA$3:DA$105=V5)*(DD$3:DD$105=V4)*(DE$3:DE$105="L"))+SUMPRODUCT((DA$3:DA$105=V6)*(DD$3:DD$105=V5)*(DF$3:DF$105="L"))+SUMPRODUCT((DA$3:DA$105=V7)*(DD$3:DD$105=V5)*(DF$3:DF$105="L"))+SUMPRODUCT((DA$3:DA$105=V8)*(DD$3:DD$105=V5)*(DF$3:DF$105="L"))+SUMPRODUCT((DA$3:DA$105=V4)*(DD$3:DD$105=V5)*(DF$3:DF$105="L")) -> 0 | Z5: =SUMPRODUCT((DA$3:DA$105=V5)*(DD$3:DD$105=V6)*DB$3:DB$105)+SUMPRODUCT((DA$3:DA$105=V5)*(DD$3:DD$105=V7)*DB$3:DB$105)+SUMPRODUCT((DA$3:DA$105=V5)*(DD$3:DD$105=V8)*DB$3:DB$105)+SUMPRODUCT((DA$3:DA$105=V5)*(DD$3:DD$105=V4)*DB$3:DB$105)+SUMPRODUCT((DA$3:DA$105=V6)*(DD$3:DD$105=V5)*DC$3:DC$105)+SUMPRODUCT((DA$3:DA$105=V7)*(DD$3:DD$105=V5)*DC$3:DC$105)+SUMPRODUCT((DA$3:DA$105=V8)*(DD$3:DD$105=V5)*DC$3:DC$105)+SUMPRODUCT((DA$3:DA$105=V4)*(DD$3:DD$105=V5)*DC$3:DC$105) -> 0 | AA5: =SUMPRODUCT((DA$3:DA$105=V5)*(DD$3:DD$105=V6)*DC$3:DC$105)+SUMPRODUCT((DA$3:DA$105=V5)*(DD$3:DD$105=V7)*DC$3:DC$105)+SUMPRODUCT((DA$3:DA$105=V5)*(DD$3:DD$105=V8)*DC$3:DC$105)+SUMPRODUCT((DA$3:DA$105=V5)*(DD$3:DD$105=V4)*DC$3:DC$105)+SUMPRODUCT((DA$3:DA$105=V6)*(DD$3:DD$105=V5)*DB$3:DB$105)+SUMPRODUCT((DA$3:DA$105=V7)*(DD$3:DD$105=V5)*DB$3:DB$105)+SUMPRODUCT((DA$3:DA$105=V8)*(DD$3:DD$105=V5)*DB$3:DB$105)+SUMPRODUCT((DA$3:DA$105=V4)*(DD$3:DD$105=V5)*DB$3:DB$105) -> 0 | AB5: =Z5-AA5+1000 -> 1000 | AC5: =IF(V5<>"",W5*3+X5*1,"") -> 0 | AD5: =IF(V5<>"",VLOOKUP(V5,C$4:I$52,7,FALSE),"") -> 1000 | AE5: =IF(V5<>"",VLOOKUP(V5,C$4:I$52,5,FALSE),"") -> 0 | AF5: =IF(V5<>"",VLOOKUP(V5,C$4:K$52,9,FALSE),"") -> -143 | AG5: =AC5 -> 0 | AH5: =IF(V5<>"",RANK(AG5,AG4:AG8),"") -> 1 | AI5: =IF(V5<>"",SUMPRODUCT((AG4:AG8=AG5)*(AB4:AB8>AB5)),"") -> 0 | AJ5: =IF(V5<>"",SUMPRODUCT((AG4:AG8=AG5)*(AB4:AB8=AB5)*(Z4:Z8>Z5)),"") -> 0 | AK5: =IF(V5<>"",SUMPRODUCT((AG4:AG8=AG5)*(AB4:AB8=AB5)*(Z4:Z8=Z5)*(AD4:AD8>AD5)),"") -> 0 | AL5: =IF(V5<>"",SUMPRODUCT((AG4:AG8=AG5)*(AB4:AB8=AB5)*(Z4:Z8=Z5)*(AD4:AD8=AD5)*(AE4:AE8>AE5)),"") -> 0 | AM5: =IF(V5<>"",SUMPRODUCT((AG4:AG8=AG5)*(AB4:AB8=AB5)*(Z4:Z8=Z5)*(AD4:AD8=AD5)*(AE4:AE8=AE5)*(AF4:AF8>AF5)),"") -> 2 | AN5: =IF(V5<>"",IF(AN84<>"",IF(U82=3,AN84,AN84+U82),SUM(AH5:AM5)),"") -> 3 | AO5: =IF(V5<>"",INDEX(V4:V8,MATCH(2,AN4:AN8,0),0),"") -> Korea Republic | AP5: =IF(R4<>"",R4,"") | AQ5: =SUMPRODUCT((DA$3:DA$105=AP5)*(DD$3:DD$105=AP6)*(DE$3:DE$105="W"))+SUMPRODUCT((DA$3:DA$105=AP5)*(DD$3:DD$105=AP7)*(DE$3:DE$105="W"))+SUMPRODUCT((DA$3:DA$105=AP5)*(DD$3:DD$105=AP8)*(DE$3:DE$105="W"))+SUMPRODUCT((DA$3:DA$105=AP6)*(DD$3:DD$105=AP5)*(DF$3:DF$105="W"))+SUMPRODUCT((DA$3:DA$105=AP7)*(DD$3:DD$105=AP5)*(DF$3:DF$105="W"))+SUMPRODUCT((DA$3:DA$105=AP8)*(DD$3:DD$105=AP5)*(DF$3:DF$105="W")) -> 0 | AR5: =SUMPRODUCT((DA$3:DA$105=AP5)*(DD$3:DD$105=AP6)*(DE$3:DE$105="D"))+SUMPRODUCT((DA$3:DA$105=AP5)*(DD$3:DD$105=AP7)*(DE$3:DE$105="D"))+SUMPRODUCT((DA$3:DA$105=AP5)*(DD$3:DD$105=AP8)*(DE$3:DE$105="D"))+SUMPRODUCT((DA$3:DA$105=AP6)*(DD$3:DD$105=AP5)*(DE$3:DE$105="D"))+SUMPRODUCT((DA$3:DA$105=AP7)*(DD$3:DD$105=AP5)*(DE$3:DE$105="D"))+SUMPRODUCT((DA$3:DA$105=AP8)*(DD$3:DD$105=AP5)*(DE$3:DE$105="D")) -> 0 | AS5: =SUMPRODUCT((DA$3:DA$105=AP5)*(DD$3:DD$105=AP6)*(DE$3:DE$105="L"))+SUMPRODUCT((DA$3:DA$105=AP5)*(DD$3:DD$105=AP7)*(DE$3:DE$105="L"))+SUMPRODUCT((DA$3:DA$105=AP5)*(DD$3:DD$105=AP8)*(DE$3:DE$105="L"))+SUMPRODUCT((DA$3:DA$105=AP6)*(DD$3:DD$105=AP5)*(DF$3:DF$105="L"))+SUMPRODUCT((DA$3:DA$105=AP7)*(DD$3:DD$105=AP5)*(DF$3:DF$105="L"))+SUMPRODUCT((DA$3:DA$105=AP8)*(DD$3:DD$105=AP5)*(DF$3:DF$105="L")) -> 0 | AT5: =SUMPRODUCT((DA$3:DA$105=AP5)*(DD$3:DD$105=AP6)*DB$3:DB$105)+SUMPRODUCT((DA$3:DA$105=AP5)*(DD$3:DD$105=AP7)*DB$3:DB$105)+SUMPRODUCT((DA$3:DA$105=AP5)*(DD$3:DD$105=AP8)*DB$3:DB$105)+SUMPRODUCT((DA$3:DA$105=AP5)*(DD$3:DD$105=AP4)*DB$3:DB$105)+SUMPRODUCT((DA$3:DA$105=AP6)*(DD$3:DD$105=AP5)*DC$3:DC$105)+SUMPRODUCT((DA$3:DA$105=AP7)*(DD$3:DD$105=AP5)*DC$3:DC$105)+SUMPRODUCT((DA$3:DA$105=AP8)*(DD$3:DD$105=AP5)*DC$3:DC$105)+SUMPRODUCT((DA$3:DA$105=AP4)*(DD$3:DD$105=AP5)*DC$3:DC$105) -> 0 | AU5: =SUMPRODUCT((DA$3:DA$105=AP5)*(DD$3:DD$105=AP6)*DC$3:DC$105)+SUMPRODUCT((DA$3:DA$105=AP5)*(DD$3:DD$105=AP7)*DC$3:DC$105)+SUMPRODUCT((DA$3:DA$105=AP5)*(DD$3:DD$105=AP8)*DC$3:DC$105)+SUMPRODUCT((DA$3:DA$105=AP5)*(DD$3:DD$105=AP4)*DC$3:DC$105)+SUMPRODUCT((DA$3:DA$105=AP6)*(DD$3:DD$105=AP5)*DB$3:DB$105)+SUMPRODUCT((DA$3:DA$105=AP7)*(DD$3:DD$105=AP5)*DB$3:DB$105)+SUMPRODUCT((DA$3:DA$105=AP8)*(DD$3:DD$105=AP5)*DB$3:DB$105)+SUMPRODUCT((DA$3:DA$105=AP4)*(DD$3:DD$105=AP5)*DB$3:DB$105) -> 0 | AV5: =AT5-AU5+1000 -> 1000 | AW5: =IF(AP5<>"",AQ5*3+AR5*1,"") | AX5: =IF(AP5<>"",VLOOKUP(AP5,C$4:I$52,7,FALSE),"") | AY5: =IF(AP5<>"",VLOOKUP(AP5,C$4:I$52,5,FALSE),"") | AZ5: =IF(AP5<>"",VLOOKUP(AP5,C$4:K$52,9,FALSE),"") | BA5: =AW5 | BB5: =IF(AP5<>"",RANK(BA5,BA4:BA8),"") | BC5: =IF(AP5<>"",SUMPRODUCT((BA4:BA8=BA5)*(AV4:AV8>AV5)),"") | BD5: =IF(AP5<>"",SUMPRODUCT((BA4:BA8=BA5)*(AV4:AV8=AV5)*(AT4:AT8>AT5)),"") | BE5: =IF(AP5<>"",SUMPRODUCT((BA4:BA8=BA5)*(AV4:AV8=AV5)*(AT4:AT8=AT5)*(AX4:AX8>AX5)),"") | BF5: =IF(AP5<>"",SUMPRODUCT((BA4:BA8=BA5)*(AV4:AV8=AV5)*(AT4:AT8=AT5)*(AX4:AX8=AX5)*(AY4:AY8>AY5)),"") | BG5: =IF(AP5<>"",SUMPRODUCT((BA4:BA8=BA5)*(AV4:AV8=AV5)*(AT4:AT8=AT5)*(AX4:AX8=AX5)*(AY4:AY8=AY5)*(AZ4:AZ8>AZ5)),"") | BH5: =IF(AP5<>"",IF(BH84<>"",IF(AO82=3,BH84,BH84+AO82),SUM(BB5:BG5)+1),"") | BI5: =IF(AP5<>"",INDEX(AP5:AP8,MATCH(2,BH5:BH8,0),0),"") | CX5: =IF(BI5<>"",BI5,IF(AO5<>"",AO5,O5)) -> Korea Republic | CY5: 2 | CZ5: 3 | DA5: =Matches!H6 -> Canada | DB5: =IF($DA$2<>"",IF(AND(Matches!J6<>"",Matches!K6<>""),Matches!J6,0),"") -> 0 | DC5: =IF($DA$2<>"",IF(AND(Matches!J6<>"",Matches!K6<>""),Matches!K6,0),"") -> 0 | DD5: =Matches!M6 -> Bosnia and Herzegovina | DE5: =IF(AND(Matches!J6<>"",Matches!K6<>""),IF(DB5>DC5,"W",IF(DB5=DC5,"D","L")),"") | DF5: =IF(DE5<>"",IF(DE5="W","L",IF(DE5="L","W","D")),"")
A6: =Setup!F10+100 -> 122 | B6: =VLOOKUP(C6,CX$4:CY$8,2,FALSE) -> 2 | C6: =EE9 -> Korea Republic | D6: =SUMPRODUCT((DA$3:DA$105=C6)*(DE$3:DE$105="W"))+SUMPRODUCT((DD$3:DD$105=C6)*(DF$3:DF$105="W")) -> 0 | E6: =SUMPRODUCT((DA$3:DA$105=C6)*(DE$3:DE$105="D"))+SUMPRODUCT((DD$3:DD$105=C6)*(DF$3:DF$105="D")) -> 0 | F6: =SUMPRODUCT((DA$3:DA$105=C6)*(DE$3:DE$105="L"))+SUMPRODUCT((DD$3:DD$105=C6)*(DF$3:DF$105="L")) -> 0 | G6: =SUMIF(DA3:DA123,C6,DB3:DB123)+SUMIF(DD3:DD123,C6,DC3:DC123) -> 0 | H6: =SUMIF(DD3:DD123,C6,DB3:DB123)+SUMIF(DA3:DA123,C6,DC3:DC123) -> 0 | I6: =G6-H6+1000 -> 1000 | J6: =D6*3+E6*1 -> 0 | K6: =IF(Setup!G10<>"",Setup!G10,-A6) -> -122 | L6: =IF(COUNTIF(J4:J8,4)<>4,RANK(J6,J4:J8),J85) -> 1 | N6: =SUMPRODUCT((L4:L7=L6)*(K4:K7<K6))+L6 -> 3 | O6: =INDEX(C4:C8,MATCH(3,N4:N8,0),0) -> Korea Republic | P6: =INDEX(L4:L8,MATCH(O6,C4:C8,0),0) -> 1 | Q6: =IF(AND(Q5<>"",P6=1),O6,"") -> Korea Republic | R6: =IF(AND(R5<>"",P7=2),O7,"") | S6: =IF(AND(S5<>"",P8=3),O8,"") | V6: =IF(Q6<>"",Q6,"") -> Korea Republic | W6: =SUMPRODUCT((DA$3:DA$105=V6)*(DD$3:DD$105=V7)*(DE$3:DE$105="W"))+SUMPRODUCT((DA$3:DA$105=V6)*(DD$3:DD$105=V8)*(DE$3:DE$105="W"))+SUMPRODUCT((DA$3:DA$105=V6)*(DD$3:DD$105=V4)*(DE$3:DE$105="W"))+SUMPRODUCT((DA$3:DA$105=V6)*(DD$3:DD$105=V5)*(DE$3:DE$105="W"))+SUMPRODUCT((DA$3:DA$105=V7)*(DD$3:DD$105=V6)*(DF$3:DF$105="W"))+SUMPRODUCT((DA$3:DA$105=V8)*(DD$3:DD$105=V6)*(DF$3:DF$105="W"))+SUMPRODUCT((DA$3:DA$105=V4)*(DD$3:DD$105=V6)*(DF$3:DF$105="W"))+SUMPRODUCT((DA$3:DA$105=V5)*(DD$3:DD$105=V6)*(DF$3:DF$105="W")) -> 0 | X6: =SUMPRODUCT((DA$3:DA$105=V6)*(DD$3:DD$105=V7)*(DE$3:DE$105="D"))+SUMPRODUCT((DA$3:DA$105=V6)*(DD$3:DD$105=V8)*(DE$3:DE$105="D"))+SUMPRODUCT((DA$3:DA$105=V6)*(DD$3:DD$105=V4)*(DE$3:DE$105="D"))+SUMPRODUCT((DA$3:DA$105=V6)*(DD$3:DD$105=V5)*(DE$3:DE$105="D"))+SUMPRODUCT((DA$3:DA$105=V7)*(DD$3:DD$105=V6)*(DE$3:DE$105="D"))+SUMPRODUCT((DA$3:DA$105=V8)*(DD$3:DD$105=V6)*(DE$3:DE$105="D"))+SUMPRODUCT((DA$3:DA$105=V4)*(DD$3:DD$105=V6)*(DE$3:DE$105="D"))+SUMPRODUCT((DA$3:DA$105=V5)*(DD$3:DD$105=V6)*(DE$3:DE$105="D")) -> 0 | Y6: =SUMPRODUCT((DA$3:DA$105=V6)*(DD$3:DD$105=V7)*(DE$3:DE$105="L"))+SUMPRODUCT((DA$3:DA$105=V6)*(DD$3:DD$105=V8)*(DE$3:DE$105="L"))+SUMPRODUCT((DA$3:DA$105=V6)*(DD$3:DD$105=V4)*(DE$3:DE$105="L"))+SUMPRODUCT((DA$3:DA$105=V6)*(DD$3:DD$105=V5)*(DE$3:DE$105="L"))+SUMPRODUCT((DA$3:DA$105=V7)*(DD$3:DD$105=V6)*(DF$3:DF$105="L"))+SUMPRODUCT((DA$3:DA$105=V8)*(DD$3:DD$105=V6)*(DF$3:DF$105="L"))+SUMPRODUCT((DA$3:DA$105=V4)*(DD$3:DD$105=V6)*(DF$3:DF$105="L"))+SUMPRODUCT((DA$3:DA$105=V5)*(DD$3:DD$105=V6)*(DF$3:DF$105="L")) -> 0 | Z6: =SUMPRODUCT((DA$3:DA$105=V6)*(DD$3:DD$105=V7)*DB$3:DB$105)+SUMPRODUCT((DA$3:DA$105=V6)*(DD$3:DD$105=V8)*DB$3:DB$105)+SUMPRODUCT((DA$3:DA$105=V6)*(DD$3:DD$105=V4)*DB$3:DB$105)+SUMPRODUCT((DA$3:DA$105=V6)*(DD$3:DD$105=V5)*DB$3:DB$105)+SUMPRODUCT((DA$3:DA$105=V7)*(DD$3:DD$105=V6)*DC$3:DC$105)+SUMPRODUCT((DA$3:DA$105=V8)*(DD$3:DD$105=V6)*DC$3:DC$105)+SUMPRODUCT((DA$3:DA$105=V4)*(DD$3:DD$105=V6)*DC$3:DC$105)+SUMPRODUCT((DA$3:DA$105=V5)*(DD$3:DD$105=V6)*DC$3:DC$105) -> 0 | AA6: =SUMPRODUCT((DA$3:DA$105=V6)*(DD$3:DD$105=V7)*DC$3:DC$105)+SUMPRODUCT((DA$3:DA$105=V6)*(DD$3:DD$105=V8)*DC$3:DC$105)+SUMPRODUCT((DA$3:DA$105=V6)*(DD$3:DD$105=V4)*DC$3:DC$105)+SUMPRODUCT((DA$3:DA$105=V6)*(DD$3:DD$105=V5)*DC$3:DC$105)+SUMPRODUCT((DA$3:DA$105=V7)*(DD$3:DD$105=V6)*DB$3:DB$105)+SUMPRODUCT((DA$3:DA$105=V8)*(DD$3:DD$105=V6)*DB$3:DB$105)+SUMPRODUCT((DA$3:DA$105=V4)*(DD$3:DD$105=V6)*DB$3:DB$105)+SUMPRODUCT((DA$3:DA$105=V5)*(DD$3:DD$105=V6)*DB$3:DB$105) -> 0 | AB6: =Z6-AA6+1000 -> 1000 | AC6: =IF(V6<>"",W6*3+X6*1,"") -> 0 | AD6: =IF(V6<>"",VLOOKUP(V6,C$4:I$52,7,FALSE),"") -> 1000 | AE6: =IF(V6<>"",VLOOKUP(V6,C$4:I$52,5,FALSE),"") -> 0 | AF6: =IF(V6<>"",VLOOKUP(V6,C$4:K$52,9,FALSE),"") -> -122 | AG6: =AC6 -> 0 | AH6: =IF(V6<>"",RANK(AG6,AG4:AG8),"") -> 1 | AI6: =IF(V6<>"",SUMPRODUCT((AG4:AG8=AG6)*(AB4:AB8>AB6)),"") -> 0 | AJ6: =IF(V6<>"",SUMPRODUCT((AG4:AG8=AG6)*(AB4:AB8=AB6)*(Z4:Z8>Z6)),"") -> 0 | AK6: =IF(V6<>"",SUMPRODUCT((AG4:AG8=AG6)*(AB4:AB8=AB6)*(Z4:Z8=Z6)*(AD4:AD8>AD6)),"") -> 0 | AL6: =IF(V6<>"",SUMPRODUCT((AG4:AG8=AG6)*(AB4:AB8=AB6)*(Z4:Z8=Z6)*(AD4:AD8=AD6)*(AE4:AE8>AE6)),"") -> 0 | AM6: =IF(V6<>"",SUMPRODUCT((AG4:AG8=AG6)*(AB4:AB8=AB6)*(Z4:Z8=Z6)*(AD4:AD8=AD6)*(AE4:AE8=AE6)*(AF4:AF8>AF6)),"") -> 1 | AN6: =IF(V6<>"",IF(AN85<>"",IF(U82=3,AN85,AN85+U82),SUM(AH6:AM6)),"") -> 2 | AO6: =IF(V6<>"",INDEX(V4:V8,MATCH(3,AN4:AN8,0),0),"") -> Czechia | AP6: =IF(R5<>"",R5,"") | AQ6: =SUMPRODUCT((DA$3:DA$105=AP6)*(DD$3:DD$105=AP7)*(DE$3:DE$105="W"))+SUMPRODUCT((DA$3:DA$105=AP6)*(DD$3:DD$105=AP8)*(DE$3:DE$105="W"))+SUMPRODUCT((DA$3:DA$105=AP6)*(DD$3:DD$105=AP5)*(DE$3:DE$105="W"))+SUMPRODUCT((DA$3:DA$105=AP7)*(DD$3:DD$105=AP6)*(DF$3:DF$105="W"))+SUMPRODUCT((DA$3:DA$105=AP8)*(DD$3:DD$105=AP6)*(DF$3:DF$105="W"))+SUMPRODUCT((DA$3:DA$105=AP5)*(DD$3:DD$105=AP6)*(DF$3:DF$105="W")) -> 0 | AR6: =SUMPRODUCT((DA$3:DA$105=AP6)*(DD$3:DD$105=AP7)*(DE$3:DE$105="D"))+SUMPRODUCT((DA$3:DA$105=AP6)*(DD$3:DD$105=AP8)*(DE$3:DE$105="D"))+SUMPRODUCT((DA$3:DA$105=AP6)*(DD$3:DD$105=AP5)*(DE$3:DE$105="D"))+SUMPRODUCT((DA$3:DA$105=AP7)*(DD$3:DD$105=AP6)*(DE$3:DE$105="D"))+SUMPRODUCT((DA$3:DA$105=AP8)*(DD$3:DD$105=AP6)*(DE$3:DE$105="D"))+SUMPRODUCT((DA$3:DA$105=AP5)*(DD$3:DD$105=AP6)*(DE$3:DE$105="D")) -> 0 | AS6: =SUMPRODUCT((DA$3:DA$105=AP6)*(DD$3:DD$105=AP7)*(DE$3:DE$105="L"))+SUMPRODUCT((DA$3:DA$105=AP6)*(DD$3:DD$105=AP8)*(DE$3:DE$105="L"))+SUMPRODUCT((DA$3:DA$105=AP6)*(DD$3:DD$105=AP5)*(DE$3:DE$105="L"))+SUMPRODUCT((DA$3:DA$105=AP7)*(DD$3:DD$105=AP6)*(DF$3:DF$105="L"))+SUMPRODUCT((DA$3:DA$105=AP8)*(DD$3:DD$105=AP6)*(DF$3:DF$105="L"))+SUMPRODUCT((DA$3:DA$105=AP5)*(DD$3:DD$105=AP6)*(DF$3:DF$105="L")) -> 0 | AT6: =SUMPRODUCT((DA$3:DA$105=AP6)*(DD$3:DD$105=AP7)*DB$3:DB$105)+SUMPRODUCT((DA$3:DA$105=AP6)*(DD$3:DD$105=AP8)*DB$3:DB$105)+SUMPRODUCT((DA$3:DA$105=AP6)*(DD$3:DD$105=AP4)*DB$3:DB$105)+SUMPRODUCT((DA$3:DA$105=AP6)*(DD$3:DD$105=AP5)*DB$3:DB$105)+SUMPRODUCT((DA$3:DA$105=AP7)*(DD$3:DD$105=AP6)*DC$3:DC$105)+SUMPRODUCT((DA$3:DA$105=AP8)*(DD$3:DD$105=AP6)*DC$3:DC$105)+SUMPRODUCT((DA$3:DA$105=AP4)*(DD$3:DD$105=AP6)*DC$3:DC$105)+SUMPRODUCT((DA$3:DA$105=AP5)*(DD$3:DD$105=AP6)*DC$3:DC$105) -> 0 | AU6: =SUMPRODUCT((DA$3:DA$105=AP6)*(DD$3:DD$105=AP7)*DC$3:DC$105)+SUMPRODUCT((DA$3:DA$105=AP6)*(DD$3:DD$105=AP8)*DC$3:DC$105)+SUMPRODUCT((DA$3:DA$105=AP6)*(DD$3:DD$105=AP4)*DC$3:DC$105)+SUMPRODUCT((DA$3:DA$105=AP6)*(DD$3:DD$105=AP5)*DC$3:DC$105)+SUMPRODUCT((DA$3:DA$105=AP7)*(DD$3:DD$105=AP6)*DB$3:DB$105)+SUMPRODUCT((DA$3:DA$105=AP8)*(DD$3:DD$105=AP6)*DB$3:DB$105)+SUMPRODUCT((DA$3:DA$105=AP4)*(DD$3:DD$105=AP6)*DB$3:DB$105)+SUMPRODUCT((DA$3:DA$105=AP5)*(DD$3:DD$105=AP6)*DB$3:DB$105) -> 0 | AV6: =AT6-AU6+1000 -> 1000 | AW6: =IF(AP6<>"",AQ6*3+AR6*1,"") | AX6: =IF(AP6<>"",VLOOKUP(AP6,C$4:I$52,7,FALSE),"") | AY6: =IF(AP6<>"",VLOOKUP(AP6,C$4:I$52,5,FALSE),"") | AZ6: =IF(AP6<>"",VLOOKUP(AP6,C$4:K$52,9,FALSE),"") | BA6: =AW6 | BB6: =IF(AP6<>"",RANK(BA6,BA4:BA8),"") | BC6: =IF(AP6<>"",SUMPRODUCT((BA4:BA8=BA6)*(AV4:AV8>AV6)),"") | BD6: =IF(AP6<>"",SUMPRODUCT((BA4:BA8=BA6)*(AV4:AV8=AV6)*(AT4:AT8>AT6)),"") | BE6: =IF(AP6<>"",SUMPRODUCT((BA4:BA8=BA6)*(AV4:AV8=AV6)*(AT4:AT8=AT6)*(AX4:AX8>AX6)),"") | BF6: =IF(AP6<>"",SUMPRODUCT((BA4:BA8=BA6)*(AV4:AV8=AV6)*(AT4:AT8=AT6)*(AX4:AX8=AX6)*(AY4:AY8>AY6)),"") | BG6: =IF(AP6<>"",SUMPRODUCT((BA4:BA8=BA6)*(AV4:AV8=AV6)*(AT4:AT8=AT6)*(AX4:AX8=AX6)*(AY4:AY8=AY6)*(AZ4:AZ8>AZ6)),"") | BH6: =IF(AP6<>"",IF(BH85<>"",IF(AO82=3,BH85,BH85+AO82),SUM(BB6:BG6)+1),"") | BI6: =IF(AP6<>"",INDEX(AP5:AP8,MATCH(3,BH5:BH8,0),0),"") | BJ6: =IF(S4<>"",S4,"") | BK6: =SUMPRODUCT((DA$3:DA$105=BJ6)*(DD$3:DD$105=BJ7)*(DE$3:DE$105="W"))+SUMPRODUCT((DA$3:DA$105=BJ6)*(DD$3:DD$105=BJ8)*(DE$3:DE$105="W"))+SUMPRODUCT((DA$3:DA$105=BJ6)*(DD$3:DD$105=BJ9)*(DE$3:DE$105="W"))+SUMPRODUCT((DA$3:DA$105=BJ7)*(DD$3:DD$105=BJ6)*(DF$3:DF$105="W"))+SUMPRODUCT((DA$3:DA$105=BJ8)*(DD$3:DD$105=BJ6)*(DF$3:DF$105="W"))+SUMPRODUCT((DA$3:DA$105=BJ9)*(DD$3:DD$105=BJ6)*(DF$3:DF$105="W")) -> 0 | BL6: =SUMPRODUCT((DA$3:DA$105=BJ6)*(DD$3:DD$105=BJ7)*(DE$3:DE$105="D"))+SUMPRODUCT((DA$3:DA$105=BJ6)*(DD$3:DD$105=BJ8)*(DE$3:DE$105="D"))+SUMPRODUCT((DA$3:DA$105=BJ6)*(DD$3:DD$105=BJ9)*(DE$3:DE$105="D"))+SUMPRODUCT((DA$3:DA$105=BJ7)*(DD$3:DD$105=BJ6)*(DE$3:DE$105="D"))+SUMPRODUCT((DA$3:DA$105=BJ8)*(DD$3:DD$105=BJ6)*(DE$3:DE$105="D"))+SUMPRODUCT((DA$3:DA$105=BJ9)*(DD$3:DD$105=BJ6)*(DE$3:DE$105="D")) -> 0 | BM6: =SUMPRODUCT((DA$3:DA$105=BJ6)*(DD$3:DD$105=BJ7)*(DE$3:DE$105="L"))+SUMPRODUCT((DA$3:DA$105=BJ6)*(DD$3:DD$105=BJ8)*(DE$3:DE$105="L"))+SUMPRODUCT((DA$3:DA$105=BJ6)*(DD$3:DD$105=BJ9)*(DE$3:DE$105="L"))+SUMPRODUCT((DA$3:DA$105=BJ7)*(DD$3:DD$105=BJ6)*(DF$3:DF$105="L"))+SUMPRODUCT((DA$3:DA$105=BJ8)*(DD$3:DD$105=BJ6)*(DF$3:DF$105="L"))+SUMPRODUCT((DA$3:DA$105=BJ9)*(DD$3:DD$105=BJ6)*(DF$3:DF$105="L")) -> 0 | BN6: =SUMPRODUCT((DA$3:DA$105=BJ6)*(DD$3:DD$105=BJ7)*DB$3:DB$105)+SUMPRODUCT((DA$3:DA$105=BJ6)*(DD$3:DD$105=BJ8)*DB$3:DB$105)+SUMPRODUCT((DA$3:DA$105=BJ6)*(DD$3:DD$105=BJ4)*DB$3:DB$105)+SUMPRODUCT((DA$3:DA$105=BJ6)*(DD$3:DD$105=BJ5)*DB$3:DB$105)+SUMPRODUCT((DA$3:DA$105=BJ7)*(DD$3:DD$105=BJ6)*DC$3:DC$105)+SUMPRODUCT((DA$3:DA$105=BJ8)*(DD$3:DD$105=BJ6)*DC$3:DC$105)+SUMPRODUCT((DA$3:DA$105=BJ4)*(DD$3:DD$105=BJ6)*DC$3:DC$105)+SUMPRODUCT((DA$3:DA$105=BJ5)*(DD$3:DD$105=BJ6)*DC$3:DC$105) -> 0 | BO6: =SUMPRODUCT((DA$3:DA$105=BJ6)*(DD$3:DD$105=BJ7)*DC$3:DC$105)+SUMPRODUCT((DA$3:DA$105=BJ6)*(DD$3:DD$105=BJ8)*DC$3:DC$105)+SUMPRODUCT((DA$3:DA$105=BJ6)*(DD$3:DD$105=BJ4)*DC$3:DC$105)+SUMPRODUCT((DA$3:DA$105=BJ6)*(DD$3:DD$105=BJ5)*DC$3:DC$105)+SUMPRODUCT((DA$3:DA$105=BJ7)*(DD$3:DD$105=BJ6)*DB$3:DB$105)+SUMPRODUCT((DA$3:DA$105=BJ8)*(DD$3:DD$105=BJ6)*DB$3:DB$105)+SUMPRODUCT((DA$3:DA$105=BJ4)*(DD$3:DD$105=BJ6)*DB$3:DB$105)+SUMPRODUCT((DA$3:DA$105=BJ5)*(DD$3:DD$105=BJ6)*DB$3:DB$105) -> 0 | BP6: =BN6-BO6+1000 -> 1000 | BQ6: =IF(BJ6<>"",BK6*3+BL6*1,"") | BR6: =IF(BJ6<>"",VLOOKUP(BJ6,C$4:I$52,7,FALSE),"") | BS6: =IF(BJ6<>"",VLOOKUP(BJ6,C$4:I$52,5,FALSE),"") | BT6: =IF(BJ6<>"",VLOOKUP(BJ6,C$4:K$52,9,FALSE),"") | BU6: =BQ6 | BV6: =IF(BJ6<>"",RANK(BU6,BU4:BU8),"") | BW6: =IF(BJ6<>"",SUMPRODUCT((BU4:BU8=BU6)*(BP4:BP8>BP6)),"") | BX6: =IF(BJ6<>"",SUMPRODUCT((BU4:BU8=BU6)*(BP4:BP8=BP6)*(BN4:BN8>BN6)),"") | BY6: =IF(BJ6<>"",SUMPRODUCT((BU4:BU8=BU6)*(BP4:BP8=BP6)*(BN4:BN8=BN6)*(BR4:BR8>BR6)),"") | BZ6: =IF(BJ6<>"",SUMPRODUCT((BU4:BU8=BU6)*(BP4:BP8=BP6)*(BN4:BN8=BN6)*(BR4:BR8=BR6)*(BS4:BS8>BS6)),"") | CA6: =IF(BJ6<>"",SUMPRODUCT((BU4:BU8=BU6)*(BP4:BP8=BP6)*(BN4:BN8=BN6)*(BR4:BR8=BR6)*(BS4:BS8=BS6)*(BT4:BT8>BT6)),"") | CB6: =IF(BJ6<>"",SUM(BV6:CA6)+2,"") | CC6: =IF(BJ6<>"",INDEX(BJ6:BJ8,MATCH(3,CB6:CB8,0),0),"") | CX6: =IF(CC6<>"",CC6,IF(BI6<>"",BI6,IF(AO6<>"",AO6,O6))) -> Czechia | CY6: 3 | CZ6: 4 | DA6: =Matches!H7 -> USA | DB6: =IF($DA$2<>"",IF(AND(Matches!J7<>"",Matches!K7<>""),Matches!J7,0),"") -> 0 | DC6: =IF($DA$2<>"",IF(AND(Matches!J7<>"",Matches!K7<>""),Matches!K7,0),"") -> 0 | DD6: =Matches!M7 -> Paraguay | DE6: =IF(AND(Matches!J7<>"",Matches!K7<>""),IF(DB6>DC6,"W",IF(DB6=DC6,"D","L")),"") | DF6: =IF(DE6<>"",IF(DE6="W","L",IF(DE6="L","W","D")),"") | EA6: eastern time | EC6: local time
