Workbook
Name Countries: Language!$C$1:$J$1
Name GroupA: Calculator!$ED$7
Name GroupB: Calculator!$ED$13
Name GroupC: Calculator!$ED$19
Name GroupD: Calculator!$ED$25
Name GroupE: Calculator!$ED$31
Name GroupF: Calculator!$ED$37
Name GroupG: Calculator!$ED$43
Name GroupH: Calculator!$ED$49
Name LanguageRef: Language!$C$1:$I$1
Name Team: Calculator!$DS$7:$DS$38
Name TimeZoneData: Setup!$C$4
Name TimeZoneList: Calculator!$DW$7:$DW$56
Name Translation: Language!$C$3:$I$171
Name TransRef: Language!$B$3:$B$171

Sheet Setup
B2: SETUP | C2: PURCHASE UNPROTECTED SCHEDULE & SCORESHEET. MORE MODELS. WORKS ON GOOGLE SPREADSHEET. CLICK HERE
B4: Time Difference with New York Time (ET) ► | C4: 0 | D4: Your City Name | K4: ◄ | L4: Select your time preference by adding or subtracting your local time with New York time
B5: Language ► | C5: English | F5: FIFA Rank | G5: Fair Play Points | K5: ◄ | L5: Select your language. There are only 6 translated language. You can translate default English language to your own by typing its translation in column C. YOU NEED TO TRANSLATE ALL TEXTS FROM COLUMN B if you want to use your own translation.
B6: Custom Language Translation Title ► | C6: MY LANGUAGE | L6: Do not forget to select your Custom Language translation title in cell C5 to translate matches worksheet to your language after you filling all translation rows in column C
B7: Original Language (English) | C7: Your Language Translation | D7: Group | K7: ◄ | L7: You may type your city name in cell D6. It will be shown if you change time zone to your timezone in cell Q2 in Matches Tab
A8: 1 | B8: Mexico | D8: A | E8:  | F8: 16 | L8: Do not change or sort country order. It will break country reference formula
A9: 2 | B9: South Africa | D9: A | E9:  | F9: 60 | K9: ◄ | L9: You may need to type FAIR PLAY points if two or more teams in group standings have to go through tie-breaker 8 where their standings is decided by fair play point (do not forget to add minus sign)
A10: 3 | B10: Korea Republic | D10: A | E10:  | F10: 22 | K10: ◄ | L10: You may edit FIFA Rank in column F to make sure it follows the latest FIFA rank if team rank has to be decided by tie-breaker 9
A11: 4 | B11: Czechia | D11: A | E11:  | F11: 43 | K11: TIE BREAKER REGULATION
A12: 5 | B12: Canada | D12: B | E12:  | F12: 29 | K12: The ranking of teams in the group stage is determined as follows:
A13: 6 | B13: Bosnia and Herzegovina | D13: B | E13:  | F13: 71 | K13: 1 | L13: Points obtained in all group matches;
A14: 7 | B14: Qatar | D14: B | E14:  | F14: 56 | K14: 2 | L14: Points obtained in the matches played between the teams in question;
A15: 8 | B15: Switzerland | D15: B | E15:  | F15: 18 | K15: 3 | L15: Goal difference in the matches played between the teams in question;
A16: 9 | B16: Brazil | D16: C | E16:  | F16: 5 | K16: 4 | L16: Number of goals scored in the matches played between the teams in question;
A17: 10 | B17: Morocco | D17: C | E17:  | F17: 8 | K17: 5 | L17: If, after having applied criteria 1 to 3, teams still have an equal ranking, criteria 2 to 4 are reapplied exclusively to the matches between the teams who are still level to determine their final rankings.[a] If this procedure does not lead to a decision, criteria 6 to 9 will apply;
A18: 11 | B18: Haiti | D18: C | E18:  | F18: 83 | K18: 6 | L18: Goal difference in all group matches;
A19: 12 | B19: Scotland | D19: C | E19:  | F19: 38 | K19: 7 | L19: Number of goals scored in all group matches;
A20: 13 | B20: USA | D20: D | E20:  | F20: 15 | K20: 8 | L20: Fair play points in all group matches (only one deduction can be applied to a player or coach in a single match):
A21: 14 | B21: Paraguay | D21: D | E21:  | F21: 40 | L21: > Yellow card: −1 point;
A22: 15 | B22: Australia | D22: D | E22:  | F22: 27 | L22: > Indirect red card (second yellow card): −3 points;
A23: 16 | B23: Türkiye | D23: D | E23:  | F23: 25 | L23: > Direct red card: −4 points;
A24: 17 | B24: Germany | D24: E | E24:  | F24: 10 | L24: > Yellow card and direct red card: −5 points;
A25: 18 | B25: Curacao | D25: E | E25:  | F25: 81 | K25: 9 | L25: Better position in the most recent FIFA Men's World Ranking;
A26: 19 | B26: Cote D'Voire | D26: E | E26:  | F26: 37
A27: 20 | B27: Ecuador | D27: E | E27:  | F27: 23 | L27: FIFA World Ranking Source
A28: 21 | B28: Netherlands | D28: F | E28:  | F28: 7
A29: 22 | B29: Japan | D29: F | E29:  | F29: 19
A30: 23 | B30: Sweden | D30: F | E30:  | F30: 42
A31: 24 | B31: Tunisia | D31: F | E31:  | F31: 47
A32: 25 | B32: Belgium | D32: G | E32:  | F32: 9
A33: 26 | B33: Egypt | D33: G | E33:  | F33: 31
A34: 27 | B34: Iran | D34: G | E34:  | F34: 20
A35: 28 | B35: New Zealand | D35: G | E35:  | F35: 85
A36: 29 | B36: Spain | D36: H | E36:  | F36: 1
A37: 30 | B37: Cabo Verde | D37: H | E37:  | F37: 67
A38: 31 | B38: Saudi Arabia | D38: H | E38:  | F38: 61
A39: 32 | B39: Uruguay | D39: H | E39:  | F39: 17
... A55: 48 | B55: Panama | D55: L | E55:  | F55: 33
B56: Language
B57: Timezone
B58: Group Stages
B59: Matches
B60: Standings
B61: Group
B62: Date
B63: Country
B64: Score
B65: Time
B66: Round of 32
B67: Round of 16
... B176: World Cup 2026 Third Place

Sheet Matches
B2: =UPPER(INDEX(Translation,MATCH("World Cup 2026 Fixtures",TransRef,0),MATCH(Setup!C5,LanguageRef,0))) -> WORLD CUP 2026 FIXTURES | Q2: =IF(TimeZoneData<>0,IF(Setup!D6<>"",Setup!D6&" TIME",""),"NEW YORK TIME ") -> NEW YORK TIME | S2: WANNA PLAY PREDICTION GAME with YOUR FRIENDS? CLICK HERE TO GET PREDICTOR GAME SPREADSHEET
B3: =INDEX(Translation,MATCH("Match #",TransRef,0),MATCH(Setup!C5,LanguageRef,0)) -> Match # | D3: =INDEX(Translation,MATCH("Time",TransRef,0),MATCH(Setup!C5,LanguageRef,0)) -> Time | H3: =INDEX(Translation,MATCH("Country",TransRef,0),MATCH(Setup!C5,LanguageRef,0)) -> Country | J3: =INDEX(Translation,MATCH("Score",TransRef,0),MATCH(Setup!C5,LanguageRef,0)) -> Score | M3: =INDEX(Translation,MATCH("Country",TransRef,0),MATCH(Setup!C5,LanguageRef,0)) -> Country | Q3: =INDEX(Translation,MATCH("Venue",TransRef,0),MATCH(Setup!C5,LanguageRef,0)) -> Venue | S3: =INDEX(Language!$A$1:$H$172,MATCH("Standings",Language!$B$1:$B$182,0),MATCH(Setup!C5,Language!$A$1:$G$1,0)) -> Standings | AF3: Notes :
B4: 1 | C4: A | D4: =Calculator!EB7 -> 46184.625 | H4: =INDEX(Language!$A$1:$K$177,MATCH(Setup!B8,Language!$B$1:$B$177,0),MATCH(Setup!$C$5,Language!$A$1:$J$1,0)) -> Mexico | M4: =INDEX(Language!$A$1:$K$177,MATCH(Setup!B9,Language!$B$1:$B$177,0),MATCH(Setup!$C$5,Language!$A$1:$J$1,0)) -> South Africa | Q4: Estadio Azteca, Mexico City 🇲🇽 | S4: =INDEX(Language!$A$1:$K$177,MATCH("Group A",Language!$B$1:$B$177,0),MATCH(Setup!$C$5,Language!$A$1:$J$1,0)) -> Group A | V4: P | W4: W | X4: D | Y4: L | Z4: F | AA4: A | AB4: Pt | AF4: GROUP MATCHES ARE SORTED BY MATCH NUMBER
B5: 2 | C5: A | D5: =Calculator!EB8 -> 46184.917 | H5: =INDEX(Language!$A$1:$K$177,MATCH(Setup!B10,Language!$B$1:$B$177,0),MATCH(Setup!$C$5,Language!$A$1:$J$1,0)) -> Korea Republic | M5: =INDEX(Language!$A$1:$K$177,MATCH(Setup!B11,Language!$B$1:$B$177,0),MATCH(Setup!$C$5,Language!$A$1:$J$1,0)) -> Czechia | Q5: Estadio Akron, Guadalajara 🇲🇽 | S5: 1 | T5: =INDEX(Calculator!C$4:C$7,MATCH($S5,Calculator!$B$4:$B$7,0),0) -> Mexico | V5: =SUM(W5:Y5) -> 0 | W5: =INDEX(Calculator!D$4:D$7,MATCH($S5,Calculator!$B$4:$B$7,0),0) -> 0 | X5: =INDEX(Calculator!E$4:E$7,MATCH($S5,Calculator!$B$4:$B$7,0),0) -> 0 | Y5: =INDEX(Calculator!F$4:F$7,MATCH($S5,Calculator!$B$4:$B$7,0),0) -> 0 | Z5: =INDEX(Calculator!G$4:G$7,MATCH($S5,Calculator!$B$4:$B$7,0),0) -> 0 | AA5: =INDEX(Calculator!H$4:H$7,MATCH($S5,Calculator!$B$4:$B$7,0),0) -> 0 | AB5: =INDEX(Calculator!J$4:J$7,MATCH($S5,Calculator!$B$4:$B$7,0),0) -> 0
B6: 3 | C6: B | D6: =Calculator!EB9 -> 46185.625 | H6: =INDEX(Language!$A$1:$K$177,MATCH(Setup!B12,Language!$B$1:$B$177,0),MATCH(Setup!$C$5,Language!$A$1:$J$1,0)) -> Canada | M6: =INDEX(Language!$A$1:$K$177,MATCH(Setup!B13,Language!$B$1:$B$177,0),MATCH(Setup!$C$5,Language!$A$1:$J$1,0)) -> Bosnia and Herzegovina | Q6: BMO Field, Toronto 🇨🇦 | S6: 2 | T6: =INDEX(Calculator!C$4:C$7,MATCH($S6,Calculator!$B$4:$B$7,0),0) -> Korea Republic | V6: =SUM(W6:Y6) -> 0 | W6: =INDEX(Calculator!D$4:D$7,MATCH($S6,Calculator!$B$4:$B$7,0),0) -> 0 | X6: =INDEX(Calculator!E$4:E$7,MATCH($S6,Calculator!$B$4:$B$7,0),0) -> 0 | Y6: =INDEX(Calculator!F$4:F$7,MATCH($S6,Calculator!$B$4:$B$7,0),0) -> 0 | Z6: =INDEX(Calculator!G$4:G$7,MATCH($S6,Calculator!$B$4:$B$7,0),0) -> 0 | AA6: =INDEX(Calculator!H$4:H$7,MATCH($S6,Calculator!$B$4:$B$7,0),0) -> 0 | AB6: =INDEX(Calculator!J$4:J$7,MATCH($S6,Calculator!$B$4:$B$7,0),0) -> 0
B7: 4 | C7: D | D7: =Calculator!EB10 -> 46185.875 | H7: =INDEX(Language!$A$1:$K$177,MATCH(Setup!B20,Language!$B$1:$B$177,0),MATCH(Setup!$C$5,Language!$A$1:$J$1,0)) -> USA | M7: =INDEX(Language!$A$1:$K$177,MATCH(Setup!B21,Language!$B$1:$B$177,0),MATCH(Setup!$C$5,Language!$A$1:$J$1,0)) -> Paraguay | Q7: SoFi Stadium, Los Angeles 🇺🇸 | S7: 3 | T7: =INDEX(Calculator!C$4:C$7,MATCH($S7,Calculator!$B$4:$B$7,0),0) -> Czechia | V7: =SUM(W7:Y7) -> 0 | W7: =INDEX(Calculator!D$4:D$7,MATCH($S7,Calculator!$B$4:$B$7,0),0) -> 0 | X7: =INDEX(Calculator!E$4:E$7,MATCH($S7,Calculator!$B$4:$B$7,0),0) -> 0 | Y7: =INDEX(Calculator!F$4:F$7,MATCH($S7,Calculator!$B$4:$B$7,0),0) -> 0 | Z7: =INDEX(Calculator!G$4:G$7,MATCH($S7,Calculator!$B$4:$B$7,0),0) -> 0 | AA7: =INDEX(Calculator!H$4:H$7,MATCH($S7,Calculator!$B$4:$B$7,0),0) -> 0 | AB7: =INDEX(Calculator!J$4:J$7,MATCH($S7,Calculator!$B$4:$B$7,0),0) -> 0 | AF7: ● | AG7: Fill full time scores in column J and K
B8: 5 | C8: C | D8: =Calculator!EB11 -> 46186.875 | H8: =INDEX(Language!$A$1:$K$177,MATCH(Setup!B18,Language!$B$1:$B$177,0),MATCH(Setup!$C$5,Language!$A$1:$J$1,0)) -> Haiti | M8: =INDEX(Language!$A$1:$K$177,MATCH(Setup!B19,Language!$B$1:$B$177,0),MATCH(Setup!$C$5,Language!$A$1:$J$1,0)) -> Scotland | Q8: Gillette Stadium, Boston 🇺🇸 | S8: 4 | T8: =INDEX(Calculator!C$4:C$7,MATCH($S8,Calculator!$B$4:$B$7,0),0) -> South Africa | V8: =SUM(W8:Y8) -> 0 | W8: =INDEX(Calculator!D$4:D$7,MATCH($S8,Calculator!$B$4:$B$7,0),0) -> 0 | X8: =INDEX(Calculator!E$4:E$7,MATCH($S8,Calculator!$B$4:$B$7,0),0) -> 0 | Y8: =INDEX(Calculator!F$4:F$7,MATCH($S8,Calculator!$B$4:$B$7,0),0) -> 0 | Z8: =INDEX(Calculator!G$4:G$7,MATCH($S8,Calculator!$B$4:$B$7,0),0) -> 0 | AA8: =INDEX(Calculator!H$4:H$7,MATCH($S8,Calculator!$B$4:$B$7,0),0) -> 0 | AB8: =INDEX(Calculator!J$4:J$7,MATCH($S8,Calculator!$B$4:$B$7,0),0) -> 0 | AF8: ● | AG8: Fill penalty shoot out scores in KO rounds in columns at the right of Full Time scores columns
B9: 6 | C9: D | D9: =Calculator!EB12 -> 46187 | H9: =INDEX(Language!$A$1:$K$177,MATCH(Setup!B22,Language!$B$1:$B$177,0),MATCH(Setup!$C$5,Language!$A$1:$J$1,0)) -> Australia | M9: =INDEX(Language!$A$1:$K$177,MATCH(Setup!B23,Language!$B$1:$B$177,0),MATCH(Setup!$C$5,Language!$A$1:$J$1,0)) -> Türkiye | Q9: BC Place, Vancouver 🇨🇦 | AF9: ● | AG9: Group standings will be calculated automatically based on official FIFA Club World Cup Tie Breaker regulation
B10: 7 | C10: C | D10: =Calculator!EB13 -> 46186.75 | H10: =INDEX(Language!$A$1:$K$177,MATCH(Setup!B16,Language!$B$1:$B$177,0),MATCH(Setup!$C$5,Language!$A$1:$J$1,0)) -> Brazil | M10: =INDEX(Language!$A$1:$K$177,MATCH(Setup!B17,Language!$B$1:$B$177,0),MATCH(Setup!$C$5,Language!$A$1:$J$1,0)) -> Morocco | Q10: MetLife Stadium, NY/NJ 🇺🇸 | S10: =INDEX(Language!$A$1:$K$177,MATCH("Group B",Language!$B$1:$B$177,0),MATCH(Setup!$C$5,Language!$A$1:$J$1,0)) -> Group B | V10: P | W10: W | X10: D | Y10: L | Z10: F | AA10: A | AB10: Pt | AF10: ● | AG10: Pairing teams in Knock Out rounds will be placed automatically
B11: 8 | C11: B | D11: =Calculator!EB14 -> 46186.625 | H11: =INDEX(Language!$A$1:$K$177,MATCH(Setup!B14,Language!$B$1:$B$177,0),MATCH(Setup!$C$5,Language!$A$1:$J$1,0)) -> Qatar | M11: =INDEX(Language!$A$1:$K$177,MATCH(Setup!B15,Language!$B$1:$B$177,0),MATCH(Setup!$C$5,Language!$A$1:$J$1,0)) -> Switzerland | Q11: Levi’s Stadium, San Francisco 🇺🇸 | S11: 1 | T11: =INDEX(Calculator!C$11:C$14,MATCH($S11,Calculator!$B$11:$B$14,0),0) -> Switzerland | V11: =SUM(W11:Y11) -> 0 | W11: =INDEX(Calculator!D$11:D$14,MATCH($S11,Calculator!$B$11:$B$14,0),0) -> 0 | X11: =INDEX(Calculator!E$11:E$14,MATCH($S11,Calculator!$B$11:$B$14,0),0) -> 0 | Y11: =INDEX(Calculator!F$11:F$14,MATCH($S11,Calculator!$B$11:$B$14,0),0) -> 0 | Z11: =INDEX(Calculator!G$11:G$14,MATCH($S11,Calculator!$B$11:$B$14,0),0) -> 0 | AA11: =INDEX(Calculator!H$11:H$14,MATCH($S11,Calculator!$B$11:$B$14,0),0) -> 0 | AB11: =INDEX(Calculator!J$11:J$14,MATCH($S11,Calculator!$B$11:$B$14,0),0) -> 0 | AF11: Color meaning :
B12: 9 | C12: E | D12: =Calculator!EB15 -> 46187.792 | H12: =INDEX(Language!$A$1:$K$177,MATCH(Setup!B26,Language!$B$1:$B$177,0),MATCH(Setup!$C$5,Language!$A$1:$J$1,0)) -> Cote D'Voire | M12: =INDEX(Language!$A$1:$K$177,MATCH(Setup!B27,Language!$B$1:$B$177,0),MATCH(Setup!$C$5,Language!$A$1:$J$1,0)) -> Ecuador | Q12: Lincoln Financial Field, Philadelphia 🇺🇸 | S12: 2 | T12: =INDEX(Calculator!C$11:C$14,MATCH($S12,Calculator!$B$11:$B$14,0),0) -> Canada | V12: =SUM(W12:Y12) -> 0 | W12: =INDEX(Calculator!D$11:D$14,MATCH($S12,Calculator!$B$11:$B$14,0),0) -> 0 | X12: =INDEX(Calculator!E$11:E$14,MATCH($S12,Calculator!$B$11:$B$14,0),0) -> 0 | Y12: =INDEX(Calculator!F$11:F$14,MATCH($S12,Calculator!$B$11:$B$14,0),0) -> 0 | Z12: =INDEX(Calculator!G$11:G$14,MATCH($S12,Calculator!$B$11:$B$14,0),0) -> 0 | AA12: =INDEX(Calculator!H$11:H$14,MATCH($S12,Calculator!$B$11:$B$14,0),0) -> 0 | AB12: =INDEX(Calculator!J$11:J$14,MATCH($S12,Calculator!$B$11:$B$14,0),0) -> 0 | AG12: Team Name | AI12: Won in Group Stages
B13: 10 | C13: E | D13: =Calculator!EB16 -> 46187.542 | H13: =INDEX(Language!$A$1:$K$177,MATCH(Setup!B24,Language!$B$1:$B$177,0),MATCH(Setup!$C$5,Language!$A$1:$J$1,0)) -> Germany | M13: =INDEX(Language!$A$1:$K$177,MATCH(Setup!B25,Language!$B$1:$B$177,0),MATCH(Setup!$C$5,Language!$A$1:$J$1,0)) -> Curacao | Q13: NRG Stadium, Houston 🇺🇸 | S13: 3 | T13: =INDEX(Calculator!C$11:C$14,MATCH($S13,Calculator!$B$11:$B$14,0),0) -> Qatar | V13: =SUM(W13:Y13) -> 0 | W13: =INDEX(Calculator!D$11:D$14,MATCH($S13,Calculator!$B$11:$B$14,0),0) -> 0 | X13: =INDEX(Calculator!E$11:E$14,MATCH($S13,Calculator!$B$11:$B$14,0),0) -> 0 | Y13: =INDEX(Calculator!F$11:F$14,MATCH($S13,Calculator!$B$11:$B$14,0),0) -> 0 | Z13: =INDEX(Calculator!G$11:G$14,MATCH($S13,Calculator!$B$11:$B$14,0),0) -> 0 | AA13: =INDEX(Calculator!H$11:H$14,MATCH($S13,Calculator!$B$11:$B$14,0),0) -> 0 | AB13: =INDEX(Calculator!J$11:J$14,MATCH($S13,Calculator!$B$11:$B$14,0),0) -> 0 | AG13: Team Name | AI13: Won by KO Rounds
B14: 11 | C14: F | D14: =Calculator!EB17 -> 46187.667 | H14: =INDEX(Language!$A$1:$K$177,MATCH(Setup!B28,Language!$B$1:$B$177,0),MATCH(Setup!$C$5,Language!$A$1:$J$1,0)) -> Netherlands | M14: =INDEX(Language!$A$1:$K$177,MATCH(Setup!B29,Language!$B$1:$B$177,0),MATCH(Setup!$C$5,Language!$A$1:$J$1,0)) -> Japan | Q14: AT&T Stadium, Dallas 🇺🇸 | S14: 4 | T14: =INDEX(Calculator!C$11:C$14,MATCH($S14,Calculator!$B$11:$B$14,0),0) -> Bosnia and Herzegovina | V14: =SUM(W14:Y14) -> 0 | W14: =INDEX(Calculator!D$11:D$14,MATCH($S14,Calculator!$B$11:$B$14,0),0) -> 0 | X14: =INDEX(Calculator!E$11:E$14,MATCH($S14,Calculator!$B$11:$B$14,0),0) -> 0 | Y14: =INDEX(Calculator!F$11:F$14,MATCH($S14,Calculator!$B$11:$B$14,0),0) -> 0 | Z14: =INDEX(Calculator!G$11:G$14,MATCH($S14,Calculator!$B$11:$B$14,0),0) -> 0 | AA14: =INDEX(Calculator!H$11:H$14,MATCH($S14,Calculator!$B$11:$B$14,0),0) -> 0 | AB14: =INDEX(Calculator!J$11:J$14,MATCH($S14,Calculator!$B$11:$B$14,0),0) -> 0 | AG14: Team Name | AI14: Lose in Group and KO Stages
B15: 12 | C15: F | D15: =Calculator!EB18 -> 46187.917 | H15: =INDEX(Language!$A$1:$K$177,MATCH(Setup!B30,Language!$B$1:$B$177,0),MATCH(Setup!$C$5,Language!$A$1:$J$1,0)) -> Sweden | M15: =INDEX(Language!$A$1:$K$177,MATCH(Setup!B31,Language!$B$1:$B$177,0),MATCH(Setup!$C$5,Language!$A$1:$J$1,0)) -> Tunisia | Q15: Estadio BBVA, Monterrey 🇲🇽
B16: 13 | C16: H | D16: =Calculator!EB19 -> 46188.75 | H16: =INDEX(Language!$A$1:$K$177,MATCH(Setup!B38,Language!$B$1:$B$177,0),MATCH(Setup!$C$5,Language!$A$1:$J$1,0)) -> Saudi Arabia | M16: =INDEX(Language!$A$1:$K$177,MATCH(Setup!B39,Language!$B$1:$B$177,0),MATCH(Setup!$C$5,Language!$A$1:$J$1,0)) -> Uruguay | Q16: Hard Rock Stadium, Miami 🇺🇸 | S16: =INDEX(Language!$A$1:$K$177,MATCH("Group C",Language!$B$1:$B$177,0),MATCH(Setup!$C$5,Language!$A$1:$J$1,0)) -> Group C | V16: P | W16: W | X16: D | Y16: L | Z16: F | AA16: A | AB16: Pt
B17: 14 | C17: H | D17: =Calculator!EB20 -> 46188.5 | H17: =INDEX(Language!$A$1:$K$177,MATCH(Setup!B36,Language!$B$1:$B$177,0),MATCH(Setup!$C$5,Language!$A$1:$J$1,0)) -> Spain | M17: =INDEX(Language!$A$1:$K$177,MATCH(Setup!B37,Language!$B$1:$B$177,0),MATCH(Setup!$C$5,Language!$A$1:$J$1,0)) -> Cabo Verde | Q17: Mercedes-Benz Stadium, Atlanta 🇺🇸 | S17: 1 | T17: =INDEX(Calculator!C$18:C$21,MATCH($S17,Calculator!$B$18:$B$21,0),0) -> Brazil | V17: =SUM(W17:Y17) -> 0 | W17: =INDEX(Calculator!D$18:D$21,MATCH($S17,Calculator!$B$18:$B$21,0),0) -> 0 | X17: =INDEX(Calculator!E$18:E$21,MATCH($S17,Calculator!$B$18:$B$21,0),0) -> 0 | Y17: =INDEX(Calculator!F$18:F$21,MATCH($S17,Calculator!$B$18:$B$21,0),0) -> 0 | Z17: =INDEX(Calculator!G$18:G$21,MATCH($S17,Calculator!$B$18:$B$21,0),0) -> 0 | AA17: =INDEX(Calculator!H$18:H$21,MATCH($S17,Calculator!$B$18:$B$21,0),0) -> 0 | AB17: =INDEX(Calculator!J$18:J$21,MATCH($S17,Calculator!$B$18:$B$21,0),0) -> 0
B18: 15 | C18: G | D18: =Calculator!EB21 -> 46188.875 | H18: =INDEX(Language!$A$1:$K$177,MATCH(Setup!B34,Language!$B$1:$B$177,0),MATCH(Setup!$C$5,Language!$A$1:$J$1,0)) -> Iran | M18: =INDEX(Language!$A$1:$K$177,MATCH(Setup!B35,Language!$B$1:$B$177,0),MATCH(Setup!$C$5,Language!$A$1:$J$1,0)) -> New Zealand | Q18: SoFi Stadium, Los Angeles 🇺🇸 | S18: 2 | T18: =INDEX(Calculator!C$18:C$21,MATCH($S18,Calculator!$B$18:$B$21,0),0) -> Morocco | V18: =SUM(W18:Y18) -> 0 | W18: =INDEX(Calculator!D$18:D$21,MATCH($S18,Calculator!$B$18:$B$21,0),0) -> 0 | X18: =INDEX(Calculator!E$18:E$21,MATCH($S18,Calculator!$B$18:$B$21,0),0) -> 0 | Y18: =INDEX(Calculator!F$18:F$21,MATCH($S18,Calculator!$B$18:$B$21,0),0) -> 0 | Z18: =INDEX(Calculator!G$18:G$21,MATCH($S18,Calculator!$B$18:$B$21,0),0) -> 0 | AA18: =INDEX(Calculator!H$18:H$21,MATCH($S18,Calculator!$B$18:$B$21,0),0) -> 0 | AB18: =INDEX(Calculator!J$18:J$21,MATCH($S18,Calculator!$B$18:$B$21,0),0) -> 0
B19: 16 | C19: G | D19: =Calculator!EB22 -> 46188.625 | H19: =INDEX(Language!$A$1:$K$177,MATCH(Setup!B32,Language!$B$1:$B$177,0),MATCH(Setup!$C$5,Language!$A$1:$J$1,0)) -> Belgium | M19: =INDEX(Language!$A$1:$K$177,MATCH(Setup!B33,Language!$B$1:$B$177,0),MATCH(Setup!$C$5,Language!$A$1:$J$1,0)) -> Egypt | Q19: Lumen Field, Seattle 🇺🇸 | S19: 3 | T19: =INDEX(Calculator!C$18:C$21,MATCH($S19,Calculator!$B$18:$B$21,0),0) -> Scotland | V19: =SUM(W19:Y19) -> 0 | W19: =INDEX(Calculator!D$18:D$21,MATCH($S19,Calculator!$B$18:$B$21,0),0) -> 0 | X19: =INDEX(Calculator!E$18:E$21,MATCH($S19,Calculator!$B$18:$B$21,0),0) -> 0 | Y19: =INDEX(Calculator!F$18:F$21,MATCH($S19,Calculator!$B$18:$B$21,0),0) -> 0 | Z19: =INDEX(Calculator!G$18:G$21,MATCH($S19,Calculator!$B$18:$B$21,0),0) -> 0 | AA19: =INDEX(Calculator!H$18:H$21,MATCH($S19,Calculator!$B$18:$B$21,0),0) -> 0 | AB19: =INDEX(Calculator!J$18:J$21,MATCH($S19,Calculator!$B$18:$B$21,0),0) -> 0
B20: 17 | C20: I | D20: =Calculator!EB23 -> 46189.625 | H20: =INDEX(Language!$A$1:$K$177,MATCH(Setup!B40,Language!$B$1:$B$177,0),MATCH(Setup!$C$5,Language!$A$1:$J$1,0)) -> France | M20: =INDEX(Language!$A$1:$K$177,MATCH(Setup!B41,Language!$B$1:$B$177,0),MATCH(Setup!$C$5,Language!$A$1:$J$1,0)) -> Senegal | Q20: MetLife Stadium, NY/NJ 🇺🇸 | S20: 4 | T20: =INDEX(Calculator!C$18:C$21,MATCH($S20,Calculator!$B$18:$B$21,0),0) -> Haiti | V20: =SUM(W20:Y20) -> 0 | W20: =INDEX(Calculator!D$18:D$21,MATCH($S20,Calculator!$B$18:$B$21,0),0) -> 0 | X20: =INDEX(Calculator!E$18:E$21,MATCH($S20,Calculator!$B$18:$B$21,0),0) -> 0 | Y20: =INDEX(Calculator!F$18:F$21,MATCH($S20,Calculator!$B$18:$B$21,0),0) -> 0 | Z20: =INDEX(Calculator!G$18:G$21,MATCH($S20,Calculator!$B$18:$B$21,0),0) -> 0 | AA20: =INDEX(Calculator!H$18:H$21,MATCH($S20,Calculator!$B$18:$B$21,0),0) -> 0 | AB20: =INDEX(Calculator!J$18:J$21,MATCH($S20,Calculator!$B$18:$B$21,0),0) -> 0
B21: 18 | C21: I | D21: =Calculator!EB24 -> 46189.75 | H21: =INDEX(Language!$A$1:$K$177,MATCH(Setup!B42,Language!$B$1:$B$177,0),MATCH(Setup!$C$5,Language!$A$1:$J$1,0)) -> Iraq | M21: =INDEX(Language!$A$1:$K$177,MATCH(Setup!B43,Language!$B$1:$B$177,0),MATCH(Setup!$C$5,Language!$A$1:$J$1,0)) -> Norway | Q21: Gillette Stadium, Boston 🇺🇸
B22: 19 | C22: J | D22: =Calculator!EB25 -> 46189.875 | H22: =INDEX(Language!$A$1:$K$177,MATCH(Setup!B44,Language!$B$1:$B$177,0),MATCH(Setup!$C$5,Language!$A$1:$J$1,0)) -> Argentina | M22: =INDEX(Language!$A$1:$K$177,MATCH(Setup!B45,Language!$B$1:$B$177,0),MATCH(Setup!$C$5,Language!$A$1:$J$1,0)) -> Algeria | Q22: Arrowhead Stadium, Kansas City 🇺🇸 | S22: =INDEX(Language!$A$1:$K$177,MATCH("Group D",Language!$B$1:$B$177,0),MATCH(Setup!$C$5,Language!$A$1:$J$1,0)) -> Group D | V22: P | W22: W | X22: D | Y22: L | Z22: F | AA22: A | AB22: Pt
B23: 20 | C23: J | D23: =Calculator!EB26 -> 46189 | H23: =INDEX(Language!$A$1:$K$177,MATCH(Setup!B46,Language!$B$1:$B$177,0),MATCH(Setup!$C$5,Language!$A$1:$J$1,0)) -> Austria | M23: =INDEX(Language!$A$1:$K$177,MATCH(Setup!B47,Language!$B$1:$B$177,0),MATCH(Setup!$C$5,Language!$A$1:$J$1,0)) -> Jordan | Q23: Levi’s Stadium, San Francisco 🇺🇸 | S23: 1 | T23: =INDEX(Calculator!C$25:C$28,MATCH($S23,Calculator!$B$25:$B$28,0),0) -> USA | V23: =SUM(W23:Y23) -> 0 | W23: =INDEX(Calculator!D$25:D$28,MATCH($S23,Calculator!$B$25:$B$28,0),0) -> 0 | X23: =INDEX(Calculator!E$25:E$28,MATCH($S23,Calculator!$B$25:$B$28,0),0) -> 0 | Y23: =INDEX(Calculator!F$25:F$28,MATCH($S23,Calculator!$B$25:$B$28,0),0) -> 0 | Z23: =INDEX(Calculator!G$25:G$28,MATCH($S23,Calculator!$B$25:$B$28,0),0) -> 0 | AA23: =INDEX(Calculator!H$25:H$28,MATCH($S23,Calculator!$B$25:$B$28,0),0) -> 0 | AB23: =INDEX(Calculator!J$25:J$28,MATCH($S23,Calculator!$B$25:$B$28,0),0) -> 0
B24: 21 | C24: L | D24: =Calculator!EB27 -> 46190.792 | H24: =INDEX(Language!$A$1:$K$177,MATCH(Setup!B54,Language!$B$1:$B$177,0),MATCH(Setup!$C$5,Language!$A$1:$J$1,0)) -> Ghana | M24: =INDEX(Language!$A$1:$K$177,MATCH(Setup!B55,Language!$B$1:$B$177,0),MATCH(Setup!$C$5,Language!$A$1:$J$1,0)) -> Panama | Q24: BMO Field, Toronto 🇨🇦 | S24: 2 | T24: =INDEX(Calculator!C$25:C$28,MATCH($S24,Calculator!$B$25:$B$28,0),0) -> Türkiye | V24: =SUM(W24:Y24) -> 0 | W24: =INDEX(Calculator!D$25:D$28,MATCH($S24,Calculator!$B$25:$B$28,0),0) -> 0 | X24: =INDEX(Calculator!E$25:E$28,MATCH($S24,Calculator!$B$25:$B$28,0),0) -> 0 | Y24: =INDEX(Calculator!F$25:F$28,MATCH($S24,Calculator!$B$25:$B$28,0),0) -> 0 | Z24: =INDEX(Calculator!G$25:G$28,MATCH($S24,Calculator!$B$25:$B$28,0),0) -> 0 | AA24: =INDEX(Calculator!H$25:H$28,MATCH($S24,Calculator!$B$25:$B$28,0),0) -> 0 | AB24: =INDEX(Calculator!J$25:J$28,MATCH($S24,Calculator!$B$25:$B$28,0),0) -> 0
B25: 22 | C25: L | D25: =Calculator!EB28 -> 46190.667 | H25: =INDEX(Language!$A$1:$K$177,MATCH(Setup!B52,Language!$B$1:$B$177,0),MATCH(Setup!$C$5,Language!$A$1:$J$1,0)) -> England | M25: =INDEX(Language!$A$1:$K$177,MATCH(Setup!B53,Language!$B$1:$B$177,0),MATCH(Setup!$C$5,Language!$A$1:$J$1,0)) -> Croatia | Q25: AT&T Stadium, Dallas 🇺🇸 | S25: 3 | T25: =INDEX(Calculator!C$25:C$28,MATCH($S25,Calculator!$B$25:$B$28,0),0) -> Australia | V25: =SUM(W25:Y25) -> 0 | W25: =INDEX(Calculator!D$25:D$28,MATCH($S25,Calculator!$B$25:$B$28,0),0) -> 0 | X25: =INDEX(Calculator!E$25:E$28,MATCH($S25,Calculator!$B$25:$B$28,0),0) -> 0 | Y25: =INDEX(Calculator!F$25:F$28,MATCH($S25,Calculator!$B$25:$B$28,0),0) -> 0 | Z25: =INDEX(Calculator!G$25:G$28,MATCH($S25,Calculator!$B$25:$B$28,0),0) -> 0 | AA25: =INDEX(Calculator!H$25:H$28,MATCH($S25,Calculator!$B$25:$B$28,0),0) -> 0 | AB25: =INDEX(Calculator!J$25:J$28,MATCH($S25,Calculator!$B$25:$B$28,0),0) -> 0
B26: 23 | C26: K | D26: =Calculator!EB29 -> 46190.542 | H26: =INDEX(Language!$A$1:$K$177,MATCH(Setup!B48,Language!$B$1:$B$177,0),MATCH(Setup!$C$5,Language!$A$1:$J$1,0)) -> Portugal | M26: =INDEX(Language!$A$1:$K$177,MATCH(Setup!B49,Language!$B$1:$B$177,0),MATCH(Setup!$C$5,Language!$A$1:$J$1,0)) -> DR Congo | Q26: NRG Stadium, Houston 🇺🇸 | S26: 4 | T26: =INDEX(Calculator!C$25:C$28,MATCH($S26,Calculator!$B$25:$B$28,0),0) -> Paraguay | V26: =SUM(W26:Y26) -> 0 | W26: =INDEX(Calculator!D$25:D$28,MATCH($S26,Calculator!$B$25:$B$28,0),0) -> 0 | X26: =INDEX(Calculator!E$25:E$28,MATCH($S26,Calculator!$B$25:$B$28,0),0) -> 0 | Y26: =INDEX(Calculator!F$25:F$28,MATCH($S26,Calculator!$B$25:$B$28,0),0) -> 0 | Z26: =INDEX(Calculator!G$25:G$28,MATCH($S26,Calculator!$B$25:$B$28,0),0) -> 0 | AA26: =INDEX(Calculator!H$25:H$28,MATCH($S26,Calculator!$B$25:$B$28,0),0) -> 0 | AB26: =INDEX(Calculator!J$25:J$28,MATCH($S26,Calculator!$B$25:$B$28,0),0) -> 0
B27: 24 | C27: K | D27: =Calculator!EB30 -> 46190.917 | H27: =INDEX(Language!$A$1:$K$177,MATCH(Setup!B50,Language!$B$1:$B$177,0),MATCH(Setup!$C$5,Language!$A$1:$J$1,0)) -> Uzbekistan | M27: =INDEX(Language!$A$1:$K$177,MATCH(Setup!B51,Language!$B$1:$B$177,0),MATCH(Setup!$C$5,Language!$A$1:$J$1,0)) -> Colombia | Q27: Estadio Azteca, Mexico City 🇲🇽
B28: 25 | C28: A | D28: =Calculator!EB31 -> 46191.5 | H28: =M5 -> Czechia | M28: =M4 -> South Africa | Q28: Mercedes-Benz Stadium, Atlanta 🇺🇸 | S28: =INDEX(Language!$A$1:$K$177,MATCH("Group E",Language!$B$1:$B$177,0),MATCH(Setup!$C$5,Language!$A$1:$J$1,0)) -> Group E | V28: P | W28: W | X28: D | Y28: L | Z28: F | AA28: A | AB28: Pt
B29: 26 | C29: B | D29: =Calculator!EB32 -> 46191.625 | H29: =M11 -> Switzerland | M29: =M6 -> Bosnia and Herzegovina | Q29: SoFi Stadium, Los Angeles 🇺🇸 | S29: 1 | T29: =INDEX(Calculator!C$31:C$34,MATCH($S29,Calculator!$B$31:$B$34,0),0) -> Germany | V29: =SUM(W29:Y29) -> 0 | W29: =INDEX(Calculator!D$31:D$34,MATCH($S29,Calculator!$B$31:$B$34,0),0) -> 0 | X29: =INDEX(Calculator!E$31:E$34,MATCH($S29,Calculator!$B$31:$B$34,0),0) -> 0 | Y29: =INDEX(Calculator!F$31:F$34,MATCH($S29,Calculator!$B$31:$B$34,0),0) -> 0 | Z29: =INDEX(Calculator!G$31:G$34,MATCH($S29,Calculator!$B$31:$B$34,0),0) -> 0 | AA29: =INDEX(Calculator!H$31:H$34,MATCH($S29,Calculator!$B$31:$B$34,0),0) -> 0 | AB29: =INDEX(Calculator!J$31:J$34,MATCH($S29,Calculator!$B$31:$B$34,0),0) -> 0
B30: 27 | C30: B | D30: =Calculator!EB33 -> 46191.75 | H30: =H6 -> Canada | M30: =H11 -> Qatar | Q30: BC Place, Vancouver 🇨🇦 | S30: 2 | T30: =INDEX(Calculator!C$31:C$34,MATCH($S30,Calculator!$B$31:$B$34,0),0) -> Ecuador | V30: =SUM(W30:Y30) -> 0 | W30: =INDEX(Calculator!D$31:D$34,MATCH($S30,Calculator!$B$31:$B$34,0),0) -> 0 | X30: =INDEX(Calculator!E$31:E$34,MATCH($S30,Calculator!$B$31:$B$34,0),0) -> 0 | Y30: =INDEX(Calculator!F$31:F$34,MATCH($S30,Calculator!$B$31:$B$34,0),0) -> 0 | Z30: =INDEX(Calculator!G$31:G$34,MATCH($S30,Calculator!$B$31:$B$34,0),0) -> 0 | AA30: =INDEX(Calculator!H$31:H$34,MATCH($S30,Calculator!$B$31:$B$34,0),0) -> 0 | AB30: =INDEX(Calculator!J$31:J$34,MATCH($S30,Calculator!$B$31:$B$34,0),0) -> 0
B31: 28 | C31: A | D31: =Calculator!EB34 -> 46191.875 | H31: =H4 -> Mexico | M31: =H5 -> Korea Republic | Q31: Estadio Akron, Guadalajara 🇲🇽 | S31: 3 | T31: =INDEX(Calculator!C$31:C$34,MATCH($S31,Calculator!$B$31:$B$34,0),0) -> Cote D'Voire | V31: =SUM(W31:Y31) -> 0 | W31: =INDEX(Calculator!D$31:D$34,MATCH($S31,Calculator!$B$31:$B$34,0),0) -> 0 | X31: =INDEX(Calculator!E$31:E$34,MATCH($S31,Calculator!$B$31:$B$34,0),0) -> 0 | Y31: =INDEX(Calculator!F$31:F$34,MATCH($S31,Calculator!$B$31:$B$34,0),0) -> 0 | Z31: =INDEX(Calculator!G$31:G$34,MATCH($S31,Calculator!$B$31:$B$34,0),0) -> 0 | AA31: =INDEX(Calculator!H$31:H$34,MATCH($S31,Calculator!$B$31:$B$34,0),0) -> 0 | AB31: =INDEX(Calculator!J$31:J$34,MATCH($S31,Calculator!$B$31:$B$34,0),0) -> 0
B32: 29 | C32: C | D32: =Calculator!EB35 -> 46192.854 | H32: =H10 -> Brazil | M32: =H8 -> Haiti | Q32: Lincoln Financial Field, Philadelphia 🇺🇸 | S32: 4 | T32: =INDEX(Calculator!C$31:C$34,MATCH($S32,Calculator!$B$31:$B$34,0),0) -> Curacao | V32: =SUM(W32:Y32) -> 0 | W32: =INDEX(Calculator!D$31:D$34,MATCH($S32,Calculator!$B$31:$B$34,0),0) -> 0 | X32: =INDEX(Calculator!E$31:E$34,MATCH($S32,Calculator!$B$31:$B$34,0),0) -> 0 | Y32: =INDEX(Calculator!F$31:F$34,MATCH($S32,Calculator!$B$31:$B$34,0),0) -> 0 | Z32: =INDEX(Calculator!G$31:G$34,MATCH($S32,Calculator!$B$31:$B$34,0),0) -> 0 | AA32: =INDEX(Calculator!H$31:H$34,MATCH($S32,Calculator!$B$31:$B$34,0),0) -> 0 | AB32: =INDEX(Calculator!J$31:J$34,MATCH($S32,Calculator!$B$31:$B$34,0),0) -> 0
B33: 30 | C33: C | D33: =Calculator!EB36 -> 46192.75 | H33: =M8 -> Scotland | M33: =M10 -> Morocco | Q33: Gillette Stadium, Boston 🇺🇸
B34: 31 | C34: D | D34: =Calculator!EB37 -> 46192.958 | H34: =M9 -> Türkiye | M34: =M7 -> Paraguay | Q34: Levi’s Stadium, San Francisco 🇺🇸 | S34: =INDEX(Language!$A$1:$K$177,MATCH("Group F",Language!$B$1:$B$177,0),MATCH(Setup!$C$5,Language!$A$1:$J$1,0)) -> Group F | V34: P | W34: W | X34: D | Y34: L | Z34: F | AA34: A | AB34: Pt
B35: 32 | C35: D | D35: =Calculator!EB38 -> 46192.625 | H35: =H7 -> USA | M35: =H9 -> Australia | Q35: Lumen Field, Seattle 🇺🇸 | S35: 1 | T35: =INDEX(Calculator!C$37:C$397,MATCH($S35,Calculator!$B$37:$B$397,0),0) -> Netherlands | V35: =SUM(W35:Y35) -> 0 | W35: =INDEX(Calculator!D$37:D$397,MATCH($S35,Calculator!$B$37:$B$397,0),0) -> 0 | X35: =INDEX(Calculator!E$37:E$397,MATCH($S35,Calculator!$B$37:$B$397,0),0) -> 0 | Y35: =INDEX(Calculator!F$37:F$397,MATCH($S35,Calculator!$B$37:$B$397,0),0) -> 0 | Z35: =INDEX(Calculator!G$37:G$397,MATCH($S35,Calculator!$B$37:$B$397,0),0) -> 0 | AA35: =INDEX(Calculator!H$37:H$397,MATCH($S35,Calculator!$B$37:$B$397,0),0) -> 0 | AB35: =INDEX(Calculator!J$37:J$397,MATCH($S35,Calculator!$B$37:$B$397,0),0) -> 0
B36: 33 | C36: E | D36: =Calculator!EB39 -> 46193.667 | H36: =H13 -> Germany | M36: =H12 -> Cote D'Voire | Q36: BMO Field, Toronto 🇨🇦 | S36: 2 | T36: =INDEX(Calculator!C$37:C$397,MATCH($S36,Calculator!$B$37:$B$397,0),0) -> Japan | V36: =SUM(W36:Y36) -> 0 | W36: =INDEX(Calculator!D$37:D$397,MATCH($S36,Calculator!$B$37:$B$397,0),0) -> 0 | X36: =INDEX(Calculator!E$37:E$397,MATCH($S36,Calculator!$B$37:$B$397,0),0) -> 0 | Y36: =INDEX(Calculator!F$37:F$397,MATCH($S36,Calculator!$B$37:$B$397,0),0) -> 0 | Z36: =INDEX(Calculator!G$37:G$397,MATCH($S36,Calculator!$B$37:$B$397,0),0) -> 0 | AA36: =INDEX(Calculator!H$37:H$397,MATCH($S36,Calculator!$B$37:$B$397,0),0) -> 0 | AB36: =INDEX(Calculator!J$37:J$397,MATCH($S36,Calculator!$B$37:$B$397,0),0) -> 0
B37: 34 | C37: E | D37: =Calculator!EB40 -> 46193.833 | H37: =M12 -> Ecuador | M37: =M13 -> Curacao | Q37: Arrowhead Stadium, Kansas City 🇺🇸 | S37: 3 | T37: =INDEX(Calculator!C$37:C$397,MATCH($S37,Calculator!$B$37:$B$397,0),0) -> Sweden | V37: =SUM(W37:Y37) -> 0 | W37: =INDEX(Calculator!D$37:D$397,MATCH($S37,Calculator!$B$37:$B$397,0),0) -> 0 | X37: =INDEX(Calculator!E$37:E$397,MATCH($S37,Calculator!$B$37:$B$397,0),0) -> 0 | Y37: =INDEX(Calculator!F$37:F$397,MATCH($S37,Calculator!$B$37:$B$397,0),0) -> 0 | Z37: =INDEX(Calculator!G$37:G$397,MATCH($S37,Calculator!$B$37:$B$397,0),0) -> 0 | AA37: =INDEX(Calculator!H$37:H$397,MATCH($S37,Calculator!$B$37:$B$397,0),0) -> 0 | AB37: =INDEX(Calculator!J$37:J$397,MATCH($S37,Calculator!$B$37:$B$397,0),0) -> 0
B38: 35 | C38: F | D38: =Calculator!EB41 -> 46193.542 | H38: =H14 -> Netherlands | M38: =H15 -> Sweden | Q38: NRG Stadium, Houston 🇺🇸 | S38: 4 | T38: =INDEX(Calculator!C$37:C$397,MATCH($S38,Calculator!$B$37:$B$397,0),0) -> Tunisia | V38: =SUM(W38:Y38) -> 0 | W38: =INDEX(Calculator!D$37:D$397,MATCH($S38,Calculator!$B$37:$B$397,0),0) -> 0 | X38: =INDEX(Calculator!E$37:E$397,MATCH($S38,Calculator!$B$37:$B$397,0),0) -> 0 | Y38: =INDEX(Calculator!F$37:F$397,MATCH($S38,Calculator!$B$37:$B$397,0),0) -> 0 | Z38: =INDEX(Calculator!G$37:G$397,MATCH($S38,Calculator!$B$37:$B$397,0),0) -> 0 | AA38: =INDEX(Calculator!H$37:H$397,MATCH($S38,Calculator!$B$37:$B$397,0),0) -> 0 | AB38: =INDEX(Calculator!J$37:J$397,MATCH($S38,Calculator!$B$37:$B$397,0),0) -> 0
B39: 36 | C39: F | D39: =Calculator!EB42 -> 46193 | H39: =M15 -> Tunisia | M39: =M14 -> Japan | Q39: Estadio BBVA, Monterrey 🇲🇽
B40: 37 | C40: H | D40: =Calculator!EB43 -> 46194.75 | H40: =M16 -> Uruguay | M40: =M17 -> Cabo Verde | Q40: Hard Rock Stadium, Miami 🇺🇸 | S40: =INDEX(Language!$A$1:$K$177,MATCH("Group G",Language!$B$1:$B$177,0),MATCH(Setup!$C$5,Language!$A$1:$J$1,0)) -> Group G | V40: P | W40: W | X40: D | Y40: L | Z40: F | AA40: A | AB40: Pt
B41: 38 | C41: H | D41: =Calculator!EB44 -> 46194.5 | H41: =H17 -> Spain | M41: =H16 -> Saudi Arabia | Q41: Mercedes-Benz Stadium, Atlanta 🇺🇸 | S41: 1 | T41: =INDEX(Calculator!C$43:C$46,MATCH($S41,Calculator!$B$43:$B$46,0),0) -> Belgium | V41: =SUM(W41:Y41) -> 0 | W41: =INDEX(Calculator!D$43:D$46,MATCH($S41,Calculator!$B$43:$B$46,0),0) -> 0 | X41: =INDEX(Calculator!E$43:E$46,MATCH($S41,Calculator!$B$43:$B$46,0),0) -> 0 | Y41: =INDEX(Calculator!F$43:F$46,MATCH($S41,Calculator!$B$43:$B$46,0),0) -> 0 | Z41: =INDEX(Calculator!G$43:G$46,MATCH($S41,Calculator!$B$43:$B$46,0),0) -> 0 | AA41: =INDEX(Calculator!H$43:H$46,MATCH($S41,Calculator!$B$43:$B$46,0),0) -> 0 | AB41: =INDEX(Calculator!J$43:J$46,MATCH($S41,Calculator!$B$43:$B$46,0),0) -> 0
B42: 39 | C42: G | D42: =Calculator!EB45 -> 46194.625 | H42: =H19 -> Belgium | M42: =H18 -> Iran | Q42: SoFi Stadium, Los Angeles 🇺🇸 | S42: 2 | T42: =INDEX(Calculator!C$43:C$46,MATCH($S42,Calculator!$B$43:$B$46,0),0) -> Iran | V42: =SUM(W42:Y42) -> 0 | W42: =INDEX(Calculator!D$43:D$46,MATCH($S42,Calculator!$B$43:$B$46,0),0) -> 0 | X42: =INDEX(Calculator!E$43:E$46,MATCH($S42,Calculator!$B$43:$B$46,0),0) -> 0 | Y42: =INDEX(Calculator!F$43:F$46,MATCH($S42,Calculator!$B$43:$B$46,0),0) -> 0 | Z42: =INDEX(Calculator!G$43:G$46,MATCH($S42,Calculator!$B$43:$B$46,0),0) -> 0 | AA42: =INDEX(Calculator!H$43:H$46,MATCH($S42,Calculator!$B$43:$B$46,0),0) -> 0 | AB42: =INDEX(Calculator!J$43:J$46,MATCH($S42,Calculator!$B$43:$B$46,0),0) -> 0
B43: 40 | C43: G | D43: =Calculator!EB46 -> 46194.875 | H43: =M18 -> New Zealand | M43: =M19 -> Egypt | Q43: BC Place, Vancouver 🇨🇦 | S43: 3 | T43: =INDEX(Calculator!C$43:C$46,MATCH($S43,Calculator!$B$43:$B$46,0),0) -> Egypt | V43: =SUM(W43:Y43) -> 0 | W43: =INDEX(Calculator!D$43:D$46,MATCH($S43,Calculator!$B$43:$B$46,0),0) -> 0 | X43: =INDEX(Calculator!E$43:E$46,MATCH($S43,Calculator!$B$43:$B$46,0),0) -> 0 | Y43: =INDEX(Calculator!F$43:F$46,MATCH($S43,Calculator!$B$43:$B$46,0),0) -> 0 | Z43: =INDEX(Calculator!G$43:G$46,MATCH($S43,Calculator!$B$43:$B$46,0),0) -> 0 | AA43: =INDEX(Calculator!H$43:H$46,MATCH($S43,Calculator!$B$43:$B$46,0),0) -> 0 | AB43: =INDEX(Calculator!J$43:J$46,MATCH($S43,Calculator!$B$43:$B$46,0),0) -> 0
B44: 41 | C44: I | D44: =Calculator!EB47 -> 46195.833 | H44: =M21 -> Norway | M44: =M20 -> Senegal | Q44: MetLife Stadium, New York/New Jersey 🇺🇸 | S44: 4 | T44: =INDEX(Calculator!C$43:C$46,MATCH($S44,Calculator!$B$43:$B$46,0),0) -> New Zealand | V44: =SUM(W44:Y44) -> 0 | W44: =INDEX(Calculator!D$43:D$46,MATCH($S44,Calculator!$B$43:$B$46,0),0) -> 0 | X44: =INDEX(Calculator!E$43:E$46,MATCH($S44,Calculator!$B$43:$B$46,0),0) -> 0 | Y44: =INDEX(Calculator!F$43:F$46,MATCH($S44,Calculator!$B$43:$B$46,0),0) -> 0 | Z44: =INDEX(Calculator!G$43:G$46,MATCH($S44,Calculator!$B$43:$B$46,0),0) -> 0 | AA44: =INDEX(Calculator!H$43:H$46,MATCH($S44,Calculator!$B$43:$B$46,0),0) -> 0 | AB44: =INDEX(Calculator!J$43:J$46,MATCH($S44,Calculator!$B$43:$B$46,0),0) -> 0
B45: 42 | C45: I | D45: =Calculator!EB48 -> 46195.708 | H45: =H20 -> France | M45: =H21 -> Iraq | Q45: Lincoln Financial Field, Philadelphia 🇺🇸
B46: 43 | C46: J | D46: =Calculator!EB49 -> 46195.542 | H46: =H22 -> Argentina | M46: =H23 -> Austria | Q46: AT&T Stadium, Dallas 🇺🇸 | S46: =INDEX(Language!$A$1:$K$177,MATCH("Group H",Language!$B$1:$B$177,0),MATCH(Setup!$C$5,Language!$A$1:$J$1,0)) -> Group H | V46: P | W46: W | X46: D | Y46: L | Z46: F | AA46: A | AB46: Pt
B47: 44 | C47: J | D47: =Calculator!EB50 -> 46195.958 | H47: =M23 -> Jordan | M47: =M22 -> Algeria | Q47: Levi’s Stadium, San Francisco 🇺🇸 | S47: 1 | T47: =INDEX(Calculator!C$49:C$52,MATCH($S47,Calculator!$B$49:$B$52,0),0) -> Spain | V47: =SUM(W47:Y47) -> 0 | W47: =INDEX(Calculator!D$49:D$52,MATCH($S47,Calculator!$B$49:$B$52,0),0) -> 0 | X47: =INDEX(Calculator!E$49:E$52,MATCH($S47,Calculator!$B$49:$B$52,0),0) -> 0 | Y47: =INDEX(Calculator!F$49:F$52,MATCH($S47,Calculator!$B$49:$B$52,0),0) -> 0 | Z47: =INDEX(Calculator!G$49:G$52,MATCH($S47,Calculator!$B$49:$B$52,0),0) -> 0 | AA47: =INDEX(Calculator!H$49:H$52,MATCH($S47,Calculator!$B$49:$B$52,0),0) -> 0 | AB47: =INDEX(Calculator!J$49:J$52,MATCH($S47,Calculator!$B$49:$B$52,0),0) -> 0
B48: 45 | C48: L | D48: =Calculator!EB51 -> 46196.667 | H48: =H25 -> England | M48: =H24 -> Ghana | Q48: Gillette Stadium, Boston 🇺🇸 | S48: 2 | T48: =INDEX(Calculator!C$49:C$52,MATCH($S48,Calculator!$B$49:$B$52,0),0) -> Uruguay | V48: =SUM(W48:Y48) -> 0 | W48: =INDEX(Calculator!D$49:D$52,MATCH($S48,Calculator!$B$49:$B$52,0),0) -> 0 | X48: =INDEX(Calculator!E$49:E$52,MATCH($S48,Calculator!$B$49:$B$52,0),0) -> 0 | Y48: =INDEX(Calculator!F$49:F$52,MATCH($S48,Calculator!$B$49:$B$52,0),0) -> 0 | Z48: =INDEX(Calculator!G$49:G$52,MATCH($S48,Calculator!$B$49:$B$52,0),0) -> 0 | AA48: =INDEX(Calculator!H$49:H$52,MATCH($S48,Calculator!$B$49:$B$52,0),0) -> 0 | AB48: =INDEX(Calculator!J$49:J$52,MATCH($S48,Calculator!$B$49:$B$52,0),0) -> 0
B49: 46 | C49: L | D49: =Calculator!EB52 -> 46196.792 | H49: =M24 -> Panama | M49: =M25 -> Croatia | Q49: BMO Field, Toronto 🇨🇦 | S49: 3 | T49: =INDEX(Calculator!C$49:C$52,MATCH($S49,Calculator!$B$49:$B$52,0),0) -> Saudi Arabia | V49: =SUM(W49:Y49) -> 0 | W49: =INDEX(Calculator!D$49:D$52,MATCH($S49,Calculator!$B$49:$B$52,0),0) -> 0 | X49: =INDEX(Calculator!E$49:E$52,MATCH($S49,Calculator!$B$49:$B$52,0),0) -> 0 | Y49: =INDEX(Calculator!F$49:F$52,MATCH($S49,Calculator!$B$49:$B$52,0),0) -> 0 | Z49: =INDEX(Calculator!G$49:G$52,MATCH($S49,Calculator!$B$49:$B$52,0),0) -> 0 | AA49: =INDEX(Calculator!H$49:H$52,MATCH($S49,Calculator!$B$49:$B$52,0),0) -> 0 | AB49: =INDEX(Calculator!J$49:J$52,MATCH($S49,Calculator!$B$49:$B$52,0),0) -> 0
B50: 47 | C50: K | D50: =Calculator!EB53 -> 46196.542 | H50: =H26 -> Portugal | M50: =H27 -> Uzbekistan | Q50: NRG Stadium, Houston 🇺🇸 | S50: 4 | T50: =INDEX(Calculator!C$49:C$52,MATCH($S50,Calculator!$B$49:$B$52,0),0) -> Cabo Verde | V50: =SUM(W50:Y50) -> 0 | W50: =INDEX(Calculator!D$49:D$52,MATCH($S50,Calculator!$B$49:$B$52,0),0) -> 0 | X50: =INDEX(Calculator!E$49:E$52,MATCH($S50,Calculator!$B$49:$B$52,0),0) -> 0 | Y50: =INDEX(Calculator!F$49:F$52,MATCH($S50,Calculator!$B$49:$B$52,0),0) -> 0 | Z50: =INDEX(Calculator!G$49:G$52,MATCH($S50,Calculator!$B$49:$B$52,0),0) -> 0 | AA50: =INDEX(Calculator!H$49:H$52,MATCH($S50,Calculator!$B$49:$B$52,0),0) -> 0 | AB50: =INDEX(Calculator!J$49:J$52,MATCH($S50,Calculator!$B$49:$B$52,0),0) -> 0
B51: 48 | C51: K | D51: =Calculator!EB54 -> 46196.917 | H51: =M27 -> Colombia | M51: =M26 -> DR Congo | Q51: Estadio Akron, Guadalajara 🇲🇽
B52: 49 | C52: C | D52: =Calculator!EB55 -> 46197.75 | H52: =M8 -> Scotland | M52: =H10 -> Brazil | Q52: Hard Rock Stadium, Miami 🇺🇸 | S52: =INDEX(Language!$A$1:$K$177,MATCH("Group I",Language!$B$1:$B$177,0),MATCH(Setup!$C$5,Language!$A$1:$J$1,0)) -> Group I | V52: P | W52: W | X52: D | Y52: L | Z52: F | AA52: A | AB52: Pt
B53: 50 | C53: C | D53: =Calculator!EB56 -> 46197.75 | H53: =M10 -> Morocco | M53: =H8 -> Haiti | Q53: Mercedes-Benz Stadium, Atlanta 🇺🇸 | S53: 1 | T53: =INDEX(Calculator!C$55:C$58,MATCH($S53,Calculator!$B$55:$B$58,0),0) -> France | V53: =SUM(W53:Y53) -> 0 | W53: =INDEX(Calculator!D$55:D$58,MATCH($S53,Calculator!$B$55:$B$58,0),0) -> 0 | X53: =INDEX(Calculator!E$55:E$58,MATCH($S53,Calculator!$B$55:$B$58,0),0) -> 0 | Y53: =INDEX(Calculator!F$55:F$58,MATCH($S53,Calculator!$B$55:$B$58,0),0) -> 0 | Z53: =INDEX(Calculator!G$55:G$58,MATCH($S53,Calculator!$B$55:$B$58,0),0) -> 0 | AA53: =INDEX(Calculator!H$55:H$58,MATCH($S53,Calculator!$B$55:$B$58,0),0) -> 0 | AB53: =INDEX(Calculator!J$55:J$58,MATCH($S53,Calculator!$B$55:$B$58,0),0) -> 0
B54: 51 | C54: B | D54: =Calculator!EB57 -> 46197.625 | H54: =M11 -> Switzerland | M54: =H6 -> Canada | Q54: BC Place, Vancouver 🇨🇦 | S54: 2 | T54: =INDEX(Calculator!C$55:C$58,MATCH($S54,Calculator!$B$55:$B$58,0),0) -> Senegal | V54: =SUM(W54:Y54) -> 0 | W54: =INDEX(Calculator!D$55:D$58,MATCH($S54,Calculator!$B$55:$B$58,0),0) -> 0 | X54: =INDEX(Calculator!E$55:E$58,MATCH($S54,Calculator!$B$55:$B$58,0),0) -> 0 | Y54: =INDEX(Calculator!F$55:F$58,MATCH($S54,Calculator!$B$55:$B$58,0),0) -> 0 | Z54: =INDEX(Calculator!G$55:G$58,MATCH($S54,Calculator!$B$55:$B$58,0),0) -> 0 | AA54: =INDEX(Calculator!H$55:H$58,MATCH($S54,Calculator!$B$55:$B$58,0),0) -> 0 | AB54: =INDEX(Calculator!J$55:J$58,MATCH($S54,Calculator!$B$55:$B$58,0),0) -> 0
B55: 52 | C55: B | D55: =Calculator!EB58 -> 46197.625 | H55: =M6 -> Bosnia and Herzegovina | M55: =H11 -> Qatar | Q55: Lumen Field, Seattle 🇺🇸 | S55: 3 | T55: =INDEX(Calculator!C$55:C$58,MATCH($S55,Calculator!$B$55:$B$58,0),0) -> Norway | V55: =SUM(W55:Y55) -> 0 | W55: =INDEX(Calculator!D$55:D$58,MATCH($S55,Calculator!$B$55:$B$58,0),0) -> 0 | X55: =INDEX(Calculator!E$55:E$58,MATCH($S55,Calculator!$B$55:$B$58,0),0) -> 0 | Y55: =INDEX(Calculator!F$55:F$58,MATCH($S55,Calculator!$B$55:$B$58,0),0) -> 0 | Z55: =INDEX(Calculator!G$55:G$58,MATCH($S55,Calculator!$B$55:$B$58,0),0) -> 0 | AA55: =INDEX(Calculator!H$55:H$58,MATCH($S55,Calculator!$B$55:$B$58,0),0) -> 0 | AB55: =INDEX(Calculator!J$55:J$58,MATCH($S55,Calculator!$B$55:$B$58,0),0) -> 0
B56: 53 | C56: A | D56: =Calculator!EB59 -> 46197.875 | H56: =M5 -> Czechia | M56: =H4 -> Mexico | Q56: Estadio Azteca, Mexico City 🇲🇽 | S56: 4 | T56: =INDEX(Calculator!C$55:C$58,MATCH($S56,Calculator!$B$55:$B$58,0),0) -> Iraq | V56: =SUM(W56:Y56) -> 0 | W56: =INDEX(Calculator!D$55:D$58,MATCH($S56,Calculator!$B$55:$B$58,0),0) -> 0 | X56: =INDEX(Calculator!E$55:E$58,MATCH($S56,Calculator!$B$55:$B$58,0),0) -> 0 | Y56: =INDEX(Calculator!F$55:F$58,MATCH($S56,Calculator!$B$55:$B$58,0),0) -> 0 | Z56: =INDEX(Calculator!G$55:G$58,MATCH($S56,Calculator!$B$55:$B$58,0),0) -> 0 | AA56: =INDEX(Calculator!H$55:H$58,MATCH($S56,Calculator!$B$55:$B$58,0),0) -> 0 | AB56: =INDEX(Calculator!J$55:J$58,MATCH($S56,Calculator!$B$55:$B$58,0),0) -> 0
B57: 54 | C57: A | D57: =Calculator!EB60 -> 46197.875 | H57: =M4 -> South Africa | M57: =H5 -> Korea Republic | Q57: Estadio BBVA, Monterrey 🇲🇽
B58: 55 | C58: E | D58: =Calculator!EB61 -> 46198.667 | H58: =M13 -> Curacao | M58: =H12 -> Cote D'Voire | Q58: Lincoln Financial Field, Philadelphia 🇺🇸 | S58: =INDEX(Language!$A$1:$K$177,MATCH("Group J",Language!$B$1:$B$177,0),MATCH(Setup!$C$5,Language!$A$1:$J$1,0)) -> Group J | V58: P | W58: W | X58: D | Y58: L | Z58: F | AA58: A | AB58: Pt
B59: 56 | C59: E | D59: =Calculator!EB62 -> 46198.667 | H59: =M12 -> Ecuador | M59: =H13 -> Germany | Q59: MetLife Stadium, NY/NJ 🇺🇸 | S59: 1 | T59: =INDEX(Calculator!C$61:C$64,MATCH($S59,Calculator!$B$61:$B$64,0),0) -> Argentina | V59: =SUM(W59:Y59) -> 0 | W59: =INDEX(Calculator!D$61:D$64,MATCH($S59,Calculator!$B$61:$B$64,0),0) -> 0 | X59: =INDEX(Calculator!E$61:E$64,MATCH($S59,Calculator!$B$61:$B$64,0),0) -> 0 | Y59: =INDEX(Calculator!F$61:F$64,MATCH($S59,Calculator!$B$61:$B$64,0),0) -> 0 | Z59: =INDEX(Calculator!G$61:G$64,MATCH($S59,Calculator!$B$61:$B$64,0),0) -> 0 | AA59: =INDEX(Calculator!H$61:H$64,MATCH($S59,Calculator!$B$61:$B$64,0),0) -> 0 | AB59: =INDEX(Calculator!J$61:J$64,MATCH($S59,Calculator!$B$61:$B$64,0),0) -> 0
B60: 57 | C60: F | D60: =Calculator!EB63 -> 46198.792 | H60: =M14 -> Japan | M60: =H15 -> Sweden | Q60: AT&T Stadium, Dallas 🇺🇸 | S60: 2 | T60: =INDEX(Calculator!C$61:C$64,MATCH($S60,Calculator!$B$61:$B$64,0),0) -> Austria | V60: =SUM(W60:Y60) -> 0 | W60: =INDEX(Calculator!D$61:D$64,MATCH($S60,Calculator!$B$61:$B$64,0),0) -> 0 | X60: =INDEX(Calculator!E$61:E$64,MATCH($S60,Calculator!$B$61:$B$64,0),0) -> 0 | Y60: =INDEX(Calculator!F$61:F$64,MATCH($S60,Calculator!$B$61:$B$64,0),0) -> 0 | Z60: =INDEX(Calculator!G$61:G$64,MATCH($S60,Calculator!$B$61:$B$64,0),0) -> 0 | AA60: =INDEX(Calculator!H$61:H$64,MATCH($S60,Calculator!$B$61:$B$64,0),0) -> 0 | AB60: =INDEX(Calculator!J$61:J$64,MATCH($S60,Calculator!$B$61:$B$64,0),0) -> 0
B61: 58 | C61: F | D61: =Calculator!EB64 -> 46198.792 | H61: =M15 -> Tunisia | M61: =H14 -> Netherlands | Q61: Arrowhead Stadium, Kansas City 🇺🇸 | S61: 3 | T61: =INDEX(Calculator!C$61:C$64,MATCH($S61,Calculator!$B$61:$B$64,0),0) -> Algeria | V61: =SUM(W61:Y61) -> 0 | W61: =INDEX(Calculator!D$61:D$64,MATCH($S61,Calculator!$B$61:$B$64,0),0) -> 0 | X61: =INDEX(Calculator!E$61:E$64,MATCH($S61,Calculator!$B$61:$B$64,0),0) -> 0 | Y61: =INDEX(Calculator!F$61:F$64,MATCH($S61,Calculator!$B$61:$B$64,0),0) -> 0 | Z61: =INDEX(Calculator!G$61:G$64,MATCH($S61,Calculator!$B$61:$B$64,0),0) -> 0 | AA61: =INDEX(Calculator!H$61:H$64,MATCH($S61,Calculator!$B$61:$B$64,0),0) -> 0 | AB61: =INDEX(Calculator!J$61:J$64,MATCH($S61,Calculator!$B$61:$B$64,0),0) -> 0
B62: 59 | C62: D | D62: =Calculator!EB65 -> 46198.917 | H62: =M9 -> Türkiye | M62: =H7 -> USA | Q62: SoFi Stadium, Los Angeles 🇺🇸 | S62: 4 | T62: =INDEX(Calculator!C$61:C$64,MATCH($S62,Calculator!$B$61:$B$64,0),0) -> Jordan | V62: =SUM(W62:Y62) -> 0 | W62: =INDEX(Calculator!D$61:D$64,MATCH($S62,Calculator!$B$61:$B$64,0),0) -> 0 | X62: =INDEX(Calculator!E$61:E$64,MATCH($S62,Calculator!$B$61:$B$64,0),0) -> 0 | Y62: =INDEX(Calculator!F$61:F$64,MATCH($S62,Calculator!$B$61:$B$64,0),0) -> 0 | Z62: =INDEX(Calculator!G$61:G$64,MATCH($S62,Calculator!$B$61:$B$64,0),0) -> 0 | AA62: =INDEX(Calculator!H$61:H$64,MATCH($S62,Calculator!$B$61:$B$64,0),0) -> 0 | AB62: =INDEX(Calculator!J$61:J$64,MATCH($S62,Calculator!$B$61:$B$64,0),0) -> 0
B63: 60 | C63: D | D63: =Calculator!EB66 -> 46198.917 | H63: =M7 -> Paraguay | M63: =H9 -> Australia | Q63: Levi’s Stadium, San Francisco 🇺🇸
B64: 61 | C64: I | D64: =Calculator!EB67 -> 46199.625 | H64: =M21 -> Norway | M64: =H20 -> France | Q64: Gillette Stadium, Boston 🇺🇸 | S64: =INDEX(Language!$A$1:$K$177,MATCH("Group K",Language!$B$1:$B$177,0),MATCH(Setup!$C$5,Language!$A$1:$J$1,0)) -> Group K | V64: P | W64: W | X64: D | Y64: L | Z64: F | AA64: A | AB64: Pt
B65: 62 | C65: I | D65: =Calculator!EB68 -> 46199.625 | H65: =M20 -> Senegal | M65: =H21 -> Iraq | Q65: BMO Field, Toronto 🇨🇦 | S65: 1 | T65: =INDEX(Calculator!C$67:C$70,MATCH($S65,Calculator!$B$67:$B$70,0),0) -> Portugal | V65: =SUM(W65:Y65) -> 0 | W65: =INDEX(Calculator!D$67:D$70,MATCH($S65,Calculator!$B$67:$B$70,0),0) -> 0 | X65: =INDEX(Calculator!E$67:E$70,MATCH($S65,Calculator!$B$67:$B$70,0),0) -> 0 | Y65: =INDEX(Calculator!F$67:F$70,MATCH($S65,Calculator!$B$67:$B$70,0),0) -> 0 | Z65: =INDEX(Calculator!G$67:G$70,MATCH($S65,Calculator!$B$67:$B$70,0),0) -> 0 | AA65: =INDEX(Calculator!H$67:H$70,MATCH($S65,Calculator!$B$67:$B$70,0),0) -> 0 | AB65: =INDEX(Calculator!J$67:J$70,MATCH($S65,Calculator!$B$67:$B$70,0),0) -> 0
B66: 63 | C66: G | D66: =Calculator!EB69 -> 46199.958 | H66: =M19 -> Egypt | M66: =H18 -> Iran | Q66: Lumen Field, Seattle 🇺🇸 | S66: 2 | T66: =INDEX(Calculator!C$67:C$70,MATCH($S66,Calculator!$B$67:$B$70,0),0) -> Colombia | V66: =SUM(W66:Y66) -> 0 | W66: =INDEX(Calculator!D$67:D$70,MATCH($S66,Calculator!$B$67:$B$70,0),0) -> 0 | X66: =INDEX(Calculator!E$67:E$70,MATCH($S66,Calculator!$B$67:$B$70,0),0) -> 0 | Y66: =INDEX(Calculator!F$67:F$70,MATCH($S66,Calculator!$B$67:$B$70,0),0) -> 0 | Z66: =INDEX(Calculator!G$67:G$70,MATCH($S66,Calculator!$B$67:$B$70,0),0) -> 0 | AA66: =INDEX(Calculator!H$67:H$70,MATCH($S66,Calculator!$B$67:$B$70,0),0) -> 0 | AB66: =INDEX(Calculator!J$67:J$70,MATCH($S66,Calculator!$B$67:$B$70,0),0) -> 0
B67: 64 | C67: G | D67: =Calculator!EB70 -> 46199.958 | H67: =M18 -> New Zealand | M67: =H19 -> Belgium | Q67: BC Place, Vancouver 🇨🇦 | S67: 3 | T67: =INDEX(Calculator!C$67:C$70,MATCH($S67,Calculator!$B$67:$B$70,0),0) -> DR Congo | V67: =SUM(W67:Y67) -> 0 | W67: =INDEX(Calculator!D$67:D$70,MATCH($S67,Calculator!$B$67:$B$70,0),0) -> 0 | X67: =INDEX(Calculator!E$67:E$70,MATCH($S67,Calculator!$B$67:$B$70,0),0) -> 0 | Y67: =INDEX(Calculator!F$67:F$70,MATCH($S67,Calculator!$B$67:$B$70,0),0) -> 0 | Z67: =INDEX(Calculator!G$67:G$70,MATCH($S67,Calculator!$B$67:$B$70,0),0) -> 0 | AA67: =INDEX(Calculator!H$67:H$70,MATCH($S67,Calculator!$B$67:$B$70,0),0) -> 0 | AB67: =INDEX(Calculator!J$67:J$70,MATCH($S67,Calculator!$B$67:$B$70,0),0) -> 0
B68: 65 | C68: H | D68: =Calculator!EB71 -> 46199.833 | H68: =M17 -> Cabo Verde | M68: =H16 -> Saudi Arabia | Q68: NRG Stadium, Houston 🇺🇸 | S68: 4 | T68: =INDEX(Calculator!C$67:C$70,MATCH($S68,Calculator!$B$67:$B$70,0),0) -> Uzbekistan | V68: =SUM(W68:Y68) -> 0 | W68: =INDEX(Calculator!D$67:D$70,MATCH($S68,Calculator!$B$67:$B$70,0),0) -> 0 | X68: =INDEX(Calculator!E$67:E$70,MATCH($S68,Calculator!$B$67:$B$70,0),0) -> 0 | Y68: =INDEX(Calculator!F$67:F$70,MATCH($S68,Calculator!$B$67:$B$70,0),0) -> 0 | Z68: =INDEX(Calculator!G$67:G$70,MATCH($S68,Calculator!$B$67:$B$70,0),0) -> 0 | AA68: =INDEX(Calculator!H$67:H$70,MATCH($S68,Calculator!$B$67:$B$70,0),0) -> 0 | AB68: =INDEX(Calculator!J$67:J$70,MATCH($S68,Calculator!$B$67:$B$70,0),0) -> 0
B69: 66 | C69: H | D69: =Calculator!EB73 -> 46199.833 | H69: =M16 -> Uruguay | M69: =H17 -> Spain | Q69: Estadio Akron, Guadalajara 🇲🇽
B70: 67 | C70: L | D70: =Calculator!EB74 -> 46200.708 | H70: =M24 -> Panama | M70: =H25 -> England | Q70: MetLife Stadium, NY/NJ 🇺🇸 | S70: =INDEX(Language!$A$1:$K$177,MATCH("Group L",Language!$B$1:$B$177,0),MATCH(Setup!$C$5,Language!$A$1:$J$1,0)) -> Group L | V70: P | W70: W | X70: D | Y70: L | Z70: F | AA70: A | AB70: Pt
B71: 68 | C71: L | D71: =Calculator!EB75 -> 46200.708 | H71: =M25 -> Croatia | M71: =H24 -> Ghana | Q71: Lincoln Financial Field, Philadelphia 🇺🇸 | S71: 1 | T71: =INDEX(Calculator!C$73:C$76,MATCH($S71,Calculator!$B$73:$B$76,0),0) -> England | V71: =SUM(W71:Y71) -> 0 | W71: =INDEX(Calculator!D$73:D$76,MATCH($S71,Calculator!$B$73:$B$76,0),0) -> 0 | X71: =INDEX(Calculator!E$73:E$76,MATCH($S71,Calculator!$B$73:$B$76,0),0) -> 0 | Y71: =INDEX(Calculator!F$73:F$76,MATCH($S71,Calculator!$B$73:$B$76,0),0) -> 0 | Z71: =INDEX(Calculator!G$73:G$76,MATCH($S71,Calculator!$B$73:$B$76,0),0) -> 0 | AA71: =INDEX(Calculator!H$73:H$76,MATCH($S71,Calculator!$B$73:$B$76,0),0) -> 0 | AB71: =INDEX(Calculator!J$73:J$76,MATCH($S71,Calculator!$B$73:$B$76,0),0) -> 0
B72: 69 | C72: J | D72: =Calculator!EB76 -> 46200.917 | H72: =M22 -> Algeria | M72: =H23 -> Austria | Q72: Arrowhead Stadium, Kansas City 🇺🇸 | S72: 2 | T72: =INDEX(Calculator!C$73:C$76,MATCH($S72,Calculator!$B$73:$B$76,0),0) -> Croatia | V72: =SUM(W72:Y72) -> 0 | W72: =INDEX(Calculator!D$73:D$76,MATCH($S72,Calculator!$B$73:$B$76,0),0) -> 0 | X72: =INDEX(Calculator!E$73:E$76,MATCH($S72,Calculator!$B$73:$B$76,0),0) -> 0 | Y72: =INDEX(Calculator!F$73:F$76,MATCH($S72,Calculator!$B$73:$B$76,0),0) -> 0 | Z72: =INDEX(Calculator!G$73:G$76,MATCH($S72,Calculator!$B$73:$B$76,0),0) -> 0 | AA72: =INDEX(Calculator!H$73:H$76,MATCH($S72,Calculator!$B$73:$B$76,0),0) -> 0 | AB72: =INDEX(Calculator!J$73:J$76,MATCH($S72,Calculator!$B$73:$B$76,0),0) -> 0
B73: 70 | C73: J | D73: =Calculator!EB77 -> 46200.917 | H73: =M23 -> Jordan | M73: =H22 -> Argentina | Q73: AT&T Stadium, Dallas 🇺🇸 | S73: 3 | T73: =INDEX(Calculator!C$73:C$76,MATCH($S73,Calculator!$B$73:$B$76,0),0) -> Panama | V73: =SUM(W73:Y73) -> 0 | W73: =INDEX(Calculator!D$73:D$76,MATCH($S73,Calculator!$B$73:$B$76,0),0) -> 0 | X73: =INDEX(Calculator!E$73:E$76,MATCH($S73,Calculator!$B$73:$B$76,0),0) -> 0 | Y73: =INDEX(Calculator!F$73:F$76,MATCH($S73,Calculator!$B$73:$B$76,0),0) -> 0 | Z73: =INDEX(Calculator!G$73:G$76,MATCH($S73,Calculator!$B$73:$B$76,0),0) -> 0 | AA73: =INDEX(Calculator!H$73:H$76,MATCH($S73,Calculator!$B$73:$B$76,0),0) -> 0 | AB73: =INDEX(Calculator!J$73:J$76,MATCH($S73,Calculator!$B$73:$B$76,0),0) -> 0
B74: 71 | C74: K | D74: =Calculator!EB78 -> 46200.812 | H74: =M27 -> Colombia | M74: =H26 -> Portugal | Q74: Hard Rock Stadium, Miami 🇺🇸 | S74: 4 | T74: =INDEX(Calculator!C$73:C$76,MATCH($S74,Calculator!$B$73:$B$76,0),0) -> Ghana | V74: =SUM(W74:Y74) -> 0 | W74: =INDEX(Calculator!D$73:D$76,MATCH($S74,Calculator!$B$73:$B$76,0),0) -> 0 | X74: =INDEX(Calculator!E$73:E$76,MATCH($S74,Calculator!$B$73:$B$76,0),0) -> 0 | Y74: =INDEX(Calculator!F$73:F$76,MATCH($S74,Calculator!$B$73:$B$76,0),0) -> 0 | Z74: =INDEX(Calculator!G$73:G$76,MATCH($S74,Calculator!$B$73:$B$76,0),0) -> 0 | AA74: =INDEX(Calculator!H$73:H$76,MATCH($S74,Calculator!$B$73:$B$76,0),0) -> 0 | AB74: =INDEX(Calculator!J$73:J$76,MATCH($S74,Calculator!$B$73:$B$76,0),0) -> 0
B75: 72 | C75: K | D75: =Calculator!EB79 -> 46200.812 | H75: =M26 -> DR Congo | M75: =H27 -> Uzbekistan | Q75: Mercedes-Benz Stadium, Atlanta 🇺🇸
B76: Knock Out Rounds | O76: PSO | S76: Group A-L 3rd Place Standings
B77: 73 | C77: R32 | D77: =Calculator!EB80 -> 46201.625 | H77: =IF(SUM(V5:V8)=12,T6,INDEX(Language!$A$1:$J$177,MATCH("Group A Runner Up",Language!$B$1:$B$177,0),MATCH(Setup!$C$5,Language!$A$1:$J$1,0))) -> Group A Runner Up | M77: =IF(SUM(V11:V14)=12,T12,INDEX(Language!$A$1:$J$177,MATCH("Group B Runner Up",Language!$B$1:$B$177,0),MATCH(Setup!$C$5,Language!$A$1:$J$1,0))) -> Group B Runner Up | Q77: SoFi Stadium, Los Angeles 🇺🇸 | T77: Country | U77: Gr | V77: P | W77: W | X77: D | Y77: L | Z77: F | AA77: A | AB77: Pt
B78: 74 | D78: =Calculator!EB81 -> 46202.688 | H78: =IF(SUM(V29:V32)=12,T29,INDEX(Language!$A$1:$J$177,MATCH("Group E Winner",Language!$B$1:$B$177,0),MATCH(Setup!$C$5,Language!$A$1:$J$1,0))) -> Group E Winner | M78: =IF(SUM(V$78:V$89)=36,Calculator!E677,INDEX(Language!$A$1:$J$177,MATCH("3rd Group A/B/C/D/F",Language!$B$1:$B$177,0),MATCH(Setup!$C$5,Language!$A$1:$J$1,0))) -> 3rd Group A/B/C/D/F | Q78: Gillette Stadium, Boston 🇺🇸 | S78: 1 | T78: =Calculator!U658 -> Australia | U78: =Calculator!T658 -> D | V78: =SUM(W78:Y78) -> 0 | W78: =INDEX(W$5:W$74,MATCH($T78,$T$5:$T$74,0),0) -> 0 | X78: =INDEX(X$5:X$74,MATCH($T78,$T$5:$T$74,0),0) -> 0 | Y78: =INDEX(Y$5:Y$74,MATCH($T78,$T$5:$T$74,0),0) -> 0 | Z78: =INDEX(Z$5:Z$74,MATCH($T78,$T$5:$T$74,0),0) -> 0 | AA78: =INDEX(AA$5:AA$74,MATCH($T78,$T$5:$T$74,0),0) -> 0 | AB78: =INDEX(AB$5:AB$74,MATCH($T78,$T$5:$T$74,0),0) -> 0
B79: 75 | D79: =Calculator!EB82 -> 46202.875 | H79: =IF(SUM(V35:V38)=12,T35,INDEX(Language!$A$1:$J$177,MATCH("Group F Winner",Language!$B$1:$B$177,0),MATCH(Setup!$C$5,Language!$A$1:$J$1,0))) -> Group F Winner | M79: =IF(SUM(V17:V20)=12,T18,INDEX(Language!$A$1:$J$177,MATCH("Group C Runner Up",Language!$B$1:$B$177,0),MATCH(Setup!$C$5,Language!$A$1:$J$1,0))) -> Group C Runner Up | Q79: Estadio BBVA, Monterrey 🇲🇽 | S79: 2 | T79: =Calculator!U659 -> Algeria | U79: =Calculator!T659 -> J | V79: =SUM(W79:Y79) -> 0 | W79: =INDEX(W$5:W$74,MATCH($T79,$T$5:$T$74,0),0) -> 0 | X79: =INDEX(X$5:X$74,MATCH($T79,$T$5:$T$74,0),0) -> 0 | Y79: =INDEX(Y$5:Y$74,MATCH($T79,$T$5:$T$74,0),0) -> 0 | Z79: =INDEX(Z$5:Z$74,MATCH($T79,$T$5:$T$74,0),0) -> 0 | AA79: =INDEX(AA$5:AA$74,MATCH($T79,$T$5:$T$74,0),0) -> 0 | AB79: =INDEX(AB$5:AB$74,MATCH($T79,$T$5:$T$74,0),0) -> 0
B80: 76 | D80: =Calculator!EB83 -> 46202.542 | H80: =IF(SUM(V17:V20)=12,T17,INDEX(Language!$A$1:$J$177,MATCH("Group C Winner",Language!$B$1:$B$177,0),MATCH(Setup!$C$5,Language!$A$1:$J$1,0))) -> Group C Winner | M80: =IF(SUM(V35:V38)=12,T36,INDEX(Language!$A$1:$J$177,MATCH("Group F Runner Up",Language!$B$1:$B$177,0),MATCH(Setup!$C$5,Language!$A$1:$J$1,0))) -> Group F Runner Up | Q80: NRG Stadium, Houston 🇺🇸 | S80: 3 | T80: =Calculator!U660 -> Egypt | U80: =Calculator!T660 -> G | V80: =SUM(W80:Y80) -> 0 | W80: =INDEX(W$5:W$74,MATCH($T80,$T$5:$T$74,0),0) -> 0 | X80: =INDEX(X$5:X$74,MATCH($T80,$T$5:$T$74,0),0) -> 0 | Y80: =INDEX(Y$5:Y$74,MATCH($T80,$T$5:$T$74,0),0) -> 0 | Z80: =INDEX(Z$5:Z$74,MATCH($T80,$T$5:$T$74,0),0) -> 0 | AA80: =INDEX(AA$5:AA$74,MATCH($T80,$T$5:$T$74,0),0) -> 0 | AB80: =INDEX(AB$5:AB$74,MATCH($T80,$T$5:$T$74,0),0) -> 0
B81: 77 | D81: =Calculator!EB84 -> 46203.708 | H81: =IF(SUM(V53:V56)=12,T53,INDEX(Language!$A$1:$J$177,MATCH("Group I Winner",Language!$B$1:$B$177,0),MATCH(Setup!$C$5,Language!$A$1:$J$1,0))) -> Group I Winner | M81: =IF(SUM(V$78:V$89)=36,Calculator!E681,INDEX(Language!$A$1:$J$177,MATCH("3rd Group C/D/F/G/H",Language!$B$1:$B$177,0),MATCH(Setup!$C$5,Language!$A$1:$J$1,0))) -> 3rd Group C/D/F/G/H | Q81: MetLife Stadium, NY/NJ 🇺🇸 | S81: 4 | T81: =Calculator!U661 -> Norway | U81: =Calculator!T661 -> I | V81: =SUM(W81:Y81) -> 0 | W81: =INDEX(W$5:W$74,MATCH($T81,$T$5:$T$74,0),0) -> 0 | X81: =INDEX(X$5:X$74,MATCH($T81,$T$5:$T$74,0),0) -> 0 | Y81: =INDEX(Y$5:Y$74,MATCH($T81,$T$5:$T$74,0),0) -> 0 | Z81: =INDEX(Z$5:Z$74,MATCH($T81,$T$5:$T$74,0),0) -> 0 | AA81: =INDEX(AA$5:AA$74,MATCH($T81,$T$5:$T$74,0),0) -> 0 | AB81: =INDEX(AB$5:AB$74,MATCH($T81,$T$5:$T$74,0),0) -> 0
B82: 78 | D82: =Calculator!EB85 -> 46203.542 | H82: =IF(SUM(V29:V32)=12,T30,INDEX(Language!$A$1:$J$177,MATCH("Group E Runner Up",Language!$B$1:$B$177,0),MATCH(Setup!$C$5,Language!$A$1:$J$1,0))) -> Group E Runner Up | M82: =IF(SUM(V53:V56)=12,T54,INDEX(Language!$A$1:$J$177,MATCH("Group I Runner Up",Language!$B$1:$B$177,0),MATCH(Setup!$C$5,Language!$A$1:$J$1,0))) -> Group I Runner Up | Q82: AT&T Stadium, Dallas 🇺🇸 | S82: 5 | T82: =Calculator!U662 -> Panama | U82: =Calculator!T662 -> L | V82: =SUM(W82:Y82) -> 0 | W82: =INDEX(W$5:W$74,MATCH($T82,$T$5:$T$74,0),0) -> 0 | X82: =INDEX(X$5:X$74,MATCH($T82,$T$5:$T$74,0),0) -> 0 | Y82: =INDEX(Y$5:Y$74,MATCH($T82,$T$5:$T$74,0),0) -> 0 | Z82: =INDEX(Z$5:Z$74,MATCH($T82,$T$5:$T$74,0),0) -> 0 | AA82: =INDEX(AA$5:AA$74,MATCH($T82,$T$5:$T$74,0),0) -> 0 | AB82: =INDEX(AB$5:AB$74,MATCH($T82,$T$5:$T$74,0),0) -> 0
B83: 79 | D83: =Calculator!EB86 -> 46203.875 | H83: =IF(SUM(V5:V8)=12,T5,INDEX(Language!$A$1:$J$177,MATCH("Group A Winner",Language!$B$1:$B$177,0),MATCH(Setup!$C$5,Language!$A$1:$J$1,0))) -> Group A Winner | M83: =IF(SUM(V$78:V$89)=36,Calculator!E673,INDEX(Language!$A$1:$J$177,MATCH("3rd Group C/E/F/H/I",Language!$B$1:$B$177,0),MATCH(Setup!$C$5,Language!$A$1:$J$1,0))) -> 3rd Group C/E/F/H/I | Q83: Estadio Azteca, Mexico City 🇲🇽 | S83: 6 | T83: =Calculator!U663 -> Cote D'Voire | U83: =Calculator!T663 -> E | V83: =SUM(W83:Y83) -> 0 | W83: =INDEX(W$5:W$74,MATCH($T83,$T$5:$T$74,0),0) -> 0 | X83: =INDEX(X$5:X$74,MATCH($T83,$T$5:$T$74,0),0) -> 0 | Y83: =INDEX(Y$5:Y$74,MATCH($T83,$T$5:$T$74,0),0) -> 0 | Z83: =INDEX(Z$5:Z$74,MATCH($T83,$T$5:$T$74,0),0) -> 0 | AA83: =INDEX(AA$5:AA$74,MATCH($T83,$T$5:$T$74,0),0) -> 0 | AB83: =INDEX(AB$5:AB$74,MATCH($T83,$T$5:$T$74,0),0) -> 0
B84: 80 | D84: =Calculator!EB87 -> 46204.5 | H84: =IF(SUM(V71:V74)=12,T71,INDEX(Language!$A$1:$J$177,MATCH("Group L Winner",Language!$B$1:$B$177,0),MATCH(Setup!$C$5,Language!$A$1:$J$1,0))) -> Group L Winner | M84: =IF(SUM(V$78:V$89)=36,Calculator!E684,INDEX(Language!$A$1:$J$177,MATCH("3rd Group E/H/I/J/K",Language!$B$1:$B$177,0),MATCH(Setup!$C$5,Language!$A$1:$J$1,0))) -> 3rd Group E/H/I/J/K | Q84: Mercedes-Benz Stadium, Atlanta 🇺🇸 | S84: 7 | T84: =Calculator!U664 -> Scotland | U84: =Calculator!T664 -> C | V84: =SUM(W84:Y84) -> 0 | W84: =INDEX(W$5:W$74,MATCH($T84,$T$5:$T$74,0),0) -> 0 | X84: =INDEX(X$5:X$74,MATCH($T84,$T$5:$T$74,0),0) -> 0 | Y84: =INDEX(Y$5:Y$74,MATCH($T84,$T$5:$T$74,0),0) -> 0 | Z84: =INDEX(Z$5:Z$74,MATCH($T84,$T$5:$T$74,0),0) -> 0 | AA84: =INDEX(AA$5:AA$74,MATCH($T84,$T$5:$T$74,0),0) -> 0 | AB84: =INDEX(AB$5:AB$74,MATCH($T84,$T$5:$T$74,0),0) -> 0
B85: 81 | D85: =Calculator!EB88 -> 46204.833 | H85: =IF(SUM(V23:V26)=12,T23,INDEX(Language!$A$1:$J$177,MATCH("Group D Winner",Language!$B$1:$B$177,0),MATCH(Setup!$C$5,Language!$A$1:$J$1,0))) -> Group D Winner | M85: =IF(SUM(V$78:V$89)=36,Calculator!E676,INDEX(Language!$A$1:$J$177,MATCH("3rd Group B/E/F/I/J",Language!$B$1:$B$177,0),MATCH(Setup!$C$5,Language!$A$1:$J$1,0))) -> 3rd Group B/E/F/I/J | Q85: Levi’s Stadium, San Francisco 🇺🇸 | S85: 8 | T85: =Calculator!U665 -> Sweden | U85: =Calculator!T665 -> F | V85: =SUM(W85:Y85) -> 0 | W85: =INDEX(W$5:W$74,MATCH($T85,$T$5:$T$74,0),0) -> 0 | X85: =INDEX(X$5:X$74,MATCH($T85,$T$5:$T$74,0),0) -> 0 | Y85: =INDEX(Y$5:Y$74,MATCH($T85,$T$5:$T$74,0),0) -> 0 | Z85: =INDEX(Z$5:Z$74,MATCH($T85,$T$5:$T$74,0),0) -> 0 | AA85: =INDEX(AA$5:AA$74,MATCH($T85,$T$5:$T$74,0),0) -> 0 | AB85: =INDEX(AB$5:AB$74,MATCH($T85,$T$5:$T$74,0),0) -> 0
B86: 82 | D86: =Calculator!EB89 -> 46204.667 | H86: =IF(SUM(V41:V44)=12,T41,INDEX(Language!$A$1:$J$177,MATCH("Group G Winner",Language!$B$1:$B$177,0),MATCH(Setup!$C$5,Language!$A$1:$J$1,0))) -> Group G Winner | M86: =IF(SUM(V$78:V$89)=36,Calculator!E679,INDEX(Language!$A$1:$J$177,MATCH("3rd Group A/E/H/I/J",Language!$B$1:$B$177,0),MATCH(Setup!$C$5,Language!$A$1:$J$1,0))) -> 3rd Group A/E/H/I/J | Q86: Lumen Field, Seattle 🇺🇸 | S86: 9 | T86: =Calculator!U666 -> Czechia | U86: =Calculator!T666 -> A | V86: =SUM(W86:Y86) -> 0 | W86: =INDEX(W$5:W$74,MATCH($T86,$T$5:$T$74,0),0) -> 0 | X86: =INDEX(X$5:X$74,MATCH($T86,$T$5:$T$74,0),0) -> 0 | Y86: =INDEX(Y$5:Y$74,MATCH($T86,$T$5:$T$74,0),0) -> 0 | Z86: =INDEX(Z$5:Z$74,MATCH($T86,$T$5:$T$74,0),0) -> 0 | AA86: =INDEX(AA$5:AA$74,MATCH($T86,$T$5:$T$74,0),0) -> 0 | AB86: =INDEX(AB$5:AB$74,MATCH($T86,$T$5:$T$74,0),0) -> 0
B87: 83 | D87: =Calculator!EB90 -> 46205.792 | H87: =IF(SUM(V65:V68)=12,T66,INDEX(Language!$A$1:$J$177,MATCH("Group K Runner Up",Language!$B$1:$B$177,0),MATCH(Setup!$C$5,Language!$A$1:$J$1,0))) -> Group K Runner Up | M87: =IF(SUM(V71:V74)=12,T72,INDEX(Language!$A$1:$J$177,MATCH("Group L Runner Up",Language!$B$1:$B$177,0),MATCH(Setup!$C$5,Language!$A$1:$J$1,0))) -> Group L Runner Up | Q87: BMO Field, Toronto 🇨🇦 | S87: 10 | T87: =Calculator!U667 -> DR Congo | U87: =Calculator!T667 -> K | V87: =SUM(W87:Y87) -> 0 | W87: =INDEX(W$5:W$74,MATCH($T87,$T$5:$T$74,0),0) -> 0 | X87: =INDEX(X$5:X$74,MATCH($T87,$T$5:$T$74,0),0) -> 0 | Y87: =INDEX(Y$5:Y$74,MATCH($T87,$T$5:$T$74,0),0) -> 0 | Z87: =INDEX(Z$5:Z$74,MATCH($T87,$T$5:$T$74,0),0) -> 0 | AA87: =INDEX(AA$5:AA$74,MATCH($T87,$T$5:$T$74,0),0) -> 0 | AB87: =INDEX(AB$5:AB$74,MATCH($T87,$T$5:$T$74,0),0) -> 0
B88: 84 | D88: =Calculator!EB91 -> 46205.625 | H88: =IF(SUM(V47:V50)=12,T47,INDEX(Language!$A$1:$J$177,MATCH("Group H Winner",Language!$B$1:$B$177,0),MATCH(Setup!$C$5,Language!$A$1:$J$1,0))) -> Group H Winner | M88: =IF(SUM(V59:V62)=12,T60,INDEX(Language!$A$1:$J$177,MATCH("Group J Runner Up",Language!$B$1:$B$177,0),MATCH(Setup!$C$5,Language!$A$1:$J$1,0))) -> Group J Runner Up | Q88: SoFi Stadium, Los Angeles 🇺🇸 | S88: 11 | T88: =Calculator!U668 -> Qatar | U88: =Calculator!T668 -> B | V88: =SUM(W88:Y88) -> 0 | W88: =INDEX(W$5:W$74,MATCH($T88,$T$5:$T$74,0),0) -> 0 | X88: =INDEX(X$5:X$74,MATCH($T88,$T$5:$T$74,0),0) -> 0 | Y88: =INDEX(Y$5:Y$74,MATCH($T88,$T$5:$T$74,0),0) -> 0 | Z88: =INDEX(Z$5:Z$74,MATCH($T88,$T$5:$T$74,0),0) -> 0 | AA88: =INDEX(AA$5:AA$74,MATCH($T88,$T$5:$T$74,0),0) -> 0 | AB88: =INDEX(AB$5:AB$74,MATCH($T88,$T$5:$T$74,0),0) -> 0
B89: 85 | D89: =Calculator!EB92 -> 46205.958 | H89: =IF(SUM(V11:V14)=12,T11,INDEX(Language!$A$1:$J$177,MATCH("Group B Winner",Language!$B$1:$B$177,0),MATCH(Setup!$C$5,Language!$A$1:$J$1,0))) -> Group B Winner | M89: =IF(SUM(V$78:V$89)=36,Calculator!E674,INDEX(Language!$A$1:$J$177,MATCH("3rd Group E/F/G/I/J",Language!$B$1:$B$177,0),MATCH(Setup!$C$5,Language!$A$1:$J$1,0))) -> 3rd Group E/F/G/I/J | Q89: BC Place, Vancouver 🇨🇦 | S89: 12 | T89: =Calculator!U669 -> Saudi Arabia | U89: =Calculator!T669 -> H | V89: =SUM(W89:Y89) -> 0 | W89: =INDEX(W$5:W$74,MATCH($T89,$T$5:$T$74,0),0) -> 0 | X89: =INDEX(X$5:X$74,MATCH($T89,$T$5:$T$74,0),0) -> 0 | Y89: =INDEX(Y$5:Y$74,MATCH($T89,$T$5:$T$74,0),0) -> 0 | Z89: =INDEX(Z$5:Z$74,MATCH($T89,$T$5:$T$74,0),0) -> 0 | AA89: =INDEX(AA$5:AA$74,MATCH($T89,$T$5:$T$74,0),0) -> 0 | AB89: =INDEX(AB$5:AB$74,MATCH($T89,$T$5:$T$74,0),0) -> 0
B90: 86 | D90: =Calculator!EB93 -> 46206.75 | H90: =IF(SUM(V59:V62)=12,T59,INDEX(Language!$A$1:$J$177,MATCH("Group J Winner",Language!$B$1:$B$177,0),MATCH(Setup!$C$5,Language!$A$1:$J$1,0))) -> Group J Winner | M90: =IF(SUM(V47:V50)=12,T48,INDEX(Language!$A$1:$J$177,MATCH("Group H Runner Up",Language!$B$1:$B$177,0),MATCH(Setup!$C$5,Language!$A$1:$J$1,0))) -> Group H Runner Up | Q90: Hard Rock Stadium, Miami 🇺🇸
B91: 87 | D91: =Calculator!EB94 -> 46206.896 | H91: =IF(SUM(V65:V68)=12,T65,INDEX(Language!$A$1:$J$177,MATCH("Group K Winner",Language!$B$1:$B$177,0),MATCH(Setup!$C$5,Language!$A$1:$J$1,0))) -> Group K Winner | M91: =IF(SUM(V$78:V$89)=36,Calculator!E683,INDEX(Language!$A$1:$J$177,MATCH("3rd Group D/E/I/J/L",Language!$B$1:$B$177,0),MATCH(Setup!$C$5,Language!$A$1:$J$1,0))) -> 3rd Group D/E/I/J/L | Q91: Arrowhead Stadium, Kansas City 🇺🇸 | S91: =UPPER(INDEX(Translation,MATCH("World Cup 2026 Champion",TransRef,0),MATCH(Setup!$C$5,LanguageRef,0))) -> WORLD CUP 2026 CHAMPION
B92: 88 | D92: =Calculator!EB95 -> 46206.583 | H92: =IF(SUM(V23:V26)=12,T24,INDEX(Language!$A$1:$J$177,MATCH("Group D Runner Up",Language!$B$1:$B$177,0),MATCH(Setup!$C$5,Language!$A$1:$J$1,0))) -> Group D Runner Up | M92: =IF(SUM(V41:V44)=12,T42,INDEX(Language!$A$1:$J$177,MATCH("Group G Runner Up",Language!$B$1:$B$177,0),MATCH(Setup!$C$5,Language!$A$1:$J$1,0))) -> Group G Runner Up | Q92: AT&T Stadium, Dallas 🇺🇸
B93: 89 | C93: R16 | D93: =Calculator!EB96 -> 46207.708 | H93: =IF(AND(J78<>"",K78<>""),IF((J78+O78)>(K78+P78),H78,IF((J78+O78)<(K78+P78),M78,INDEX(Language!$A$1:$J$177,MATCH("Match 74 Winner",Language!$B$1:$B$177,0),MATCH(Setup!$C$5,Language!$A$1:$J$1,0)))),INDEX(Language!$A$1:$J$177,MATCH("Match 74 Winner",Language!$B$1:$B$177,0),MATCH(Setup!$C$5,Language!$A$1:$J$1,0))) -> Match 74 Winner | M93: =IF(AND(J81<>"",K81<>""),IF((J81+O81)>(K81+P81),H81,IF((J81+O81)<(K81+P81),M81,INDEX(Language!$A$1:$J$177,MATCH("Match 77 Winner",Language!$B$1:$B$177,0),MATCH(Setup!$C$5,Language!$A$1:$J$1,0)))),INDEX(Language!$A$1:$J$177,MATCH("Match 77 Winner",Language!$B$1:$B$177,0),MATCH(Setup!$C$5,Language!$A$1:$J$1,0))) -> Match 77 Winner | Q93: Lincoln Financial Field, Philadelphia 🇺🇸
B94: 90 | D94: =Calculator!EB97 -> 46207.542 | H94: =IF(AND(J77<>"",K77<>""),IF((J77+O77)>(K77+P77),H77,IF((J77+O77)<(K77+P77),M77,INDEX(Language!$A$1:$J$177,MATCH("Match 73 Winner",Language!$B$1:$B$177,0),MATCH(Setup!$C$5,Language!$A$1:$J$1,0)))),INDEX(Language!$A$1:$J$177,MATCH("Match 73 Winner",Language!$B$1:$B$177,0),MATCH(Setup!$C$5,Language!$A$1:$J$1,0))) -> Match 73 Winner | M94: =IF(AND(J79<>"",K79<>""),IF((J79+O79)>(K79+P79),H79,IF((J79+O79)<(K79+P79),M79,INDEX(Language!$A$1:$J$177,MATCH("Match 75 Winner",Language!$B$1:$B$177,0),MATCH(Setup!$C$5,Language!$A$1:$J$1,0)))),INDEX(Language!$A$1:$J$177,MATCH("Match 75 Winner",Language!$B$1:$B$177,0),MATCH(Setup!$C$5,Language!$A$1:$J$1,0))) -> Match 75 Winner | Q94: NRG Stadium, Houston 🇺🇸
B95: 91 | D95: =Calculator!EB98 -> 46208.667 | H95: =IF(AND(J80<>"",K80<>""),IF((J80+O80)>(K80+P80),H80,IF((J80+O80)<(K80+P80),M80,INDEX(Language!$A$1:$J$177,MATCH("Match 76 Winner",Language!$B$1:$B$177,0),MATCH(Setup!$C$5,Language!$A$1:$J$1,0)))),INDEX(Language!$A$1:$J$177,MATCH("Match 76 Winner",Language!$B$1:$B$177,0),MATCH(Setup!$C$5,Language!$A$1:$J$1,0))) -> Match 76 Winner | M95: =IF(AND(J82<>"",K82<>""),IF((J82+O82)>(K82+P82),H82,IF((J82+O82)<(K82+P82),M82,INDEX(Language!$A$1:$J$177,MATCH("Match 78 Winner",Language!$B$1:$B$177,0),MATCH(Setup!$C$5,Language!$A$1:$J$1,0)))),INDEX(Language!$A$1:$J$177,MATCH("Match 78 Winner",Language!$B$1:$B$177,0),MATCH(Setup!$C$5,Language!$A$1:$J$1,0))) -> Match 78 Winner | Q95: MetLife Stadium, NY/NJ 🇺🇸 | S95: =IF(AND(J108<>"",K108<>""),IF((J108+O108)>(K108+P108),H108,IF((J108+O108)<(K108+P108),M108,INDEX(Language!$A$1:$J$177,MATCH("Match 104 Winner",Language!$B$1:$B$177,0),MATCH(Setup!$C$5,Language!$A$1:$J$1,0)))),INDEX(Language!$A$1:$J$177,MATCH("Match 104 Winner",Language!$B$1:$B$177,0),MATCH(Setup!$C$5,Language!$A$1:$J$1,0))) -> Match 104 Winner
B96: 92 | D96: =Calculator!EB99 -> 46208.833 | H96: =IF(AND(J83<>"",K83<>""),IF((J83+O83)>(K83+P83),H83,IF((J83+O83)<(K83+P83),M83,INDEX(Language!$A$1:$J$177,MATCH("Match 79 Winner",Language!$B$1:$B$177,0),MATCH(Setup!$C$5,Language!$A$1:$J$1,0)))),INDEX(Language!$A$1:$J$177,MATCH("Match 79 Winner",Language!$B$1:$B$177,0),MATCH(Setup!$C$5,Language!$A$1:$J$1,0))) -> Match 79 Winner | M96: =IF(AND(J84<>"",K84<>""),IF((J84+O84)>(K84+P84),H84,IF((J84+O84)<(K84+P84),M84,INDEX(Language!$A$1:$J$177,MATCH("Match 80 Winner",Language!$B$1:$B$177,0),MATCH(Setup!$C$5,Language!$A$1:$J$1,0)))),INDEX(Language!$A$1:$J$177,MATCH("Match 80 Winner",Language!$B$1:$B$177,0),MATCH(Setup!$C$5,Language!$A$1:$J$1,0))) -> Match 80 Winner | Q96: Estadio Azteca, Mexico City 🇲🇽
B97: 93 | D97: =Calculator!EB100 -> 46209.625 | H97: =IF(AND(J87<>"",K87<>""),IF((J87+O87)>(K87+P87),H87,IF((J87+O87)<(K87+P87),M87,INDEX(Language!$A$1:$J$177,MATCH("Match 83 Winner",Language!$B$1:$B$177,0),MATCH(Setup!$C$5,Language!$A$1:$J$1,0)))),INDEX(Language!$A$1:$J$177,MATCH("Match 83 Winner",Language!$B$1:$B$177,0),MATCH(Setup!$C$5,Language!$A$1:$J$1,0))) -> Match 83 Winner | M97: =IF(AND(J88<>"",K88<>""),IF((J88+O88)>(K88+P88),H88,IF((J88+O88)<(K88+P88),M88,INDEX(Language!$A$1:$J$177,MATCH("Match 84 Winner",Language!$B$1:$B$177,0),MATCH(Setup!$C$5,Language!$A$1:$J$1,0)))),INDEX(Language!$A$1:$J$177,MATCH("Match 84 Winner",Language!$B$1:$B$177,0),MATCH(Setup!$C$5,Language!$A$1:$J$1,0))) -> Match 84 Winner | Q97: AT&T Stadium, Dallas 🇺🇸
B98: 94 | D98: =Calculator!EB101 -> 46209.833 | H98: =IF(AND(J85<>"",K85<>""),IF((J85+O85)>(K85+P85),H85,IF((J85+O85)<(K85+P85),M85,INDEX(Language!$A$1:$J$177,MATCH("Match 81 Winner",Language!$B$1:$B$177,0),MATCH(Setup!$C$5,Language!$A$1:$J$1,0)))),INDEX(Language!$A$1:$J$177,MATCH("Match 81 Winner",Language!$B$1:$B$177,0),MATCH(Setup!$C$5,Language!$A$1:$J$1,0))) -> Match 81 Winner | M98: =IF(AND(J86<>"",K86<>""),IF((J86+O86)>(K86+P86),H86,IF((J86+O86)<(K86+P86),M86,INDEX(Language!$A$1:$J$177,MATCH("Match 82 Winner",Language!$B$1:$B$177,0),MATCH(Setup!$C$5,Language!$A$1:$J$1,0)))),INDEX(Language!$A$1:$J$177,MATCH("Match 82 Winner",Language!$B$1:$B$177,0),MATCH(Setup!$C$5,Language!$A$1:$J$1,0))) -> Match 82 Winner | Q98: Lumen Field, Seattle 🇺🇸
B99: 95 | D99: =Calculator!EB102 -> 46210.5 | H99: =IF(AND(J90<>"",K90<>""),IF((J90+O90)>(K90+P90),H90,IF((J90+O90)<(K90+P90),M90,INDEX(Language!$A$1:$J$177,MATCH("Match 86 Winner",Language!$B$1:$B$177,0),MATCH(Setup!$C$5,Language!$A$1:$J$1,0)))),INDEX(Language!$A$1:$J$177,MATCH("Match 86 Winner",Language!$B$1:$B$177,0),MATCH(Setup!$C$5,Language!$A$1:$J$1,0))) -> Match 86 Winner | M99: =IF(AND(J92<>"",K92<>""),IF((J92+O92)>(K92+P92),H92,IF((J92+O92)<(K92+P92),M92,INDEX(Language!$A$1:$J$177,MATCH("Match 88 Winner",Language!$B$1:$B$177,0),MATCH(Setup!$C$5,Language!$A$1:$J$1,0)))),INDEX(Language!$A$1:$J$177,MATCH("Match 88 Winner",Language!$B$1:$B$177,0),MATCH(Setup!$C$5,Language!$A$1:$J$1,0))) -> Match 88 Winner | Q99: Mercedes-Benz Stadium, Atlanta 🇺🇸
B100: 96 | D100: =Calculator!EB103 -> 46210.667 | H100: =IF(AND(J89<>"",K89<>""),IF((J89+O89)>(K89+P89),H89,IF((J89+O89)<(K89+P89),M89,INDEX(Language!$A$1:$J$177,MATCH("Match 85 Winner",Language!$B$1:$B$177,0),MATCH(Setup!$C$5,Language!$A$1:$J$1,0)))),INDEX(Language!$A$1:$J$177,MATCH("Match 85 Winner",Language!$B$1:$B$177,0),MATCH(Setup!$C$5,Language!$A$1:$J$1,0))) -> Match 85 Winner | M100: =IF(AND(J91<>"",K91<>""),IF((J91+O91)>(K91+P91),H91,IF((J91+O91)<(K91+P91),M91,INDEX(Language!$A$1:$J$177,MATCH("Match 87 Winner",Language!$B$1:$B$177,0),MATCH(Setup!$C$5,Language!$A$1:$J$1,0)))),INDEX(Language!$A$1:$J$177,MATCH("Match 87 Winner",Language!$B$1:$B$177,0),MATCH(Setup!$C$5,Language!$A$1:$J$1,0))) -> Match 87 Winner | Q100: BC Place, Vancouver 🇨🇦 | S100: =INDEX(Translation,MATCH("Second Place",TransRef,0),MATCH(Setup!$C$5,LanguageRef,0)) -> Second place
B101: 97 | C101: QF | D101: =Calculator!EB104 -> 46212.667 | H101: =IF(AND(J93<>"",K93<>""),IF((J93+O93)>(K93+P93),H93,IF((J93+O93)<(K93+P93),M93,INDEX(Language!$A$1:$J$177,MATCH("Match 89 Winner",Language!$B$1:$B$177,0),MATCH(Setup!$C$5,Language!$A$1:$J$1,0)))),INDEX(Language!$A$1:$J$177,MATCH("Match 89 Winner",Language!$B$1:$B$177,0),MATCH(Setup!$C$5,Language!$A$1:$J$1,0))) -> Match 89 Winner | M101: =IF(AND(J94<>"",K94<>""),IF((J94+O94)>(K94+P94),H94,IF((J94+O94)<(K94+P94),M94,INDEX(Language!$A$1:$J$177,MATCH("Match 90 Winner",Language!$B$1:$B$177,0),MATCH(Setup!$C$5,Language!$A$1:$J$1,0)))),INDEX(Language!$A$1:$J$177,MATCH("Match 90 Winner",Language!$B$1:$B$177,0),MATCH(Setup!$C$5,Language!$A$1:$J$1,0))) -> Match 90 Winner | Q101: Gillette Stadium, Boston 🇺🇸
...

Sheet Calculator
AH1: Rule
V2: table rank 1 | AH2: 1 | AI2: 2 | AJ2: 3 | AK2: 5 | AL2: 6 | AM2: 9 | AP2: table rank 2 | BJ2: table rank 3 | CD2: table rank 4 | DA2: =INDEX(Matches!D4:D109,MATCH(105,Matches!B4:B109,0),0) -> 0 | DB2: GS | DC2: GA
D3: W | E3: D | F3: L | G3: GS | H3: GA | I3: Diff | J3: Points | K3: Rank | L3: rankall points | N3: rerank | Q3: rank 1 | R3: rank 2 | S3: rank 3 | T3: rank 4 | V3: Team | W3: W | X3: D | Y3: L | Z3: GS | AA3: GA | AB3: Diff | AC3: P | AD3: Sdif | AE3: SGS | AF3: Koef | AG3: Pts | AH3: R | AI3: GD | AJ3: GS | AK3: Sdiff | AL3: SGS | AM3: Koef | AN3: FR | AP3: Team | AQ3: W | AR3: D | AS3: L | AT3: GS | AU3: GA | AV3: Diff | AW3: P | AX3: Sdif | AY3: SGS | AZ3: Koef | BA3: Pts | BB3: R | BC3: GD | BD3: GS | BE3: Sdiff | BF3: SGS | BG3: Koef | BH3: FR | BJ3: Team | BK3: W | BL3: D | BM3: L | BN3: GS | BO3: GA | BP3: Diff | BQ3: P | BR3: Sdif | BS3: SGS | BT3: Koef | BU3: Pts | BV3: R | BW3: GD | BX3: GS | BY3: Sdif | BZ3: SGS | CA3: Koef | CB3: FR | CD3: Team | CE3: W | CF3: D | CG3: L | CH3: GS | CI3: GA | CJ3: Diff | CK3: P | CL3: Sdif | CM3: SGS | CN3: Koef | CO3: Pts | CP3: R | CQ3: GD | CR3: GS | CS3: Sdif | CT3: SGS | CU3: Koef | CV3: FR | CZ3: 1 | DA3: =Matches!H4 -> Mexico | DB3: =IF($DA$2<>"",IF(AND(Matches!J4<>"",Matches!K4<>""),Matches!J4,0),"") -> 0 | DC3: =IF($DA$2<>"",IF(AND(Matches!J4<>"",Matches!K4<>""),Matches!K4,0),"") -> 0 | DD3: =Matches!M4 -> South Africa | DE3: =IF(AND(Matches!J4<>"",Matches!K4<>""),IF(DB3>DC3,"W",IF(DB3=DC3,"D","L")),"") | DF3: =IF(DE3<>"",IF(DE3="W","L",IF(DE3="L","W","D")),"")
A4: =Setup!F8+100 -> 116 | B4: =VLOOKUP(C4,CX$4:CY$8,2,FALSE) -> 1 | C4: =EE7 -> Mexico | D4: =SUMPRODUCT((DA$3:DA$105=C4)*(DE$3:DE$105="W"))+SUMPRODUCT((DD$3:DD$105=C4)*(DF$3:DF$105="W")) -> 0 | E4: =SUMPRODUCT((DA$3:DA$105=C4)*(DE$3:DE$105="D"))+SUMPRODUCT((DD$3:DD$105=C4)*(DF$3:DF$105="D")) -> 0 | F4: =SUMPRODUCT((DA$3:DA$105=C4)*(DE$3:DE$105="L"))+SUMPRODUCT((DD$3:DD$105=C4)*(DF$3:DF$105="L")) -> 0 | G4: =SUMIF(DA3:DA123,C4,DB3:DB123)+SUMIF(DD3:DD123,C4,DC3:DC123) -> 0 | H4: =SUMIF(DD3:DD123,C4,DB3:DB123)+SUMIF(DA3:DA123,C4,DC3:DC123) -> 0 | I4: =G4-H4+1000 -> 1000 | J4: =D4*3+E4*1 -> 0 | K4: =IF(Setup!G8<>"",Setup!G8,-A4) -> -116 | L4: =IF(COUNTIF(J4:J8,4)<>4,RANK(J4,J4:J8),J83) -> 1 | N4: =SUMPRODUCT((L4:L7=L4)*(K4:K7<K4))+L4 -> 4 | O4: =INDEX(C4:C8,MATCH(1,N4:N8,0),0) -> South Africa | P4: =INDEX(L4:L8,MATCH(O4,C4:C8,0),0) -> 1 | Q4: =IF(P5=1,O4,"") -> South Africa | R4: =IF(P6=2,O5,"") | S4: =IF(P7=3,O6,"") | T4: =IF(P8=4,O7,"") | V4: =IF(Q4<>"",Q4,"") -> South Africa | W4: =SUMPRODUCT((DA$3:DA$105=V4)*(DD$3:DD$105=V5)*(DE$3:DE$105="W"))+SUMPRODUCT((DA$3:DA$105=V4)*(DD$3:DD$105=V6)*(DE$3:DE$105="W"))+SUMPRODUCT((DA$3:DA$105=V4)*(DD$3:DD$105=V7)*(DE$3:DE$105="W"))+SUMPRODUCT((DA$3:DA$105=V4)*(DD$3:DD$105=V8)*(DE$3:DE$105="W"))+SUMPRODUCT((DA$3:DA$105=V5)*(DD$3:DD$105=V4)*(DF$3:DF$105="W"))+SUMPRODUCT((DA$3:DA$105=V6)*(DD$3:DD$105=V4)*(DF$3:DF$105="W"))+SUMPRODUCT((DA$3:DA$105=V7)*(DD$3:DD$105=V4)*(DF$3:DF$105="W"))+SUMPRODUCT((DA$3:DA$105=V8)*(DD$3:DD$105=V4)*(DF$3:DF$105="W")) -> 0 | X4: =SUMPRODUCT((DA$3:DA$105=V4)*(DD$3:DD$105=V5)*(DE$3:DE$105="D"))+SUMPRODUCT((DA$3:DA$105=V4)*(DD$3:DD$105=V6)*(DE$3:DE$105="D"))+SUMPRODUCT((DA$3:DA$105=V4)*(DD$3:DD$105=V7)*(DE$3:DE$105="D"))+SUMPRODUCT((DA$3:DA$105=V4)*(DD$3:DD$105=V8)*(DE$3:DE$105="D"))+SUMPRODUCT((DA$3:DA$105=V5)*(DD$3:DD$105=V4)*(DE$3:DE$105="D"))+SUMPRODUCT((DA$3:DA$105=V6)*(DD$3:DD$105=V4)*(DE$3:DE$105="D"))+SUMPRODUCT((DA$3:DA$105=V7)*(DD$3:DD$105=V4)*(DE$3:DE$105="D"))+SUMPRODUCT((DA$3:DA$105=V8)*(DD$3:DD$105=V4)*(DE$3:DE$105="D")) -> 0 | Y4: =SUMPRODUCT((DA$3:DA$105=V4)*(DD$3:DD$105=V5)*(DE$3:DE$105="L"))+SUMPRODUCT((DA$3:DA$105=V4)*(DD$3:DD$105=V6)*(DE$3:DE$105="L"))+SUMPRODUCT((DA$3:DA$105=V4)*(DD$3:DD$105=V7)*(DE$3:DE$105="L"))+SUMPRODUCT((DA$3:DA$105=V4)*(DD$3:DD$105=V8)*(DE$3:DE$105="L"))+SUMPRODUCT((DA$3:DA$105=V5)*(DD$3:DD$105=V4)*(DF$3:DF$105="L"))+SUMPRODUCT((DA$3:DA$105=V6)*(DD$3:DD$105=V4)*(DF$3:DF$105="L"))+SUMPRODUCT((DA$3:DA$105=V7)*(DD$3:DD$105=V4)*(DF$3:DF$105="L"))+SUMPRODUCT((DA$3:DA$105=V8)*(DD$3:DD$105=V4)*(DF$3:DF$105="L")) -> 0 | Z4: =SUMPRODUCT((DA$3:DA$105=V4)*(DD$3:DD$105=V5)*DB$3:DB$105)+SUMPRODUCT((DA$3:DA$105=V4)*(DD$3:DD$105=V6)*DB$3:DB$105)+SUMPRODUCT((DA$3:DA$105=V4)*(DD$3:DD$105=V7)*DB$3:DB$105)+SUMPRODUCT((DA$3:DA$105=V4)*(DD$3:DD$105=V8)*DB$3:DB$105)+SUMPRODUCT((DA$3:DA$105=V5)*(DD$3:DD$105=V4)*DC$3:DC$105)+SUMPRODUCT((DA$3:DA$105=V6)*(DD$3:DD$105=V4)*DC$3:DC$105)+SUMPRODUCT((DA$3:DA$105=V7)*(DD$3:DD$105=V4)*DC$3:DC$105)+SUMPRODUCT((DA$3:DA$105=V8)*(DD$3:DD$105=V4)*DC$3:DC$105) -> 0 | AA4: =SUMPRODUCT((DA$3:DA$105=V4)*(DD$3:DD$105=V5)*DC$3:DC$105)+SUMPRODUCT((DA$3:DA$105=V4)*(DD$3:DD$105=V6)*DC$3:DC$105)+SUMPRODUCT((DA$3:DA$105=V4)*(DD$3:DD$105=V7)*DC$3:DC$105)+SUMPRODUCT((DA$3:DA$105=V4)*(DD$3:DD$105=V8)*DC$3:DC$105)+SUMPRODUCT((DA$3:DA$105=V5)*(DD$3:DD$105=V4)*DB$3:DB$105)+SUMPRODUCT((DA$3:DA$105=V6)*(DD$3:DD$105=V4)*DB$3:DB$105)+SUMPRODUCT((DA$3:DA$105=V7)*(DD$3:DD$105=V4)*DB$3:DB$105)+SUMPRODUCT((DA$3:DA$105=V8)*(DD$3:DD$105=V4)*DB$3:DB$105) -> 0 | AB4: =Z4-AA4+1000 -> 1000 | AC4: =IF(V4<>"",W4*3+X4*1,"") -> 0 | AD4: =IF(V4<>"",VLOOKUP(V4,C$4:I$52,7,FALSE),"") -> 1000 | AE4: =IF(V4<>"",VLOOKUP(V4,C$4:I$52,5,FALSE),"") -> 0 | AF4: =IF(V4<>"",VLOOKUP(V4,C$4:K$52,9,FALSE),"") -> -160 | AG4: =AC4 -> 0 | AH4: =IF(V4<>"",RANK(AG4,AG4:AG8),"") -> 1 | AI4: =IF(V4<>"",SUMPRODUCT((AG4:AG8=AG4)*(AB4:AB8>AB4)),"") -> 0 | AJ4: =IF(V4<>"",SUMPRODUCT((AG4:AG8=AG4)*(AB4:AB8=AB4)*(Z4:Z8>Z4)),"") -> 0 | AK4: =IF(V4<>"",SUMPRODUCT((AG4:AG8=AG4)*(AB4:AB8=AB4)*(Z4:Z8=Z4)*(AD4:AD8>AD4)),"") -> 0 | AL4: =IF(V4<>"",SUMPRODUCT((AG4:AG8=AG4)*(AB4:AB8=AB4)*(Z4:Z8=Z4)*(AD4:AD8=AD4)*(AE4:AE8>AE4)),"") -> 0 | AM4: =IF(V4<>"",SUMPRODUCT((AG4:AG8=AG4)*(AB4:AB8=AB4)*(Z4:Z8=Z4)*(AD4:AD8=AD4)*(AE4:AE8=AE4)*(AF4:AF8>AF4)),"") -> 3 | AN4: =IF(V4<>"",IF(AN83<>"",IF(U82=3,AN83,AN83+U82),SUM(AH4:AM4)),"") -> 4 | AO4: =IF(V4<>"",INDEX(V4:V8,MATCH(1,AN4:AN8,0),0),"") -> Mexico | CX4: =IF(AO4<>"",AO4,O4) -> Mexico | CY4: 1 | CZ4: 2 | DA4: =Matches!H5 -> Korea Republic | DB4: =IF($DA$2<>"",IF(AND(Matches!J5<>"",Matches!K5<>""),Matches!J5,0),"") -> 0 | DC4: =IF($DA$2<>"",IF(AND(Matches!J5<>"",Matches!K5<>""),Matches!K5,0),"") -> 0 | DD4: =Matches!M5 -> Czechia | DE4: =IF(AND(Matches!J5<>"",Matches!K5<>""),IF(DB4>DC4,"W",IF(DB4=DC4,"D","L")),"") | DF4: =IF(DE4<>"",IF(DE4="W","L",IF(DE4="L","W","D")),"")
A5: =Setup!F9+100 -> 160 | B5: =VLOOKUP(C5,CX$4:CY$8,2,FALSE) -> 4 | C5: =EE8 -> South Africa | D5: =SUMPRODUCT((DA$3:DA$105=C5)*(DE$3:DE$105="W"))+SUMPRODUCT((DD$3:DD$105=C5)*(DF$3:DF$105="W")) -> 0 | E5: =SUMPRODUCT((DA$3:DA$105=C5)*(DE$3:DE$105="D"))+SUMPRODUCT((DD$3:DD$105=C5)*(DF$3:DF$105="D")) -> 0 | F5: =SUMPRODUCT((DA$3:DA$105=C5)*(DE$3:DE$105="L"))+SUMPRODUCT((DD$3:DD$105=C5)*(DF$3:DF$105="L")) -> 0 | G5: =SUMIF(DA3:DA123,C5,DB3:DB123)+SUMIF(DD3:DD123,C5,DC3:DC123) -> 0 | H5: =SUMIF(DD3:DD123,C5,DB3:DB123)+SUMIF(DA3:DA123,C5,DC3:DC123) -> 0 | I5: =G5-H5+1000 -> 1000 | J5: =D5*3+E5*1 -> 0 | K5: =IF(Setup!G9<>"",Setup!G9,-A5) -> -160 | L5: =IF(COUNTIF(J4:J8,4)<>4,RANK(J5,J4:J8),J84) -> 1 | N5: =SUMPRODUCT((L4:L7=L5)*(K4:K7<K5))+L5 -> 1 | O5: =INDEX(C4:C8,MATCH(2,N4:N8,0),0) -> Czechia | P5: =INDEX(L4:L8,MATCH(O5,C4:C8,0),0) -> 1 | Q5: =IF(Q4<>"",O5,"") -> Czechia | R5: =IF(R4<>"",O6,"") | S5: =IF(S4<>"",O7,"") | T5: =IF(T4<>"",O8,"") | V5: =IF(Q5<>"",Q5,"") -> Czechia | W5: =SUMPRODUCT((DA$3:DA$105=V5)*(DD$3:DD$105=V6)*(DE$3:DE$105="W"))+SUMPRODUCT((DA$3:DA$105=V5)*(DD$3:DD$105=V7)*(DE$3:DE$105="W"))+SUMPRODUCT((DA$3:DA$105=V5)*(DD$3:DD$105=V8)*(DE$3:DE$105="W"))+SUMPRODUCT((DA$3:DA$105=V5)*(DD$3:DD$105=V4)*(DE$3:DE$105="W"))+SUMPRODUCT((DA$3:DA$105=V6)*(DD$3:DD$105=V5)*(DF$3:DF$105="W"))+SUMPRODUCT((DA$3:DA$105=V7)*(DD$3:DD$105=V5)*(DF$3:DF$105="W"))+SUMPRODUCT((DA$3:DA$105=V8)*(DD$3:DD$105=V5)*(DF$3:DF$105="W"))+SUMPRODUCT((DA$3:DA$105=V4)*(DD$3:DD$105=V5)*(DF$3:DF$105="W")) -> 0 | X5: =SUMPRODUCT((DA$3:DA$105=V5)*(DD$3:DD$105=V6)*(DE$3:DE$105="D"))+SUMPRODUCT((DA$3:DA$105=V5)*(DD$3:DD$105=V7)*(DE$3:DE$105="D"))+SUMPRODUCT((DA$3:DA$105=V5)*(DD$3:DD$105=V8)*(DE$3:DE$105="D"))+SUMPRODUCT((DA$3:DA$105=V5)*(DD$3:DD$105=V4)*(DE$3:DE$105="D"))+SUMPRODUCT((DA$3:DA$105=V6)*(DD$3:DD$105=V5)*(DE$3:DE$105="D"))+SUMPRODUCT((DA$3:DA$105=V7)*(DD$3:DD$105=V5)*(DE$3:DE$105="D"))+SUMPRODUCT((DA$3:DA$105=V8)*(DD$3:DD$105=V5)*(DE$3:DE$105="D"))+SUMPRODUCT((DA$3:DA$105=V4)*(DD$3:DD$105=V5)*(DE$3:DE$105="D")) -> 0 | Y5: =SUMPRODUCT((DA$3:DA$105=V5)*(DD$3:DD$105=V6)*(DE$3:DE$105="L"))+SUMPRODUCT((DA$3:DA$105=V5)*(DD$3:DD$105=V7)*(DE$3:DE$105="L"))+SUMPRODUCT((DA$3:DA$105=V5)*(DD$3:DD$105=V8)*(DE$3:DE$105="L"))+SUMPRODUCT((DA$3:DA$105=V5)*(DD$3:DD$105=V4)*(DE$3:DE$105="L"))+SUMPRODUCT((DA$3:DA$105=V6)*(DD$3:DD$105=V5)*(DF$3:DF$105="L"))+SUMPRODUCT((DA$3:DA$105=V7)*(DD$3:DD$105=V5)*(DF$3:DF$105="L"))+SUMPRODUCT((DA$3:DA$105=V8)*(DD$3:DD$105=V5)*(DF$3:DF$105="L"))+SUMPRODUCT((DA$3:DA$105=V4)*(DD$3:DD$105=V5)*(DF$3:DF$105="L")) -> 0 | Z5: =SUMPRODUCT((DA$3:DA$105=V5)*(DD$3:DD$105=V6)*DB$3:DB$105)+SUMPRODUCT((DA$3:DA$105=V5)*(DD$3:DD$105=V7)*DB$3:DB$105)+SUMPRODUCT((DA$3:DA$105=V5)*(DD$3:DD$105=V8)*DB$3:DB$105)+SUMPRODUCT((DA$3:DA$105=V5)*(DD$3:DD$105=V4)*DB$3:DB$105)+SUMPRODUCT((DA$3:DA$105=V6)*(DD$3:DD$105=V5)*DC$3:DC$105)+SUMPRODUCT((DA$3:DA$105=V7)*(DD$3:DD$105=V5)*DC$3:DC$105)+SUMPRODUCT((DA$3:DA$105=V8)*(DD$3:DD$105=V5)*DC$3:DC$105)+SUMPRODUCT((DA$3:DA$105=V4)*(DD$3:DD$105=V5)*DC$3:DC$105) -> 0 | AA5: =SUMPRODUCT((DA$3:DA$105=V5)*(DD$3:DD$105=V6)*DC$3:DC$105)+SUMPRODUCT((DA$3:DA$105=V5)*(DD$3:DD$105=V7)*DC$3:DC$105)+SUMPRODUCT((DA$3:DA$105=V5)*(DD$3:DD$105=V8)*DC$3:DC$105)+SUMPRODUCT((DA$3:DA$105=V5)*(DD$3:DD$105=V4)*DC$3:DC$105)+SUMPRODUCT((DA$3:DA$105=V6)*(DD$3:DD$105=V5)*DB$3:DB$105)+SUMPRODUCT((DA$3:DA$105=V7)*(DD$3:DD$105=V5)*DB$3:DB$105)+SUMPRODUCT((DA$3:DA$105=V8)*(DD$3:DD$105=V5)*DB$3:DB$105)+SUMPRODUCT((DA$3:DA$105=V4)*(DD$3:DD$105=V5)*DB$3:DB$105) -> 0 | AB5: =Z5-AA5+1000 -> 1000 | AC5: =IF(V5<>"",W5*3+X5*1,"") -> 0 | AD5: =IF(V5<>"",VLOOKUP(V5,C$4:I$52,7,FALSE),"") -> 1000 | AE5: =IF(V5<>"",VLOOKUP(V5,C$4:I$52,5,FALSE),"") -> 0 | AF5: =IF(V5<>"",VLOOKUP(V5,C$4:K$52,9,FALSE),"") -> -143 | AG5: =AC5 -> 0 | AH5: =IF(V5<>"",RANK(AG5,AG4:AG8),"") -> 1 | AI5: =IF(V5<>"",SUMPRODUCT((AG4:AG8=AG5)*(AB4:AB8>AB5)),"") -> 0 | AJ5: =IF(V5<>"",SUMPRODUCT((AG4:AG8=AG5)*(AB4:AB8=AB5)*(Z4:Z8>Z5)),"") -> 0 | AK5: =IF(V5<>"",SUMPRODUCT((AG4:AG8=AG5)*(AB4:AB8=AB5)*(Z4:Z8=Z5)*(AD4:AD8>AD5)),"") -> 0 | AL5: =IF(V5<>"",SUMPRODUCT((AG4:AG8=AG5)*(AB4:AB8=AB5)*(Z4:Z8=Z5)*(AD4:AD8=AD5)*(AE4:AE8>AE5)),"") -> 0 | AM5: =IF(V5<>"",SUMPRODUCT((AG4:AG8=AG5)*(AB4:AB8=AB5)*(Z4:Z8=Z5)*(AD4:AD8=AD5)*(AE4:AE8=AE5)*(AF4:AF8>AF5)),"") -> 2 | AN5: =IF(V5<>"",IF(AN84<>"",IF(U82=3,AN84,AN84+U82),SUM(AH5:AM5)),"") -> 3 | AO5: =IF(V5<>"",INDEX(V4:V8,MATCH(2,AN4:AN8,0),0),"") -> Korea Republic | AP5: =IF(R4<>"",R4,"") | AQ5: =SUMPRODUCT((DA$3:DA$105=AP5)*(DD$3:DD$105=AP6)*(DE$3:DE$105="W"))+SUMPRODUCT((DA$3:DA$105=AP5)*(DD$3:DD$105=AP7)*(DE$3:DE$105="W"))+SUMPRODUCT((DA$3:DA$105=AP5)*(DD$3:DD$105=AP8)*(DE$3:DE$105="W"))+SUMPRODUCT((DA$3:DA$105=AP6)*(DD$3:DD$105=AP5)*(DF$3:DF$105="W"))+SUMPRODUCT((DA$3:DA$105=AP7)*(DD$3:DD$105=AP5)*(DF$3:DF$105="W"))+SUMPRODUCT((DA$3:DA$105=AP8)*(DD$3:DD$105=AP5)*(DF$3:DF$105="W")) -> 0 | AR5: =SUMPRODUCT((DA$3:DA$105=AP5)*(DD$3:DD$105=AP6)*(DE$3:DE$105="D"))+SUMPRODUCT((DA$3:DA$105=AP5)*(DD$3:DD$105=AP7)*(DE$3:DE$105="D"))+SUMPRODUCT((DA$3:DA$105=AP5)*(DD$3:DD$105=AP8)*(DE$3:DE$105="D"))+SUMPRODUCT((DA$3:DA$105=AP6)*(DD$3:DD$105=AP5)*(DE$3:DE$105="D"))+SUMPRODUCT((DA$3:DA$105=AP7)*(DD$3:DD$105=AP5)*(DE$3:DE$105="D"))+SUMPRODUCT((DA$3:DA$105=AP8)*(DD$3:DD$105=AP5)*(DE$3:DE$105="D")) -> 0 | AS5: =SUMPRODUCT((DA$3:DA$105=AP5)*(DD$3:DD$105=AP6)*(DE$3:DE$105="L"))+SUMPRODUCT((DA$3:DA$105=AP5)*(DD$3:DD$105=AP7)*(DE$3:DE$105="L"))+SUMPRODUCT((DA$3:DA$105=AP5)*(DD$3:DD$105=AP8)*(DE$3:DE$105="L"))+SUMPRODUCT((DA$3:DA$105=AP6)*(DD$3:DD$105=AP5)*(DF$3:DF$105="L"))+SUMPRODUCT((DA$3:DA$105=AP7)*(DD$3:DD$105=AP5)*(DF$3:DF$105="L"))+SUMPRODUCT((DA$3:DA$105=AP8)*(DD$3:DD$105=AP5)*(DF$3:DF$105="L")) -> 0 | AT5: =SUMPRODUCT((DA$3:DA$105=AP5)*(DD$3:DD$105=AP6)*DB$3:DB$105)+SUMPRODUCT((DA$3:DA$105=AP5)*(DD$3:DD$105=AP7)*DB$3:DB$105)+SUMPRODUCT((DA$3:DA$105=AP5)*(DD$3:DD$105=AP8)*DB$3:DB$105)+SUMPRODUCT((DA$3:DA$105=AP5)*(DD$3:DD$105=AP4)*DB$3:DB$105)+SUMPRODUCT((DA$3:DA$105=AP6)*(DD$3:DD$105=AP5)*DC$3:DC$105)+SUMPRODUCT((DA$3:DA$105=AP7)*(DD$3:DD$105=AP5)*DC$3:DC$105)+SUMPRODUCT((DA$3:DA$105=AP8)*(DD$3:DD$105=AP5)*DC$3:DC$105)+SUMPRODUCT((DA$3:DA$105=AP4)*(DD$3:DD$105=AP5)*DC$3:DC$105) -> 0 | AU5: =SUMPRODUCT((DA$3:DA$105=AP5)*(DD$3:DD$105=AP6)*DC$3:DC$105)+SUMPRODUCT((DA$3:DA$105=AP5)*(DD$3:DD$105=AP7)*DC$3:DC$105)+SUMPRODUCT((DA$3:DA$105=AP5)*(DD$3:DD$105=AP8)*DC$3:DC$105)+SUMPRODUCT((DA$3:DA$105=AP5)*(DD$3:DD$105=AP4)*DC$3:DC$105)+SUMPRODUCT((DA$3:DA$105=AP6)*(DD$3:DD$105=AP5)*DB$3:DB$105)+SUMPRODUCT((DA$3:DA$105=AP7)*(DD$3:DD$105=AP5)*DB$3:DB$105)+SUMPRODUCT((DA$3:DA$105=AP8)*(DD$3:DD$105=AP5)*DB$3:DB$105)+SUMPRODUCT((DA$3:DA$105=AP4)*(DD$3:DD$105=AP5)*DB$3:DB$105) -> 0 | AV5: =AT5-AU5+1000 -> 1000 | AW5: =IF(AP5<>"",AQ5*3+AR5*1,"") | AX5: =IF(AP5<>"",VLOOKUP(AP5,C$4:I$52,7,FALSE),"") | AY5: =IF(AP5<>"",VLOOKUP(AP5,C$4:I$52,5,FALSE),"") | AZ5: =IF(AP5<>"",VLOOKUP(AP5,C$4:K$52,9,FALSE),"") | BA5: =AW5 | BB5: =IF(AP5<>"",RANK(BA5,BA4:BA8),"") | BC5: =IF(AP5<>"",SUMPRODUCT((BA4:BA8=BA5)*(AV4:AV8>AV5)),"") | BD5: =IF(AP5<>"",SUMPRODUCT((BA4:BA8=BA5)*(AV4:AV8=AV5)*(AT4:AT8>AT5)),"") | BE5: =IF(AP5<>"",SUMPRODUCT((BA4:BA8=BA5)*(AV4:AV8=AV5)*(AT4:AT8=AT5)*(AX4:AX8>AX5)),"") | BF5: =IF(AP5<>"",SUMPRODUCT((BA4:BA8=BA5)*(AV4:AV8=AV5)*(AT4:AT8=AT5)*(AX4:AX8=AX5)*(AY4:AY8>AY5)),"") | BG5: =IF(AP5<>"",SUMPRODUCT((BA4:BA8=BA5)*(AV4:AV8=AV5)*(AT4:AT8=AT5)*(AX4:AX8=AX5)*(AY4:AY8=AY5)*(AZ4:AZ8>AZ5)),"") | BH5: =IF(AP5<>"",IF(BH84<>"",IF(AO82=3,BH84,BH84+AO82),SUM(BB5:BG5)+1),"") | BI5: =IF(AP5<>"",INDEX(AP5:AP8,MATCH(2,BH5:BH8,0),0),"") | CX5: =IF(BI5<>"",BI5,IF(AO5<>"",AO5,O5)) -> Korea Republic | CY5: 2 | CZ5: 3 | DA5: =Matches!H6 -> Canada | DB5: =IF($DA$2<>"",IF(AND(Matches!J6<>"",Matches!K6<>""),Matches!J6,0),"") -> 0 | DC5: =IF($DA$2<>"",IF(AND(Matches!J6<>"",Matches!K6<>""),Matches!K6,0),"") -> 0 | DD5: =Matches!M6 -> Bosnia and Herzegovina | DE5: =IF(AND(Matches!J6<>"",Matches!K6<>""),IF(DB5>DC5,"W",IF(DB5=DC5,"D","L")),"") | DF5: =IF(DE5<>"",IF(DE5="W","L",IF(DE5="L","W","D")),"")
A6: =Setup!F10+100 -> 122 | B6: =VLOOKUP(C6,CX$4:CY$8,2,FALSE) -> 2 | C6: =EE9 -> Korea Republic | D6: =SUMPRODUCT((DA$3:DA$105=C6)*(DE$3:DE$105="W"))+SUMPRODUCT((DD$3:DD$105=C6)*(DF$3:DF$105="W")) -> 0 | E6: =SUMPRODUCT((DA$3:DA$105=C6)*(DE$3:DE$105="D"))+SUMPRODUCT((DD$3:DD$105=C6)*(DF$3:DF$105="D")) -> 0 | F6: =SUMPRODUCT((DA$3:DA$105=C6)*(DE$3:DE$105="L"))+SUMPRODUCT((DD$3:DD$105=C6)*(DF$3:DF$105="L")) -> 0 | G6: =SUMIF(DA3:DA123,C6,DB3:DB123)+SUMIF(DD3:DD123,C6,DC3:DC123) -> 0 | H6: =SUMIF(DD3:DD123,C6,DB3:DB123)+SUMIF(DA3:DA123,C6,DC3:DC123) -> 0 | I6: =G6-H6+1000 -> 1000 | J6: =D6*3+E6*1 -> 0 | K6: =IF(Setup!G10<>"",Setup!G10,-A6) -> -122 | L6: =IF(COUNTIF(J4:J8,4)<>4,RANK(J6,J4:J8),J85) -> 1 | N6: =SUMPRODUCT((L4:L7=L6)*(K4:K7<K6))+L6 -> 3 | O6: =INDEX(C4:C8,MATCH(3,N4:N8,0),0) -> Korea Republic | P6: =INDEX(L4:L8,MATCH(O6,C4:C8,0),0) -> 1 | Q6: =IF(AND(Q5<>"",P6=1),O6,"") -> Korea Republic | R6: =IF(AND(R5<>"",P7=2),O7,"") | S6: =IF(AND(S5<>"",P8=3),O8,"") | V6: =IF(Q6<>"",Q6,"") -> Korea Republic | W6: =SUMPRODUCT((DA$3:DA$105=V6)*(DD$3:DD$105=V7)*(DE$3:DE$105="W"))+SUMPRODUCT((DA$3:DA$105=V6)*(DD$3:DD$105=V8)*(DE$3:DE$105="W"))+SUMPRODUCT((DA$3:DA$105=V6)*(DD$3:DD$105=V4)*(DE$3:DE$105="W"))+SUMPRODUCT((DA$3:DA$105=V6)*(DD$3:DD$105=V5)*(DE$3:DE$105="W"))+SUMPRODUCT((DA$3:DA$105=V7)*(DD$3:DD$105=V6)*(DF$3:DF$105="W"))+SUMPRODUCT((DA$3:DA$105=V8)*(DD$3:DD$105=V6)*(DF$3:DF$105="W"))+SUMPRODUCT((DA$3:DA$105=V4)*(DD$3:DD$105=V6)*(DF$3:DF$105="W"))+SUMPRODUCT((DA$3:DA$105=V5)*(DD$3:DD$105=V6)*(DF$3:DF$105="W")) -> 0 | X6: =SUMPRODUCT((DA$3:DA$105=V6)*(DD$3:DD$105=V7)*(DE$3:DE$105="D"))+SUMPRODUCT((DA$3:DA$105=V6)*(DD$3:DD$105=V8)*(DE$3:DE$105="D"))+SUMPRODUCT((DA$3:DA$105=V6)*(DD$3:DD$105=V4)*(DE$3:DE$105="D"))+SUMPRODUCT((DA$3:DA$105=V6)*(DD$3:DD$105=V5)*(DE$3:DE$105="D"))+SUMPRODUCT((DA$3:DA$105=V7)*(DD$3:DD$105=V6)*(DE$3:DE$105="D"))+SUMPRODUCT((DA$3:DA$105=V8)*(DD$3:DD$105=V6)*(DE$3:DE$105="D"))+SUMPRODUCT((DA$3:DA$105=V4)*(DD$3:DD$105=V6)*(DE$3:DE$105="D"))+SUMPRODUCT((DA$3:DA$105=V5)*(DD$3:DD$105=V6)*(DE$3:DE$105="D")) -> 0 | Y6: =SUMPRODUCT((DA$3:DA$105=V6)*(DD$3:DD$105=V7)*(DE$3:DE$105="L"))+SUMPRODUCT((DA$3:DA$105=V6)*(DD$3:DD$105=V8)*(DE$3:DE$105="L"))+SUMPRODUCT((DA$3:DA$105=V6)*(DD$3:DD$105=V4)*(DE$3:DE$105="L"))+SUMPRODUCT((DA$3:DA$105=V6)*(DD$3:DD$105=V5)*(DE$3:DE$105="L"))+SUMPRODUCT((DA$3:DA$105=V7)*(DD$3:DD$105=V6)*(DF$3:DF$105="L"))+SUMPRODUCT((DA$3:DA$105=V8)*(DD$3:DD$105=V6)*(DF$3:DF$105="L"))+SUMPRODUCT((DA$3:DA$105=V4)*(DD$3:DD$105=V6)*(DF$3:DF$105="L"))+SUMPRODUCT((DA$3:DA$105=V5)*(DD$3:DD$105=V6)*(DF$3:DF$105="L")) -> 0 | Z6: =SUMPRODUCT((DA$3:DA$105=V6)*(DD$3:DD$105=V7)*DB$3:DB$105)+SUMPRODUCT((DA$3:DA$105=V6)*(DD$3:DD$105=V8)*DB$3:DB$105)+SUMPRODUCT((DA$3:DA$105=V6)*(DD$3:DD$105=V4)*DB$3:DB$105)+SUMPRODUCT((DA$3:DA$105=V6)*(DD$3:DD$105=V5)*DB$3:DB$105)+SUMPRODUCT((DA$3:DA$105=V7)*(DD$3:DD$105=V6)*DC$3:DC$105)+SUMPRODUCT((DA$3:DA$105=V8)*(DD$3:DD$105=V6)*DC$3:DC$105)+SUMPRODUCT((DA$3:DA$105=V4)*(DD$3:DD$105=V6)*DC$3:DC$105)+SUMPRODUCT((DA$3:DA$105=V5)*(DD$3:DD$105=V6)*DC$3:DC$105) -> 0 | AA6: =SUMPRODUCT((DA$3:DA$105=V6)*(DD$3:DD$105=V7)*DC$3:DC$105)+SUMPRODUCT((DA$3:DA$105=V6)*(DD$3:DD$105=V8)*DC$3:DC$105)+SUMPRODUCT((DA$3:DA$105=V6)*(DD$3:DD$105=V4)*DC$3:DC$105)+SUMPRODUCT((DA$3:DA$105=V6)*(DD$3:DD$105=V5)*DC$3:DC$105)+SUMPRODUCT((DA$3:DA$105=V7)*(DD$3:DD$105=V6)*DB$3:DB$105)+SUMPRODUCT((DA$3:DA$105=V8)*(DD$3:DD$105=V6)*DB$3:DB$105)+SUMPRODUCT((DA$3:DA$105=V4)*(DD$3:DD$105=V6)*DB$3:DB$105)+SUMPRODUCT((DA$3:DA$105=V5)*(DD$3:DD$105=V6)*DB$3:DB$105) -> 0 | AB6: =Z6-AA6+1000 -> 1000 | AC6: =IF(V6<>"",W6*3+X6*1,"") -> 0 | AD6: =IF(V6<>"",VLOOKUP(V6,C$4:I$52,7,FALSE),"") -> 1000 | AE6: =IF(V6<>"",VLOOKUP(V6,C$4:I$52,5,FALSE),"") -> 0 | AF6: =IF(V6<>"",VLOOKUP(V6,C$4:K$52,9,FALSE),"") -> -122 | AG6: =AC6 -> 0 | AH6: =IF(V6<>"",RANK(AG6,AG4:AG8),"") -> 1 | AI6: =IF(V6<>"",SUMPRODUCT((AG4:AG8=AG6)*(AB4:AB8>AB6)),"") -> 0 | AJ6: =IF(V6<>"",SUMPRODUCT((AG4:AG8=AG6)*(AB4:AB8=AB6)*(Z4:Z8>Z6)),"") -> 0 | AK6: =IF(V6<>"",SUMPRODUCT((AG4:AG8=AG6)*(AB4:AB8=AB6)*(Z4:Z8=Z6)*(AD4:AD8>AD6)),"") -> 0 | AL6: =IF(V6<>"",SUMPRODUCT((AG4:AG8=AG6)*(AB4:AB8=AB6)*(Z4:Z8=Z6)*(AD4:AD8=AD6)*(AE4:AE8>AE6)),"") -> 0 | AM6: =IF(V6<>"",SUMPRODUCT((AG4:AG8=AG6)*(AB4:AB8=AB6)*(Z4:Z8=Z6)*(AD4:AD8=AD6)*(AE4:AE8=AE6)*(AF4:AF8>AF6)),"") -> 1 | AN6: =IF(V6<>"",IF(AN85<>"",IF(U82=3,AN85,AN85+U82),SUM(AH6:AM6)),"") -> 2 | AO6: =IF(V6<>"",INDEX(V4:V8,MATCH(3,AN4:AN8,0),0),"") -> Czechia | AP6: =IF(R5<>"",R5,"") | AQ6: =SUMPRODUCT((DA$3:DA$105=AP6)*(DD$3:DD$105=AP7)*(DE$3:DE$105="W"))+SUMPRODUCT((DA$3:DA$105=AP6)*(DD$3:DD$105=AP8)*(DE$3:DE$105="W"))+SUMPRODUCT((DA$3:DA$105=AP6)*(DD$3:DD$105=AP5)*(DE$3:DE$105="W"))+SUMPRODUCT((DA$3:DA$105=AP7)*(DD$3:DD$105=AP6)*(DF$3:DF$105="W"))+SUMPRODUCT((DA$3:DA$105=AP8)*(DD$3:DD$105=AP6)*(DF$3:DF$105="W"))+SUMPRODUCT((DA$3:DA$105=AP5)*(DD$3:DD$105=AP6)*(DF$3:DF$105="W")) -> 0 | AR6: =SUMPRODUCT((DA$3:DA$105=AP6)*(DD$3:DD$105=AP7)*(DE$3:DE$105="D"))+SUMPRODUCT((DA$3:DA$105=AP6)*(DD$3:DD$105=AP8)*(DE$3:DE$105="D"))+SUMPRODUCT((DA$3:DA$105=AP6)*(DD$3:DD$105=AP5)*(DE$3:DE$105="D"))+SUMPRODUCT((DA$3:DA$105=AP7)*(DD$3:DD$105=AP6)*(DE$3:DE$105="D"))+SUMPRODUCT((DA$3:DA$105=AP8)*(DD$3:DD$105=AP6)*(DE$3:DE$105="D"))+SUMPRODUCT((DA$3:DA$105=AP5)*(DD$3:DD$105=AP6)*(DE$3:DE$105="D")) -> 0 | AS6: =SUMPRODUCT((DA$3:DA$105=AP6)*(DD$3:DD$105=AP7)*(DE$3:DE$105="L"))+SUMPRODUCT((DA$3:DA$105=AP6)*(DD$3:DD$105=AP8)*(DE$3:DE$105="L"))+SUMPRODUCT((DA$3:DA$105=AP6)*(DD$3:DD$105=AP5)*(DE$3:DE$105="L"))+SUMPRODUCT((DA$3:DA$105=AP7)*(DD$3:DD$105=AP6)*(DF$3:DF$105="L"))+SUMPRODUCT((DA$3:DA$105=AP8)*(DD$3:DD$105=AP6)*(DF$3:DF$105="L"))+SUMPRODUCT((DA$3:DA$105=AP5)*(DD$3:DD$105=AP6)*(DF$3:DF$105="L")) -> 0 | AT6: =SUMPRODUCT((DA$3:DA$105=AP6)*(DD$3:DD$105=AP7)*DB$3:DB$105)+SUMPRODUCT((DA$3:DA$105=AP6)*(DD$3:DD$105=AP8)*DB$3:DB$105)+SUMPRODUCT((DA$3:DA$105=AP6)*(DD$3:DD$105=AP4)*DB$3:DB$105)+SUMPRODUCT((DA$3:DA$105=AP6)*(DD$3:DD$105=AP5)*DB$3:DB$105)+SUMPRODUCT((DA$3:DA$105=AP7)*(DD$3:DD$105=AP6)*DC$3:DC$105)+SUMPRODUCT((DA$3:DA$105=AP8)*(DD$3:DD$105=AP6)*DC$3:DC$105)+SUMPRODUCT((DA$3:DA$105=AP4)*(DD$3:DD$105=AP6)*DC$3:DC$105)+SUMPRODUCT((DA$3:DA$105=AP5)*(DD$3:DD$105=AP6)*DC$3:DC$105) -> 0 | AU6: =SUMPRODUCT((DA$3:DA$105=AP6)*(DD$3:DD$105=AP7)*DC$3:DC$105)+SUMPRODUCT((DA$3:DA$105=AP6)*(DD$3:DD$105=AP8)*DC$3:DC$105)+SUMPRODUCT((DA$3:DA$105=AP6)*(DD$3:DD$105=AP4)*DC$3:DC$105)+SUMPRODUCT((DA$3:DA$105=AP6)*(DD$3:DD$105=AP5)*DC$3:DC$105)+SUMPRODUCT((DA$3:DA$105=AP7)*(DD$3:DD$105=AP6)*DB$3:DB$105)+SUMPRODUCT((DA$3:DA$105=AP8)*(DD$3:DD$105=AP6)*DB$3:DB$105)+SUMPRODUCT((DA$3:DA$105=AP4)*(DD$3:DD$105=AP6)*DB$3:DB$105)+SUMPRODUCT((DA$3:DA$105=AP5)*(DD$3:DD$105=AP6)*DB$3:DB$105) -> 0 | AV6: =AT6-AU6+1000 -> 1000 | AW6: =IF(AP6<>"",AQ6*3+AR6*1,"") | AX6: =IF(AP6<>"",VLOOKUP(AP6,C$4:I$52,7,FALSE),"") | AY6: =IF(AP6<>"",VLOOKUP(AP6,C$4:I$52,5,FALSE),"") | AZ6: =IF(AP6<>"",VLOOKUP(AP6,C$4:K$52,9,FALSE),"") | BA6: =AW6 | BB6: =IF(AP6<>"",RANK(BA6,BA4:BA8),"") | BC6: =IF(AP6<>"",SUMPRODUCT((BA4:BA8=BA6)*(AV4:AV8>AV6)),"") | BD6: =IF(AP6<>"",SUMPRODUCT((BA4:BA8=BA6)*(AV4:AV8=AV6)*(AT4:AT8>AT6)),"") | BE6: =IF(AP6<>"",SUMPRODUCT((BA4:BA8=BA6)*(AV4:AV8=AV6)*(AT4:AT8=AT6)*(AX4:AX8>AX6)),"") | BF6: =IF(AP6<>"",SUMPRODUCT((BA4:BA8=BA6)*(AV4:AV8=AV6)*(AT4:AT8=AT6)*(AX4:AX8=AX6)*(AY4:AY8>AY6)),"") | BG6: =IF(AP6<>"",SUMPRODUCT((BA4:BA8=BA6)*(AV4:AV8=AV6)*(AT4:AT8=AT6)*(AX4:AX8=AX6)*(AY4:AY8=AY6)*(AZ4:AZ8>AZ6)),"") | BH6: =IF(AP6<>"",IF(BH85<>"",IF(AO82=3,BH85,BH85+AO82),SUM(BB6:BG6)+1),"") | BI6: =IF(AP6<>"",INDEX(AP5:AP8,MATCH(3,BH5:BH8,0),0),"") | BJ6: =IF(S4<>"",S4,"") | BK6: =SUMPRODUCT((DA$3:DA$105=BJ6)*(DD$3:DD$105=BJ7)*(DE$3:DE$105="W"))+SUMPRODUCT((DA$3:DA$105=BJ6)*(DD$3:DD$105=BJ8)*(DE$3:DE$105="W"))+SUMPRODUCT((DA$3:DA$105=BJ6)*(DD$3:DD$105=BJ9)*(DE$3:DE$105="W"))+SUMPRODUCT((DA$3:DA$105=BJ7)*(DD$3:DD$105=BJ6)*(DF$3:DF$105="W"))+SUMPRODUCT((DA$3:DA$105=BJ8)*(DD$3:DD$105=BJ6)*(DF$3:DF$105="W"))+SUMPRODUCT((DA$3:DA$105=BJ9)*(DD$3:DD$105=BJ6)*(DF$3:DF$105="W")) -> 0 | BL6: =SUMPRODUCT((DA$3:DA$105=BJ6)*(DD$3:DD$105=BJ7)*(DE$3:DE$105="D"))+SUMPRODUCT((DA$3:DA$105=BJ6)*(DD$3:DD$105=BJ8)*(DE$3:DE$105="D"))+SUMPRODUCT((DA$3:DA$105=BJ6)*(DD$3:DD$105=BJ9)*(DE$3:DE$105="D"))+SUMPRODUCT((DA$3:DA$105=BJ7)*(DD$3:DD$105=BJ6)*(DE$3:DE$105="D"))+SUMPRODUCT((DA$3:DA$105=BJ8)*(DD$3:DD$105=BJ6)*(DE$3:DE$105="D"))+SUMPRODUCT((DA$3:DA$105=BJ9)*(DD$3:DD$105=BJ6)*(DE$3:DE$105="D")) -> 0 | BM6: =SUMPRODUCT((DA$3:DA$105=BJ6)*(DD$3:DD$105=BJ7)*(DE$3:DE$105="L"))+SUMPRODUCT((DA$3:DA$105=BJ6)*(DD$3:DD$105=BJ8)*(DE$3:DE$105="L"))+SUMPRODUCT((DA$3:DA$105=BJ6)*(DD$3:DD$105=BJ9)*(DE$3:DE$105="L"))+SUMPRODUCT((DA$3:DA$105=BJ7)*(DD$3:DD$105=BJ6)*(DF$3:DF$105="L"))+SUMPRODUCT((DA$3:DA$105=BJ8)*(DD$3:DD$105=BJ6)*(DF$3:DF$105="L"))+SUMPRODUCT((DA$3:DA$105=BJ9)*(DD$3:DD$105=BJ6)*(DF$3:DF$105="L")) -> 0 | BN6: =SUMPRODUCT((DA$3:DA$105=BJ6)*(DD$3:DD$105=BJ7)*DB$3:DB$105)+SUMPRODUCT((DA$3:DA$105=BJ6)*(DD$3:DD$105=BJ8)*DB$3:DB$105)+SUMPRODUCT((DA$3:DA$105=BJ6)*(DD$3:DD$105=BJ4)*DB$3:DB$105)+SUMPRODUCT((DA$3:DA$105=BJ6)*(DD$3:DD$105=BJ5)*DB$3:DB$105)+SUMPRODUCT((DA$3:DA$105=BJ7)*(DD$3:DD$105=BJ6)*DC$3:DC$105)+SUMPRODUCT((DA$3:DA$105=BJ8)*(DD$3:DD$105=BJ6)*DC$3:DC$105)+SUMPRODUCT((DA$3:DA$105=BJ4)*(DD$3:DD$105=BJ6)*DC$3:DC$105)+SUMPRODUCT((DA$3:DA$105=BJ5)*(DD$3:DD$105=BJ6)*DC$3:DC$105) -> 0 | BO6: =SUMPRODUCT((DA$3:DA$105=BJ6)*(DD$3:DD$105=BJ7)*DC$3:DC$105)+SUMPRODUCT((DA$3:DA$105=BJ6)*(DD$3:DD$105=BJ8)*DC$3:DC$105)+SUMPRODUCT((DA$3:DA$105=BJ6)*(DD$3:DD$105=BJ4)*DC$3:DC$105)+SUMPRODUCT((DA$3:DA$105=BJ6)*(DD$3:DD$105=BJ5)*DC$3:DC$105)+SUMPRODUCT((DA$3:DA$105=BJ7)*(DD$3:DD$105=BJ6)*DB$3:DB$105)+SUMPRODUCT((DA$3:DA$105=BJ8)*(DD$3:DD$105=BJ6)*DB$3:DB$105)+SUMPRODUCT((DA$3:DA$105=BJ4)*(DD$3:DD$105=BJ6)*DB$3:DB$105)+SUMPRODUCT((DA$3:DA$105=BJ5)*(DD$3:DD$105=BJ6)*DB$3:DB$105) -> 0 | BP6: =BN6-BO6+1000 -> 1000 | BQ6: =IF(BJ6<>"",BK6*3+BL6*1,"") | BR6: =IF(BJ6<>"",VLOOKUP(BJ6,C$4:I$52,7,FALSE),"") | BS6: =IF(BJ6<>"",VLOOKUP(BJ6,C$4:I$52,5,FALSE),"") | BT6: =IF(BJ6<>"",VLOOKUP(BJ6,C$4:K$52,9,FALSE),"") | BU6: =BQ6 | BV6: =IF(BJ6<>"",RANK(BU6,BU4:BU8),"") | BW6: =IF(BJ6<>"",SUMPRODUCT((BU4:BU8=BU6)*(BP4:BP8>BP6)),"") | BX6: =IF(BJ6<>"",SUMPRODUCT((BU4:BU8=BU6)*(BP4:BP8=BP6)*(BN4:BN8>BN6)),"") | BY6: =IF(BJ6<>"",SUMPRODUCT((BU4:BU8=BU6)*(BP4:BP8=BP6)*(BN4:BN8=BN6)*(BR4:BR8>BR6)),"") | BZ6: =IF(BJ6<>"",SUMPRODUCT((BU4:BU8=BU6)*(BP4:BP8=BP6)*(BN4:BN8=BN6)*(BR4:BR8=BR6)*(BS4:BS8>BS6)),"") | CA6: =IF(BJ6<>"",SUMPRODUCT((BU4:BU8=BU6)*(BP4:BP8=BP6)*(BN4:BN8=BN6)*(BR4:BR8=BR6)*(BS4:BS8=BS6)*(BT4:BT8>BT6)),"") | CB6: =IF(BJ6<>"",SUM(BV6:CA6)+2,"") | CC6: =IF(BJ6<>"",INDEX(BJ6:BJ8,MATCH(3,CB6:CB8,0),0),"") | CX6: =IF(CC6<>"",CC6,IF(BI6<>"",BI6,IF(AO6<>"",AO6,O6))) -> Czechia | CY6: 3 | CZ6: 4 | DA6: =Matches!H7 -> USA | DB6: =IF($DA$2<>"",IF(AND(Matches!J7<>"",Matches!K7<>""),Matches!J7,0),"") -> 0 | DC6: =IF($DA$2<>"",IF(AND(Matches!J7<>"",Matches!K7<>""),Matches!K7,0),"") -> 0 | DD6: =Matches!M7 -> Paraguay | DE6: =IF(AND(Matches!J7<>"",Matches!K7<>""),IF(DB6>DC6,"W",IF(DB6=DC6,"D","L")),"") | DF6: =IF(DE6<>"",IF(DE6="W","L",IF(DE6="L","W","D")),"") | EA6: eastern time | EC6: local time
A7: =Setup!F11+100 -> 143 | B7: =VLOOKUP(C7,CX$4:CY$8,2,FALSE) -> 3 | C7: =EE10 -> Czechia | D7: =SUMPRODUCT((DA$3:DA$105=C7)*(DE$3:DE$105="W"))+SUMPRODUCT((DD$3:DD$105=C7)*(DF$3:DF$105="W")) -> 0 | E7: =SUMPRODUCT((DA$3:DA$105=C7)*(DE$3:DE$105="D"))+SUMPRODUCT((DD$3:DD$105=C7)*(DF$3:DF$105="D")) -> 0 | F7: =SUMPRODUCT((DA$3:DA$105=C7)*(DE$3:DE$105="L"))+SUMPRODUCT((DD$3:DD$105=C7)*(DF$3:DF$105="L")) -> 0 | G7: =SUMIF(DA3:DA123,C7,DB3:DB123)+SUMIF(DD3:DD123,C7,DC3:DC123) -> 0 | H7: =SUMIF(DD3:DD123,C7,DB3:DB123)+SUMIF(DA3:DA123,C7,DC3:DC123) -> 0 | I7: =G7-H7+1000 -> 1000 | J7: =D7*3+E7*1 -> 0 | K7: =IF(Setup!G11<>"",Setup!G11,-A7) -> -143 | L7: =IF(COUNTIF(J4:J8,4)<>4,RANK(J7,J4:J8),J86) -> 1 | N7: =SUMPRODUCT((L4:L7=L7)*(K4:K7<K7))+L7 -> 2 | O7: =INDEX(C4:C8,MATCH(4,N4:N8,0),0) -> Mexico | P7: =INDEX(L4:L8,MATCH(O7,C4:C8,0),0) -> 1 | Q7: =IF(AND(Q6<>"",P7=1),O7,"") -> Mexico | R7: =IF(AND(R6<>"",P8=2),O8,"") | V7: =IF(Q7<>"",Q7,"") -> Mexico | W7: =SUMPRODUCT((DA$3:DA$105=V7)*(DD$3:DD$105=V8)*(DE$3:DE$105="W"))+SUMPRODUCT((DA$3:DA$105=V7)*(DD$3:DD$105=V4)*(DE$3:DE$105="W"))+SUMPRODUCT((DA$3:DA$105=V7)*(DD$3:DD$105=V5)*(DE$3:DE$105="W"))+SUMPRODUCT((DA$3:DA$105=V7)*(DD$3:DD$105=V6)*(DE$3:DE$105="W"))+SUMPRODUCT((DA$3:DA$105=V8)*(DD$3:DD$105=V7)*(DF$3:DF$105="W"))+SUMPRODUCT((DA$3:DA$105=V4)*(DD$3:DD$105=V7)*(DF$3:DF$105="W"))+SUMPRODUCT((DA$3:DA$105=V5)*(DD$3:DD$105=V7)*(DF$3:DF$105="W"))+SUMPRODUCT((DA$3:DA$105=V6)*(DD$3:DD$105=V7)*(DF$3:DF$105="W")) -> 0 | X7: =SUMPRODUCT((DA$3:DA$105=V7)*(DD$3:DD$105=V8)*(DE$3:DE$105="D"))+SUMPRODUCT((DA$3:DA$105=V7)*(DD$3:DD$105=V4)*(DE$3:DE$105="D"))+SUMPRODUCT((DA$3:DA$105=V7)*(DD$3:DD$105=V5)*(DE$3:DE$105="D"))+SUMPRODUCT((DA$3:DA$105=V7)*(DD$3:DD$105=V6)*(DE$3:DE$105="D"))+SUMPRODUCT((DA$3:DA$105=V8)*(DD$3:DD$105=V7)*(DE$3:DE$105="D"))+SUMPRODUCT((DA$3:DA$105=V4)*(DD$3:DD$105=V7)*(DE$3:DE$105="D"))+SUMPRODUCT((DA$3:DA$105=V5)*(DD$3:DD$105=V7)*(DE$3:DE$105="D"))+SUMPRODUCT((DA$3:DA$105=V6)*(DD$3:DD$105=V7)*(DE$3:DE$105="D")) -> 0 | Y7: =SUMPRODUCT((DA$3:DA$105=V7)*(DD$3:DD$105=V8)*(DE$3:DE$105="L"))+SUMPRODUCT((DA$3:DA$105=V7)*(DD$3:DD$105=V4)*(DE$3:DE$105="L"))+SUMPRODUCT((DA$3:DA$105=V7)*(DD$3:DD$105=V5)*(DE$3:DE$105="L"))+SUMPRODUCT((DA$3:DA$105=V7)*(DD$3:DD$105=V6)*(DE$3:DE$105="L"))+SUMPRODUCT((DA$3:DA$105=V8)*(DD$3:DD$105=V7)*(DF$3:DF$105="L"))+SUMPRODUCT((DA$3:DA$105=V4)*(DD$3:DD$105=V7)*(DF$3:DF$105="L"))+SUMPRODUCT((DA$3:DA$105=V5)*(DD$3:DD$105=V7)*(DF$3:DF$105="L"))+SUMPRODUCT((DA$3:DA$105=V6)*(DD$3:DD$105=V7)*(DF$3:DF$105="L")) -> 0 | Z7: =SUMPRODUCT((DA$3:DA$105=V7)*(DD$3:DD$105=V8)*DB$3:DB$105)+SUMPRODUCT((DA$3:DA$105=V7)*(DD$3:DD$105=V4)*DB$3:DB$105)+SUMPRODUCT((DA$3:DA$105=V7)*(DD$3:DD$105=V5)*DB$3:DB$105)+SUMPRODUCT((DA$3:DA$105=V7)*(DD$3:DD$105=V6)*DB$3:DB$105)+SUMPRODUCT((DA$3:DA$105=V8)*(DD$3:DD$105=V7)*DC$3:DC$105)+SUMPRODUCT((DA$3:DA$105=V4)*(DD$3:DD$105=V7)*DC$3:DC$105)+SUMPRODUCT((DA$3:DA$105=V5)*(DD$3:DD$105=V7)*DC$3:DC$105)+SUMPRODUCT((DA$3:DA$105=V6)*(DD$3:DD$105=V7)*DC$3:DC$105) -> 0 | AA7: =SUMPRODUCT((DA$3:DA$105=V7)*(DD$3:DD$105=V8)*DC$3:DC$105)+SUMPRODUCT((DA$3:DA$105=V7)*(DD$3:DD$105=V4)*DC$3:DC$105)+SUMPRODUCT((DA$3:DA$105=V7)*(DD$3:DD$105=V5)*DC$3:DC$105)+SUMPRODUCT((DA$3:DA$105=V7)*(DD$3:DD$105=V6)*DC$3:DC$105)+SUMPRODUCT((DA$3:DA$105=V8)*(DD$3:DD$105=V7)*DB$3:DB$105)+SUMPRODUCT((DA$3:DA$105=V4)*(DD$3:DD$105=V7)*DB$3:DB$105)+SUMPRODUCT((DA$3:DA$105=V5)*(DD$3:DD$105=V7)*DB$3:DB$105)+SUMPRODUCT((DA$3:DA$105=V6)*(DD$3:DD$105=V7)*DB$3:DB$105) -> 0 | AB7: =Z7-AA7+1000 -> 1000 | AC7: =IF(V7<>"",W7*3+X7*1,"") -> 0 | AD7: =IF(V7<>"",VLOOKUP(V7,C$4:I$52,7,FALSE),"") -> 1000 | AE7: =IF(V7<>"",VLOOKUP(V7,C$4:I$52,5,FALSE),"") -> 0 | AF7: =IF(V7<>"",VLOOKUP(V7,C$4:K$52,9,FALSE),"") -> -116 | AG7: =AC7 -> 0 | AH7: =IF(V7<>"",RANK(AG7,AG4:AG8),"") -> 1 | AI7: =IF(V7<>"",SUMPRODUCT((AG4:AG8=AG7)*(AB4:AB8>AB7)),"") -> 0 | AJ7: =IF(V7<>"",SUMPRODUCT((AG4:AG8=AG7)*(AB4:AB8=AB7)*(Z4:Z8>Z7)),"") -> 0 | AK7: =IF(V7<>"",SUMPRODUCT((AG4:AG8=AG7)*(AB4:AB8=AB7)*(Z4:Z8=Z7)*(AD4:AD8>AD7)),"") -> 0 | AL7: =IF(V7<>"",SUMPRODUCT((AG4:AG8=AG7)*(AB4:AB8=AB7)*(Z4:Z8=Z7)*(AD4:AD8=AD7)*(AE4:AE8>AE7)),"") -> 0 | AM7: =IF(V7<>"",SUMPRODUCT((AG4:AG8=AG7)*(AB4:AB8=AB7)*(Z4:Z8=Z7)*(AD4:AD8=AD7)*(AE4:AE8=AE7)*(AF4:AF8>AF7)),"") -> 0 | AN7: =IF(V7<>"",IF(AN86<>"",IF(U82=3,AN86,AN86+U82),SUM(AH7:AM7)),"") -> 1 | AO7: =IF(V7<>"",INDEX(V4:V8,MATCH(4,AN4:AN8,0),0),"") -> South Africa | AP7: =IF(R6<>"",R6,"") | AQ7: =SUMPRODUCT((DA$3:DA$105=AP7)*(DD$3:DD$105=AP8)*(DE$3:DE$105="W"))+SUMPRODUCT((DA$3:DA$105=AP7)*(DD$3:DD$105=AP5)*(DE$3:DE$105="W"))+SUMPRODUCT((DA$3:DA$105=AP7)*(DD$3:DD$105=AP6)*(DE$3:DE$105="W"))+SUMPRODUCT((DA$3:DA$105=AP8)*(DD$3:DD$105=AP7)*(DF$3:DF$105="W"))+SUMPRODUCT((DA$3:DA$105=AP5)*(DD$3:DD$105=AP7)*(DF$3:DF$105="W"))+SUMPRODUCT((DA$3:DA$105=AP6)*(DD$3:DD$105=AP7)*(DF$3:DF$105="W")) -> 0 | AR7: =SUMPRODUCT((DA$3:DA$105=AP7)*(DD$3:DD$105=AP8)*(DE$3:DE$105="D"))+SUMPRODUCT((DA$3:DA$105=AP7)*(DD$3:DD$105=AP5)*(DE$3:DE$105="D"))+SUMPRODUCT((DA$3:DA$105=AP7)*(DD$3:DD$105=AP6)*(DE$3:DE$105="D"))+SUMPRODUCT((DA$3:DA$105=AP8)*(DD$3:DD$105=AP7)*(DE$3:DE$105="D"))+SUMPRODUCT((DA$3:DA$105=AP5)*(DD$3:DD$105=AP7)*(DE$3:DE$105="D"))+SUMPRODUCT((DA$3:DA$105=AP6)*(DD$3:DD$105=AP7)*(DE$3:DE$105="D")) -> 0 | AS7: =SUMPRODUCT((DA$3:DA$105=AP7)*(DD$3:DD$105=AP8)*(DE$3:DE$105="L"))+SUMPRODUCT((DA$3:DA$105=AP7)*(DD$3:DD$105=AP5)*(DE$3:DE$105="L"))+SUMPRODUCT((DA$3:DA$105=AP7)*(DD$3:DD$105=AP6)*(DE$3:DE$105="L"))+SUMPRODUCT((DA$3:DA$105=AP8)*(DD$3:DD$105=AP7)*(DF$3:DF$105="L"))+SUMPRODUCT((DA$3:DA$105=AP5)*(DD$3:DD$105=AP7)*(DF$3:DF$105="L"))+SUMPRODUCT((DA$3:DA$105=AP6)*(DD$3:DD$105=AP7)*(DF$3:DF$105="L")) -> 0 | AT7: =SUMPRODUCT((DA$3:DA$105=AP7)*(DD$3:DD$105=AP8)*DB$3:DB$105)+SUMPRODUCT((DA$3:DA$105=AP7)*(DD$3:DD$105=AP4)*DB$3:DB$105)+SUMPRODUCT((DA$3:DA$105=AP7)*(DD$3:DD$105=AP5)*DB$3:DB$105)+SUMPRODUCT((DA$3:DA$105=AP7)*(DD$3:DD$105=AP6)*DB$3:DB$105)+SUMPRODUCT((DA$3:DA$105=AP8)*(DD$3:DD$105=AP7)*DC$3:DC$105)+SUMPRODUCT((DA$3:DA$105=AP4)*(DD$3:DD$105=AP7)*DC$3:DC$105)+SUMPRODUCT((DA$3:DA$105=AP5)*(DD$3:DD$105=AP7)*DC$3:DC$105)+SUMPRODUCT((DA$3:DA$105=AP6)*(DD$3:DD$105=AP7)*DC$3:DC$105) -> 0 | AU7: =SUMPRODUCT((DA$3:DA$105=AP7)*(DD$3:DD$105=AP8)*DC$3:DC$105)+SUMPRODUCT((DA$3:DA$105=AP7)*(DD$3:DD$105=AP4)*DC$3:DC$105)+SUMPRODUCT((DA$3:DA$105=AP7)*(DD$3:DD$105=AP5)*DC$3:DC$105)+SUMPRODUCT((DA$3:DA$105=AP7)*(DD$3:DD$105=AP6)*DC$3:DC$105)+SUMPRODUCT((DA$3:DA$105=AP8)*(DD$3:DD$105=AP7)*DB$3:DB$105)+SUMPRODUCT((DA$3:DA$105=AP4)*(DD$3:DD$105=AP7)*DB$3:DB$105)+SUMPRODUCT((DA$3:DA$105=AP5)*(DD$3:DD$105=AP7)*DB$3:DB$105)+SUMPRODUCT((DA$3:DA$105=AP6)*(DD$3:DD$105=AP7)*DB$3:DB$105) -> 0 | AV7: =AT7-AU7+1000 -> 1000 | AW7: =IF(AP7<>"",AQ7*3+AR7*1,"") | AX7: =IF(AP7<>"",VLOOKUP(AP7,C$4:I$52,7,FALSE),"") | AY7: =IF(AP7<>"",VLOOKUP(AP7,C$4:I$52,5,FALSE),"") | AZ7: =IF(AP7<>"",VLOOKUP(AP7,C$4:K$52,9,FALSE),"") | BA7: =AW7 | BB7: =IF(AP7<>"",RANK(BA7,BA4:BA8),"") | BC7: =IF(AP7<>"",SUMPRODUCT((BA4:BA8=BA7)*(AV4:AV8>AV7)),"") | BD7: =IF(AP7<>"",SUMPRODUCT((BA4:BA8=BA7)*(AV4:AV8=AV7)*(AT4:AT8>AT7)),"") | BE7: =IF(AP7<>"",SUMPRODUCT((BA4:BA8=BA7)*(AV4:AV8=AV7)*(AT4:AT8=AT7)*(AX4:AX8>AX7)),"") | BF7: =IF(AP7<>"",SUMPRODUCT((BA4:BA8=BA7)*(AV4:AV8=AV7)*(AT4:AT8=AT7)*(AX4:AX8=AX7)*(AY4:AY8>AY7)),"") | BG7: =IF(AP7<>"",SUMPRODUCT((BA4:BA8=BA7)*(AV4:AV8=AV7)*(AT4:AT8=AT7)*(AX4:AX8=AX7)*(AY4:AY8=AY7)*(AZ4:AZ8>AZ7)),"") | BH7: =IF(AP7<>"",IF(BH86<>"",IF(AO82=3,BH86,BH86+AO82),SUM(BB7:BG7)+1),"") | BI7: =IF(AP7<>"",INDEX(AP5:AP8,MATCH(4,BH5:BH8,0),0),"") | BJ7: =IF(S5<>"",S5,"") | BK7: =SUMPRODUCT((DA$3:DA$105=BJ7)*(DD$3:DD$105=BJ8)*(DE$3:DE$105="W"))+SUMPRODUCT((DA$3:DA$105=BJ7)*(DD$3:DD$105=BJ9)*(DE$3:DE$105="W"))+SUMPRODUCT((DA$3:DA$105=BJ7)*(DD$3:DD$105=BJ6)*(DE$3:DE$105="W"))+SUMPRODUCT((DA$3:DA$105=BJ8)*(DD$3:DD$105=BJ7)*(DF$3:DF$105="W"))+SUMPRODUCT((DA$3:DA$105=BJ9)*(DD$3:DD$105=BJ7)*(DF$3:DF$105="W"))+SUMPRODUCT((DA$3:DA$105=BJ6)*(DD$3:DD$105=BJ7)*(DF$3:DF$105="W")) -> 0 | BL7: =SUMPRODUCT((DA$3:DA$105=BJ7)*(DD$3:DD$105=BJ8)*(DE$3:DE$105="D"))+SUMPRODUCT((DA$3:DA$105=BJ7)*(DD$3:DD$105=BJ9)*(DE$3:DE$105="D"))+SUMPRODUCT((DA$3:DA$105=BJ7)*(DD$3:DD$105=BJ6)*(DE$3:DE$105="D"))+SUMPRODUCT((DA$3:DA$105=BJ8)*(DD$3:DD$105=BJ7)*(DE$3:DE$105="D"))+SUMPRODUCT((DA$3:DA$105=BJ9)*(DD$3:DD$105=BJ7)*(DE$3:DE$105="D"))+SUMPRODUCT((DA$3:DA$105=BJ6)*(DD$3:DD$105=BJ7)*(DE$3:DE$105="D")) -> 0 | BM7: =SUMPRODUCT((DA$3:DA$105=BJ7)*(DD$3:DD$105=BJ8)*(DE$3:DE$105="L"))+SUMPRODUCT((DA$3:DA$105=BJ7)*(DD$3:DD$105=BJ9)*(DE$3:DE$105="L"))+SUMPRODUCT((DA$3:DA$105=BJ7)*(DD$3:DD$105=BJ6)*(DE$3:DE$105="L"))+SUMPRODUCT((DA$3:DA$105=BJ8)*(DD$3:DD$105=BJ7)*(DF$3:DF$105="L"))+SUMPRODUCT((DA$3:DA$105=BJ9)*(DD$3:DD$105=BJ7)*(DF$3:DF$105="L"))+SUMPRODUCT((DA$3:DA$105=BJ6)*(DD$3:DD$105=BJ7)*(DF$3:DF$105="L")) -> 0 | BN7: =SUMPRODUCT((DA$3:DA$105=BJ7)*(DD$3:DD$105=BJ8)*DB$3:DB$105)+SUMPRODUCT((DA$3:DA$105=BJ7)*(DD$3:DD$105=BJ4)*DB$3:DB$105)+SUMPRODUCT((DA$3:DA$105=BJ7)*(DD$3:DD$105=BJ5)*DB$3:DB$105)+SUMPRODUCT((DA$3:DA$105=BJ7)*(DD$3:DD$105=BJ6)*DB$3:DB$105)+SUMPRODUCT((DA$3:DA$105=BJ8)*(DD$3:DD$105=BJ7)*DC$3:DC$105)+SUMPRODUCT((DA$3:DA$105=BJ4)*(DD$3:DD$105=BJ7)*DC$3:DC$105)+SUMPRODUCT((DA$3:DA$105=BJ5)*(DD$3:DD$105=BJ7)*DC$3:DC$105)+SUMPRODUCT((DA$3:DA$105=BJ6)*(DD$3:DD$105=BJ7)*DC$3:DC$105) -> 0 | BO7: =SUMPRODUCT((DA$3:DA$105=BJ7)*(DD$3:DD$105=BJ8)*DC$3:DC$105)+SUMPRODUCT((DA$3:DA$105=BJ7)*(DD$3:DD$105=BJ4)*DC$3:DC$105)+SUMPRODUCT((DA$3:DA$105=BJ7)*(DD$3:DD$105=BJ5)*DC$3:DC$105)+SUMPRODUCT((DA$3:DA$105=BJ7)*(DD$3:DD$105=BJ6)*DC$3:DC$105)+SUMPRODUCT((DA$3:DA$105=BJ8)*(DD$3:DD$105=BJ7)*DB$3:DB$105)+SUMPRODUCT((DA$3:DA$105=BJ4)*(DD$3:DD$105=BJ7)*DB$3:DB$105)+SUMPRODUCT((DA$3:DA$105=BJ5)*(DD$3:DD$105=BJ7)*DB$3:DB$105)+SUMPRODUCT((DA$3:DA$105=BJ6)*(DD$3:DD$105=BJ7)*DB$3:DB$105) -> 0 | BP7: =BN7-BO7+1000 -> 1000 | BQ7: =IF(BJ7<>"",BK7*3+BL7*1,"") | BR7: =IF(BJ7<>"",VLOOKUP(BJ7,C$4:I$52,7,FALSE),"") | BS7: =IF(BJ7<>"",VLOOKUP(BJ7,C$4:I$52,5,FALSE),"") | BT7: =IF(BJ7<>"",VLOOKUP(BJ7,C$4:K$52,9,FALSE),"") | BU7: =BQ7 | BV7: =IF(BJ7<>"",RANK(BU7,BU4:BU8),"") | BW7: =IF(BJ7<>"",SUMPRODUCT((BU4:BU8=BU7)*(BP4:BP8>BP7)),"") | BX7: =IF(BJ7<>"",SUMPRODUCT((BU4:BU8=BU7)*(BP4:BP8=BP7)*(BN4:BN8>BN7)),"") | BY7: =IF(BJ7<>"",SUMPRODUCT((BU4:BU8=BU7)*(BP4:BP8=BP7)*(BN4:BN8=BN7)*(BR4:BR8>BR7)),"") | BZ7: =IF(BJ7<>"",SUMPRODUCT((BU4:BU8=BU7)*(BP4:BP8=BP7)*(BN4:BN8=BN7)*(BR4:BR8=BR7)*(BS4:BS8>BS7)),"") | CA7: =IF(BJ7<>"",SUMPRODUCT((BU4:BU8=BU7)*(BP4:BP8=BP7)*(BN4:BN8=BN7)*(BR4:BR8=BR7)*(BS4:BS8=BS7)*(BT4:BT8>BT7)),"") | CB7: =IF(BJ7<>"",SUM(BV7:CA7)+2,"") | CC7: =IF(BJ7<>"",INDEX(BJ6:BJ8,MATCH(4,CB6:CB8,0),0),"") | CD7: =IF(T4<>"",T4,"") | CE7: =SUMPRODUCT((DA$3:DA$105=CD7)*(DD$3:DD$105=CD8)*(DE$3:DE$105="W"))+SUMPRODUCT((DA$3:DA$105=CD7)*(DD$3:DD$105=CD9)*(DE$3:DE$105="W"))+SUMPRODUCT((DA$3:DA$105=CD7)*(DD$3:DD$105=CD10)*(DE$3:DE$105="W"))+SUMPRODUCT((DA$3:DA$105=CD8)*(DD$3:DD$105=CD7)*(DF$3:DF$105="W"))+SUMPRODUCT((DA$3:DA$105=CD9)*(DD$3:DD$105=CD7)*(DF$3:DF$105="W"))+SUMPRODUCT((DA$3:DA$105=CD10)*(DD$3:DD$105=CD7)*(DF$3:DF$105="W")) -> 0 | CF7: =SUMPRODUCT((DA$3:DA$105=CD7)*(DD$3:DD$105=CD8)*(DE$3:DE$105="D"))+SUMPRODUCT((DA$3:DA$105=CD7)*(DD$3:DD$105=CD9)*(DE$3:DE$105="D"))+SUMPRODUCT((DA$3:DA$105=CD7)*(DD$3:DD$105=CD10)*(DE$3:DE$105="D"))+SUMPRODUCT((DA$3:DA$105=CD8)*(DD$3:DD$105=CD7)*(DE$3:DE$105="D"))+SUMPRODUCT((DA$3:DA$105=CD9)*(DD$3:DD$105=CD7)*(DE$3:DE$105="D"))+SUMPRODUCT((DA$3:DA$105=CD10)*(DD$3:DD$105=CD7)*(DE$3:DE$105="D")) -> 0 | CG7: =SUMPRODUCT((DA$3:DA$105=CD7)*(DD$3:DD$105=CD8)*(DE$3:DE$105="L"))+SUMPRODUCT((DA$3:DA$105=CD7)*(DD$3:DD$105=CD9)*(DE$3:DE$105="L"))+SUMPRODUCT((DA$3:DA$105=CD7)*(DD$3:DD$105=CD10)*(DE$3:DE$105="L"))+SUMPRODUCT((DA$3:DA$105=CD8)*(DD$3:DD$105=CD7)*(DF$3:DF$105="L"))+SUMPRODUCT((DA$3:DA$105=CD9)*(DD$3:DD$105=CD7)*(DF$3:DF$105="L"))+SUMPRODUCT((DA$3:DA$105=CD10)*(DD$3:DD$105=CD7)*(DF$3:DF$105="L")) -> 0 | CH7: =SUMPRODUCT((DA$3:DA$105=CD7)*(DD$3:DD$105=CD8)*DB$3:DB$105)+SUMPRODUCT((DA$3:DA$105=CD7)*(DD$3:DD$105=CD4)*DB$3:DB$105)+SUMPRODUCT((DA$3:DA$105=CD7)*(DD$3:DD$105=CD5)*DB$3:DB$105)+SUMPRODUCT((DA$3:DA$105=CD7)*(DD$3:DD$105=CD6)*DB$3:DB$105)+SUMPRODUCT((DA$3:DA$105=CD8)*(DD$3:DD$105=CD7)*DC$3:DC$105)+SUMPRODUCT((DA$3:DA$105=CD4)*(DD$3:DD$105=CD7)*DC$3:DC$105)+SUMPRODUCT((DA$3:DA$105=CD5)*(DD$3:DD$105=CD7)*DC$3:DC$105)+SUMPRODUCT((DA$3:DA$105=CD6)*(DD$3:DD$105=CD7)*DC$3:DC$105) -> 0 | CI7: =SUMPRODUCT((DA$3:DA$105=CD7)*(DD$3:DD$105=CD8)*DC$3:DC$105)+SUMPRODUCT((DA$3:DA$105=CD7)*(DD$3:DD$105=CD4)*DC$3:DC$105)+SUMPRODUCT((DA$3:DA$105=CD7)*(DD$3:DD$105=CD5)*DC$3:DC$105)+SUMPRODUCT((DA$3:DA$105=CD7)*(DD$3:DD$105=CD6)*DC$3:DC$105)+SUMPRODUCT((DA$3:DA$105=CD8)*(DD$3:DD$105=CD7)*DB$3:DB$105)+SUMPRODUCT((DA$3:DA$105=CD4)*(DD$3:DD$105=CD7)*DB$3:DB$105)+SUMPRODUCT((DA$3:DA$105=CD5)*(DD$3:DD$105=CD7)*DB$3:DB$105)+SUMPRODUCT((DA$3:DA$105=CD6)*(DD$3:DD$105=CD7)*DB$3:DB$105) -> 0 | CJ7: =CH7-CI7+1000 -> 1000 | CK7: =IF(CD7<>"",CE7*3+CF7*1,"") | CL7: =IF(CD7<>"",VLOOKUP(CD7,C$4:I$52,7,FALSE),"") | CM7: =IF(CD7<>"",VLOOKUP(CD7,C$4:I$52,5,FALSE),"") | CN7: =IF(CD7<>"",VLOOKUP(CD7,C$4:K$52,9,FALSE),"") | CO7: =CK7 | CP7: =IF(CD7<>"",RANK(CO7,CO4:CO8),"") | CQ7: =IF(CD7<>"",SUMPRODUCT((CO4:CO8=CO7)*(CJ4:CJ8>CJ7)),"") | CR7: =IF(CD7<>"",SUMPRODUCT((CO4:CO8=CO7)*(CJ4:CJ8=CJ7)*(CH4:CH8>CH7)),"") | CS7: =IF(CD7<>"",SUMPRODUCT((CO4:CO8=CO7)*(CJ4:CJ8=CJ7)*(CH4:CH8=CH7)*(CL4:CL8>CL7)),"") | CT7: =IF(CD7<>"",SUMPRODUCT((CO4:CO8=CO7)*(CJ4:CJ8=CJ7)*(CH4:CH8=CH7)*(CL4:CL8=CL7)*(CM4:CM8>CM7)),"") | CU7: =IF(CD7<>"",SUMPRODUCT((CO4:CO8=CO7)*(CJ4:CJ8=CJ7)*(CH4:CH8=CH7)*(CL4:CL8=CL7)*(CM4:CM8=CM7)*(CN4:CN8>CN7)),"") | CV7: =IF(CD7<>"",SUM(CP7:CU7)+3,"") | CW7: =IF(CD7<>"",IF(CV7=4,CD7,CD8),"") | CX7: =IF(CW7<>"",CW7,IF(CC7<>"",CC7,IF(BI7<>"",BI7,IF(AO7<>"",AO7,O7)))) -> South Africa | CY7: 4 | CZ7: 5 | DA7: =Matches!H8 -> Haiti | DB7: =IF($DA$2<>"",IF(AND(Matches!J8<>"",Matches!K8<>""),Matches!J8,0),"") -> 0 | DC7: =IF($DA$2<>"",IF(AND(Matches!J8<>"",Matches!K8<>""),Matches!K8,0),"") -> 0 | DD7: =Matches!M8 -> Scotland | DE7: =IF(AND(Matches!J8<>"",Matches!K8<>""),IF(DB7>DC7,"W",IF(DB7=DC7,"D","L")),"") | DF7: =IF(DE7<>"",IF(DE7="W","L",IF(DE7="L","W","D")),"") | DQ7: A | DS7: =EE7 -> Mexico | DT7: DR7 | DV7: 1 | DW7: -12 | DX7: =TimeZoneData -> 0 | DY7: 1 | DZ7: =EA7 -> 46184.625 | EA7: 46184.625 | EB7: =EA7+TimeZoneData/24 -> 46184.625 | ED7: =SUM(Matches!S5:S8) -> 10 | EE7: =INDEX(Language!$A$1:$K$177,MATCH(Setup!B8,Language!$B$1:$B$177,0),MATCH(Setup!$C$5,Language!$A$1:$J$1,0)) -> Mexico
CZ8: 6 | DA8: =Matches!H9 -> Australia | DB8: =IF($DA$2<>"",IF(AND(Matches!J9<>"",Matches!K9<>""),Matches!J9,0),"") -> 0 | DC8: =IF($DA$2<>"",IF(AND(Matches!J9<>"",Matches!K9<>""),Matches!K9,0),"") -> 0 | DD8: =Matches!M9 -> Türkiye | DE8: =IF(AND(Matches!J9<>"",Matches!K9<>""),IF(DB8>DC8,"W",IF(DB8=DC8,"D","L")),"") | DF8: =IF(DE8<>"",IF(DE8="W","L",IF(DE8="L","W","D")),"") | DS8: =EE8 -> South Africa | DT8: DR8 | DV8: 2 | DW8: -11.5 | DY8: 2 | DZ8: =EA8 -> 46184.917 | EA8: 46184.917 | EB8: =EA8+TimeZoneData/24 -> 46184.917 | EE8: =INDEX(Language!$A$1:$K$177,MATCH(Setup!B9,Language!$B$1:$B$177,0),MATCH(Setup!$C$5,Language!$A$1:$J$1,0)) -> South Africa
BH9: Y | CZ9: 7 | DA9: =Matches!H10 -> Brazil | DB9: =IF($DA$2<>"",IF(AND(Matches!J10<>"",Matches!K10<>""),Matches!J10,0),"") -> 0 | DC9: =IF($DA$2<>"",IF(AND(Matches!J10<>"",Matches!K10<>""),Matches!K10,0),"") -> 0 | DD9: =Matches!M10 -> Morocco | DE9: =IF(AND(Matches!J10<>"",Matches!K10<>""),IF(DB9>DC9,"W",IF(DB9=DC9,"D","L")),"") | DF9: =IF(DE9<>"",IF(DE9="W","L",IF(DE9="L","W","D")),"") | DS9: =EE9 -> Korea Republic | DT9: DR9 | DV9: 3 | DW9: -11 | DY9: 3 | DZ9: =EA9 -> 46185.625 | EA9: 46185.625 | EB9: =EA9+TimeZoneData/24 -> 46185.625 | EE9: =INDEX(Language!$A$1:$K$177,MATCH(Setup!B10,Language!$B$1:$B$177,0),MATCH(Setup!$C$5,Language!$A$1:$J$1,0)) -> Korea Republic
CZ10: 8 | DA10: =Matches!H11 -> Qatar | DB10: =IF($DA$2<>"",IF(AND(Matches!J11<>"",Matches!K11<>""),Matches!J11,0),"") -> 0 | DC10: =IF($DA$2<>"",IF(AND(Matches!J11<>"",Matches!K11<>""),Matches!K11,0),"") -> 0 | DD10: =Matches!M11 -> Switzerland | DE10: =IF(AND(Matches!J11<>"",Matches!K11<>""),IF(DB10>DC10,"W",IF(DB10=DC10,"D","L")),"") | DF10: =IF(DE10<>"",IF(DE10="W","L",IF(DE10="L","W","D")),"") | DS10: =EE10 -> Czechia | DT10: DR10 | DV10: 4 | DW10: -10.5 | DY10: 4 | DZ10: =EA10 -> 46185.875 | EA10: 46185.875 | EB10: =EA10+TimeZoneData/24 -> 46185.875 | EE10: =INDEX(Language!$A$1:$K$177,MATCH(Setup!B11,Language!$B$1:$B$177,0),MATCH(Setup!$C$5,Language!$A$1:$J$1,0)) -> Czechia
A11: =Setup!F12+100 -> 129 | B11: =VLOOKUP(C11,CX$11:CY$15,2,FALSE) -> 2 | C11: =EE11 -> Canada | D11: =SUMPRODUCT((DA$3:DA$105=C11)*(DE$3:DE$105="W"))+SUMPRODUCT((DD$3:DD$105=C11)*(DF$3:DF$105="W")) -> 0 | E11: =SUMPRODUCT((DA$3:DA$105=C11)*(DE$3:DE$105="D"))+SUMPRODUCT((DD$3:DD$105=C11)*(DF$3:DF$105="D")) -> 0 | F11: =SUMPRODUCT((DA$3:DA$105=C11)*(DE$3:DE$105="L"))+SUMPRODUCT((DD$3:DD$105=C11)*(DF$3:DF$105="L")) -> 0 | G11: =SUMIF(DA3:DA123,C11,DB3:DB123)+SUMIF(DD3:DD123,C11,DC3:DC123) -> 0 | H11: =SUMIF(DD3:DD123,C11,DB3:DB123)+SUMIF(DA3:DA123,C11,DC3:DC123) -> 0 | I11: =G11-H11+1000 -> 1000 | J11: =D11*3+E11*1 -> 0 | K11: =IF(Setup!G12<>"",Setup!G12,-A11) -> -129 | L11: =IF(COUNTIF(J11:J15,4)<>4,RANK(J11,J11:J15),J90) -> 1 | N11: =SUMPRODUCT((L11:L14=L11)*(K11:K14<K11))+L11 -> 3 | O11: =INDEX(C11:C15,MATCH(1,N11:N15,0),0) -> Bosnia and Herzegovina | P11: =INDEX(L11:L15,MATCH(O11,C11:C15,0),0) -> 1 | Q11: =IF(P12=1,O11,"") -> Bosnia and Herzegovina | R11: =IF(P13=2,O12,"") | S11: =IF(P14=3,O13,"") | T11: =IF(P15=4,O14,"") | V11: =IF(Q11<>"",Q11,"") -> Bosnia and Herzegovina | W11: =SUMPRODUCT((DA$3:DA$105=V11)*(DD$3:DD$105=V12)*(DE$3:DE$105="W"))+SUMPRODUCT((DA$3:DA$105=V11)*(DD$3:DD$105=V13)*(DE$3:DE$105="W"))+SUMPRODUCT((DA$3:DA$105=V11)*(DD$3:DD$105=V14)*(DE$3:DE$105="W"))+SUMPRODUCT((DA$3:DA$105=V11)*(DD$3:DD$105=V15)*(DE$3:DE$105="W"))+SUMPRODUCT((DA$3:DA$105=V12)*(DD$3:DD$105=V11)*(DF$3:DF$105="W"))+SUMPRODUCT((DA$3:DA$105=V13)*(DD$3:DD$105=V11)*(DF$3:DF$105="W"))+SUMPRODUCT((DA$3:DA$105=V14)*(DD$3:DD$105=V11)*(DF$3:DF$105="W"))+SUMPRODUCT((DA$3:DA$105=V15)*(DD$3:DD$105=V11)*(DF$3:DF$105="W")) -> 0 | X11: =SUMPRODUCT((DA$3:DA$105=V11)*(DD$3:DD$105=V12)*(DE$3:DE$105="D"))+SUMPRODUCT((DA$3:DA$105=V11)*(DD$3:DD$105=V13)*(DE$3:DE$105="D"))+SUMPRODUCT((DA$3:DA$105=V11)*(DD$3:DD$105=V14)*(DE$3:DE$105="D"))+SUMPRODUCT((DA$3:DA$105=V11)*(DD$3:DD$105=V15)*(DE$3:DE$105="D"))+SUMPRODUCT((DA$3:DA$105=V12)*(DD$3:DD$105=V11)*(DE$3:DE$105="D"))+SUMPRODUCT((DA$3:DA$105=V13)*(DD$3:DD$105=V11)*(DE$3:DE$105="D"))+SUMPRODUCT((DA$3:DA$105=V14)*(DD$3:DD$105=V11)*(DE$3:DE$105="D"))+SUMPRODUCT((DA$3:DA$105=V15)*(DD$3:DD$105=V11)*(DE$3:DE$105="D")) -> 0 | Y11: =SUMPRODUCT((DA$3:DA$105=V11)*(DD$3:DD$105=V12)*(DE$3:DE$105="L"))+SUMPRODUCT((DA$3:DA$105=V11)*(DD$3:DD$105=V13)*(DE$3:DE$105="L"))+SUMPRODUCT((DA$3:DA$105=V11)*(DD$3:DD$105=V14)*(DE$3:DE$105="L"))+SUMPRODUCT((DA$3:DA$105=V11)*(DD$3:DD$105=V15)*(DE$3:DE$105="L"))+SUMPRODUCT((DA$3:DA$105=V12)*(DD$3:DD$105=V11)*(DF$3:DF$105="L"))+SUMPRODUCT((DA$3:DA$105=V13)*(DD$3:DD$105=V11)*(DF$3:DF$105="L"))+SUMPRODUCT((DA$3:DA$105=V14)*(DD$3:DD$105=V11)*(DF$3:DF$105="L"))+SUMPRODUCT((DA$3:DA$105=V15)*(DD$3:DD$105=V11)*(DF$3:DF$105="L")) -> 0 | Z11: =SUMPRODUCT((DA$3:DA$105=V11)*(DD$3:DD$105=V12)*DB$3:DB$105)+SUMPRODUCT((DA$3:DA$105=V11)*(DD$3:DD$105=V13)*DB$3:DB$105)+SUMPRODUCT((DA$3:DA$105=V11)*(DD$3:DD$105=V14)*DB$3:DB$105)+SUMPRODUCT((DA$3:DA$105=V11)*(DD$3:DD$105=V15)*DB$3:DB$105)+SUMPRODUCT((DA$3:DA$105=V12)*(DD$3:DD$105=V11)*DC$3:DC$105)+SUMPRODUCT((DA$3:DA$105=V13)*(DD$3:DD$105=V11)*DC$3:DC$105)+SUMPRODUCT((DA$3:DA$105=V14)*(DD$3:DD$105=V11)*DC$3:DC$105)+SUMPRODUCT((DA$3:DA$105=V15)*(DD$3:DD$105=V11)*DC$3:DC$105) -> 0 | AA11: =SUMPRODUCT((DA$3:DA$105=V11)*(DD$3:DD$105=V12)*DC$3:DC$105)+SUMPRODUCT((DA$3:DA$105=V11)*(DD$3:DD$105=V13)*DC$3:DC$105)+SUMPRODUCT((DA$3:DA$105=V11)*(DD$3:DD$105=V14)*DC$3:DC$105)+SUMPRODUCT((DA$3:DA$105=V11)*(DD$3:DD$105=V15)*DC$3:DC$105)+SUMPRODUCT((DA$3:DA$105=V12)*(DD$3:DD$105=V11)*DB$3:DB$105)+SUMPRODUCT((DA$3:DA$105=V13)*(DD$3:DD$105=V11)*DB$3:DB$105)+SUMPRODUCT((DA$3:DA$105=V14)*(DD$3:DD$105=V11)*DB$3:DB$105)+SUMPRODUCT((DA$3:DA$105=V15)*(DD$3:DD$105=V11)*DB$3:DB$105) -> 0 | AB11: =Z11-AA11+1000 -> 1000 | AC11: =IF(V11<>"",W11*3+X11*1,"") -> 0 | AD11: =IF(V11<>"",VLOOKUP(V11,C$4:I$52,7,FALSE),"") -> 1000 | AE11: =IF(V11<>"",VLOOKUP(V11,C$4:I$52,5,FALSE),"") -> 0 | AF11: =IF(V11<>"",VLOOKUP(V11,C$4:K$52,9,FALSE),"") -> -171 | AG11: =AC11 -> 0 | AH11: =IF(V11<>"",RANK(AG11,AG11:AG15),"") -> 1 | AI11: =IF(V11<>"",SUMPRODUCT((AG11:AG15=AG11)*(AB11:AB15>AB11)),"") -> 0 | AJ11: =IF(V11<>"",SUMPRODUCT((AG11:AG15=AG11)*(AB11:AB15=AB11)*(Z11:Z15>Z11)),"") -> 0 | AK11: =IF(V11<>"",SUMPRODUCT((AG11:AG15=AG11)*(AB11:AB15=AB11)*(Z11:Z15=Z11)*(AD11:AD15>AD11)),"") -> 0 | AL11: =IF(V11<>"",SUMPRODUCT((AG11:AG15=AG11)*(AB11:AB15=AB11)*(Z11:Z15=Z11)*(AD11:AD15=AD11)*(AE11:AE15>AE11)),"") -> 0 | AM11: =IF(V11<>"",SUMPRODUCT((AG11:AG15=AG11)*(AB11:AB15=AB11)*(Z11:Z15=Z11)*(AD11:AD15=AD11)*(AE11:AE15=AE11)*(AF11:AF15>AF11)),"") -> 3 | AN11: =IF(V11<>"",IF(AN90<>"",IF(U89=3,AN90,AN90+U89),SUM(AH11:AM11)),"") -> 4 | AO11: =IF(V11<>"",INDEX(V11:V15,MATCH(1,AN11:AN15,0),0),"") -> Switzerland | CX11: =IF(AO11<>"",AO11,O11) -> Switzerland | CY11: 1 | CZ11: 9 | DA11: =Matches!H12 -> Cote D'Voire | DB11: =IF($DA$2<>"",IF(AND(Matches!J12<>"",Matches!K12<>""),Matches!J12,0),"") -> 0 | DC11: =IF($DA$2<>"",IF(AND(Matches!J12<>"",Matches!K12<>""),Matches!K12,0),"") -> 0 | DD11: =Matches!M12 -> Ecuador | DE11: =IF(AND(Matches!J12<>"",Matches!K12<>""),IF(DB11>DC11,"W",IF(DB11=DC11,"D","L")),"") | DF11: =IF(DE11<>"",IF(DE11="W","L",IF(DE11="L","W","D")),"") | DQ11: B | DS11: =EE11 -> Canada | DT11: DR11 | DV11: 5 | DW11: -10 | DY11: 5 | DZ11: =EA11 -> 46186.875 | EA11: 46186.875 | EB11: =EA11+TimeZoneData/24 -> 46186.875 | EE11: =INDEX(Language!$A$1:$K$177,MATCH(Setup!B12,Language!$B$1:$B$177,0),MATCH(Setup!$C$5,Language!$A$1:$J$1,0)) -> Canada
A12: =Setup!F13+100 -> 171 | B12: =VLOOKUP(C12,CX$11:CY$15,2,FALSE) -> 4 | C12: =EE12 -> Bosnia and Herzegovina | D12: =SUMPRODUCT((DA$3:DA$105=C12)*(DE$3:DE$105="W"))+SUMPRODUCT((DD$3:DD$105=C12)*(DF$3:DF$105="W")) -> 0 | E12: =SUMPRODUCT((DA$3:DA$105=C12)*(DE$3:DE$105="D"))+SUMPRODUCT((DD$3:DD$105=C12)*(DF$3:DF$105="D")) -> 0 | F12: =SUMPRODUCT((DA$3:DA$105=C12)*(DE$3:DE$105="L"))+SUMPRODUCT((DD$3:DD$105=C12)*(DF$3:DF$105="L")) -> 0 | G12: =SUMIF(DA3:DA123,C12,DB3:DB123)+SUMIF(DD3:DD123,C12,DC3:DC123) -> 0 | H12: =SUMIF(DD3:DD123,C12,DB3:DB123)+SUMIF(DA3:DA123,C12,DC3:DC123) -> 0 | I12: =G12-H12+1000 -> 1000 | J12: =D12*3+E12*1 -> 0 | K12: =IF(Setup!G13<>"",Setup!G13,-A12) -> -171 | L12: =IF(COUNTIF(J11:J15,4)<>4,RANK(J12,J11:J15),J91) -> 1 | N12: =SUMPRODUCT((L11:L14=L12)*(K11:K14<K12))+L12 -> 1 | O12: =INDEX(C11:C15,MATCH(2,N11:N15,0),0) -> Qatar | P12: =INDEX(L11:L15,MATCH(O12,C11:C15,0),0) -> 1 | Q12: =IF(Q11<>"",O12,"") -> Qatar | R12: =IF(R11<>"",O13,"") | S12: =IF(S11<>"",O14,"") | T12: =IF(T11<>"",O15,"") | V12: =IF(Q12<>"",Q12,"") -> Qatar | W12: =SUMPRODUCT((DA$3:DA$105=V12)*(DD$3:DD$105=V13)*(DE$3:DE$105="W"))+SUMPRODUCT((DA$3:DA$105=V12)*(DD$3:DD$105=V14)*(DE$3:DE$105="W"))+SUMPRODUCT((DA$3:DA$105=V12)*(DD$3:DD$105=V15)*(DE$3:DE$105="W"))+SUMPRODUCT((DA$3:DA$105=V12)*(DD$3:DD$105=V11)*(DE$3:DE$105="W"))+SUMPRODUCT((DA$3:DA$105=V13)*(DD$3:DD$105=V12)*(DF$3:DF$105="W"))+SUMPRODUCT((DA$3:DA$105=V14)*(DD$3:DD$105=V12)*(DF$3:DF$105="W"))+SUMPRODUCT((DA$3:DA$105=V15)*(DD$3:DD$105=V12)*(DF$3:DF$105="W"))+SUMPRODUCT((DA$3:DA$105=V11)*(DD$3:DD$105=V12)*(DF$3:DF$105="W")) -> 0 | X12: =SUMPRODUCT((DA$3:DA$105=V12)*(DD$3:DD$105=V13)*(DE$3:DE$105="D"))+SUMPRODUCT((DA$3:DA$105=V12)*(DD$3:DD$105=V14)*(DE$3:DE$105="D"))+SUMPRODUCT((DA$3:DA$105=V12)*(DD$3:DD$105=V15)*(DE$3:DE$105="D"))+SUMPRODUCT((DA$3:DA$105=V12)*(DD$3:DD$105=V11)*(DE$3:DE$105="D"))+SUMPRODUCT((DA$3:DA$105=V13)*(DD$3:DD$105=V12)*(DE$3:DE$105="D"))+SUMPRODUCT((DA$3:DA$105=V14)*(DD$3:DD$105=V12)*(DE$3:DE$105="D"))+SUMPRODUCT((DA$3:DA$105=V15)*(DD$3:DD$105=V12)*(DE$3:DE$105="D"))+SUMPRODUCT((DA$3:DA$105=V11)*(DD$3:DD$105=V12)*(DE$3:DE$105="D")) -> 0 | Y12: =SUMPRODUCT((DA$3:DA$105=V12)*(DD$3:DD$105=V13)*(DE$3:DE$105="L"))+SUMPRODUCT((DA$3:DA$105=V12)*(DD$3:DD$105=V14)*(DE$3:DE$105="L"))+SUMPRODUCT((DA$3:DA$105=V12)*(DD$3:DD$105=V15)*(DE$3:DE$105="L"))+SUMPRODUCT((DA$3:DA$105=V12)*(DD$3:DD$105=V11)*(DE$3:DE$105="L"))+SUMPRODUCT((DA$3:DA$105=V13)*(DD$3:DD$105=V12)*(DF$3:DF$105="L"))+SUMPRODUCT((DA$3:DA$105=V14)*(DD$3:DD$105=V12)*(DF$3:DF$105="L"))+SUMPRODUCT((DA$3:DA$105=V15)*(DD$3:DD$105=V12)*(DF$3:DF$105="L"))+SUMPRODUCT((DA$3:DA$105=V11)*(DD$3:DD$105=V12)*(DF$3:DF$105="L")) -> 0 | Z12: =SUMPRODUCT((DA$3:DA$105=V12)*(DD$3:DD$105=V13)*DB$3:DB$105)+SUMPRODUCT((DA$3:DA$105=V12)*(DD$3:DD$105=V14)*DB$3:DB$105)+SUMPRODUCT((DA$3:DA$105=V12)*(DD$3:DD$105=V15)*DB$3:DB$105)+SUMPRODUCT((DA$3:DA$105=V12)*(DD$3:DD$105=V11)*DB$3:DB$105)+SUMPRODUCT((DA$3:DA$105=V13)*(DD$3:DD$105=V12)*DC$3:DC$105)+SUMPRODUCT((DA$3:DA$105=V14)*(DD$3:DD$105=V12)*DC$3:DC$105)+SUMPRODUCT((DA$3:DA$105=V15)*(DD$3:DD$105=V12)*DC$3:DC$105)+SUMPRODUCT((DA$3:DA$105=V11)*(DD$3:DD$105=V12)*DC$3:DC$105) -> 0 | AA12: =SUMPRODUCT((DA$3:DA$105=V12)*(DD$3:DD$105=V13)*DC$3:DC$105)+SUMPRODUCT((DA$3:DA$105=V12)*(DD$3:DD$105=V14)*DC$3:DC$105)+SUMPRODUCT((DA$3:DA$105=V12)*(DD$3:DD$105=V15)*DC$3:DC$105)+SUMPRODUCT((DA$3:DA$105=V12)*(DD$3:DD$105=V11)*DC$3:DC$105)+SUMPRODUCT((DA$3:DA$105=V13)*(DD$3:DD$105=V12)*DB$3:DB$105)+SUMPRODUCT((DA$3:DA$105=V14)*(DD$3:DD$105=V12)*DB$3:DB$105)+SUMPRODUCT((DA$3:DA$105=V15)*(DD$3:DD$105=V12)*DB$3:DB$105)+SUMPRODUCT((DA$3:DA$105=V11)*(DD$3:DD$105=V12)*DB$3:DB$105) -> 0 | AB12: =Z12-AA12+1000 -> 1000 | AC12: =IF(V12<>"",W12*3+X12*1,"") -> 0 | AD12: =IF(V12<>"",VLOOKUP(V12,C$4:I$52,7,FALSE),"") -> 1000 | AE12: =IF(V12<>"",VLOOKUP(V12,C$4:I$52,5,FALSE),"") -> 0 | AF12: =IF(V12<>"",VLOOKUP(V12,C$4:K$52,9,FALSE),"") -> -156 | AG12: =AC12 -> 0 | AH12: =IF(V12<>"",RANK(AG12,AG11:AG15),"") -> 1 | AI12: =IF(V12<>"",SUMPRODUCT((AG11:AG15=AG12)*(AB11:AB15>AB12)),"") -> 0 | AJ12: =IF(V12<>"",SUMPRODUCT((AG11:AG15=AG12)*(AB11:AB15=AB12)*(Z11:Z15>Z12)),"") -> 0 | AK12: =IF(V12<>"",SUMPRODUCT((AG11:AG15=AG12)*(AB11:AB15=AB12)*(Z11:Z15=Z12)*(AD11:AD15>AD12)),"") -> 0 | AL12: =IF(V12<>"",SUMPRODUCT((AG11:AG15=AG12)*(AB11:AB15=AB12)*(Z11:Z15=Z12)*(AD11:AD15=AD12)*(AE11:AE15>AE12)),"") -> 0 | AM12: =IF(V12<>"",SUMPRODUCT((AG11:AG15=AG12)*(AB11:AB15=AB12)*(Z11:Z15=Z12)*(AD11:AD15=AD12)*(AE11:AE15=AE12)*(AF11:AF15>AF12)),"") -> 2 | AN12: =IF(V12<>"",IF(AN91<>"",IF(U89=3,AN91,AN91+U89),SUM(AH12:AM12)),"") -> 3 | AO12: =IF(V12<>"",INDEX(V11:V15,MATCH(2,AN11:AN15,0),0),"") -> Canada | AP12: =IF(R11<>"",R11,"") | AQ12: =SUMPRODUCT((DA$3:DA$105=AP12)*(DD$3:DD$105=AP13)*(DE$3:DE$105="W"))+SUMPRODUCT((DA$3:DA$105=AP12)*(DD$3:DD$105=AP14)*(DE$3:DE$105="W"))+SUMPRODUCT((DA$3:DA$105=AP12)*(DD$3:DD$105=AP15)*(DE$3:DE$105="W"))+SUMPRODUCT((DA$3:DA$105=AP13)*(DD$3:DD$105=AP12)*(DF$3:DF$105="W"))+SUMPRODUCT((DA$3:DA$105=AP14)*(DD$3:DD$105=AP12)*(DF$3:DF$105="W"))+SUMPRODUCT((DA$3:DA$105=AP15)*(DD$3:DD$105=AP12)*(DF$3:DF$105="W")) -> 0 | AR12: =SUMPRODUCT((DA$3:DA$105=AP12)*(DD$3:DD$105=AP13)*(DE$3:DE$105="D"))+SUMPRODUCT((DA$3:DA$105=AP12)*(DD$3:DD$105=AP14)*(DE$3:DE$105="D"))+SUMPRODUCT((DA$3:DA$105=AP12)*(DD$3:DD$105=AP15)*(DE$3:DE$105="D"))+SUMPRODUCT((DA$3:DA$105=AP13)*(DD$3:DD$105=AP12)*(DE$3:DE$105="D"))+SUMPRODUCT((DA$3:DA$105=AP14)*(DD$3:DD$105=AP12)*(DE$3:DE$105="D"))+SUMPRODUCT((DA$3:DA$105=AP15)*(DD$3:DD$105=AP12)*(DE$3:DE$105="D")) -> 0 | AS12: =SUMPRODUCT((DA$3:DA$105=AP12)*(DD$3:DD$105=AP13)*(DE$3:DE$105="L"))+SUMPRODUCT((DA$3:DA$105=AP12)*(DD$3:DD$105=AP14)*(DE$3:DE$105="L"))+SUMPRODUCT((DA$3:DA$105=AP12)*(DD$3:DD$105=AP15)*(DE$3:DE$105="L"))+SUMPRODUCT((DA$3:DA$105=AP13)*(DD$3:DD$105=AP12)*(DF$3:DF$105="L"))+SUMPRODUCT((DA$3:DA$105=AP14)*(DD$3:DD$105=AP12)*(DF$3:DF$105="L"))+SUMPRODUCT((DA$3:DA$105=AP15)*(DD$3:DD$105=AP12)*(DF$3:DF$105="L")) -> 0 | AT12: =SUMPRODUCT((DA$3:DA$105=AP12)*(DD$3:DD$105=AP13)*DB$3:DB$105)+SUMPRODUCT((DA$3:DA$105=AP12)*(DD$3:DD$105=AP14)*DB$3:DB$105)+SUMPRODUCT((DA$3:DA$105=AP12)*(DD$3:DD$105=AP15)*DB$3:DB$105)+SUMPRODUCT((DA$3:DA$105=AP12)*(DD$3:DD$105=AP11)*DB$3:DB$105)+SUMPRODUCT((DA$3:DA$105=AP13)*(DD$3:DD$105=AP12)*DC$3:DC$105)+SUMPRODUCT((DA$3:DA$105=AP14)*(DD$3:DD$105=AP12)*DC$3:DC$105)+SUMPRODUCT((DA$3:DA$105=AP15)*(DD$3:DD$105=AP12)*DC$3:DC$105)+SUMPRODUCT((DA$3:DA$105=AP11)*(DD$3:DD$105=AP12)*DC$3:DC$105) -> 0 | AU12: =SUMPRODUCT((DA$3:DA$105=AP12)*(DD$3:DD$105=AP13)*DC$3:DC$105)+SUMPRODUCT((DA$3:DA$105=AP12)*(DD$3:DD$105=AP14)*DC$3:DC$105)+SUMPRODUCT((DA$3:DA$105=AP12)*(DD$3:DD$105=AP15)*DC$3:DC$105)+SUMPRODUCT((DA$3:DA$105=AP12)*(DD$3:DD$105=AP11)*DC$3:DC$105)+SUMPRODUCT((DA$3:DA$105=AP13)*(DD$3:DD$105=AP12)*DB$3:DB$105)+SUMPRODUCT((DA$3:DA$105=AP14)*(DD$3:DD$105=AP12)*DB$3:DB$105)+SUMPRODUCT((DA$3:DA$105=AP15)*(DD$3:DD$105=AP12)*DB$3:DB$105)+SUMPRODUCT((DA$3:DA$105=AP11)*(DD$3:DD$105=AP12)*DB$3:DB$105) -> 0 | AV12: =AT12-AU12+1000 -> 1000 | AW12: =IF(AP12<>"",AQ12*3+AR12*1,"") | AX12: =IF(AP12<>"",VLOOKUP(AP12,C$4:I$52,7,FALSE),"") | AY12: =IF(AP12<>"",VLOOKUP(AP12,C$4:I$52,5,FALSE),"") | AZ12: =IF(AP12<>"",VLOOKUP(AP12,C$4:K$52,9,FALSE),"") | BA12: =AW12 | BB12: =IF(AP12<>"",RANK(BA12,BA11:BA15),"") | BC12: =IF(AP12<>"",SUMPRODUCT((BA11:BA15=BA12)*(AV11:AV15>AV12)),"") | BD12: =IF(AP12<>"",SUMPRODUCT((BA11:BA15=BA12)*(AV11:AV15=AV12)*(AT11:AT15>AT12)),"") | BE12: =IF(AP12<>"",SUMPRODUCT((BA11:BA15=BA12)*(AV11:AV15=AV12)*(AT11:AT15=AT12)*(AX11:AX15>AX12)),"") | BF12: =IF(AP12<>"",SUMPRODUCT((BA11:BA15=BA12)*(AV11:AV15=AV12)*(AT11:AT15=AT12)*(AX11:AX15=AX12)*(AY11:AY15>AY12)),"") | BG12: =IF(AP12<>"",SUMPRODUCT((BA11:BA15=BA12)*(AV11:AV15=AV12)*(AT11:AT15=AT12)*(AX11:AX15=AX12)*(AY11:AY15=AY12)*(AZ11:AZ15>AZ12)),"") | BH12: =IF(AP12<>"",IF(BH91<>"",IF(AO89=3,BH91,BH91+AO89),SUM(BB12:BG12)+1),"") | BI12: =IF(AP12<>"",INDEX(AP12:AP15,MATCH(2,BH12:BH15,0),0),"") | CX12: =IF(BI12<>"",BI12,IF(AO12<>"",AO12,O12)) -> Canada | CY12: 2 | CZ12: 10 | DA12: =Matches!H13 -> Germany | DB12: =IF($DA$2<>"",IF(AND(Matches!J13<>"",Matches!K13<>""),Matches!J13,0),"") -> 0 | DC12: =IF($DA$2<>"",IF(AND(Matches!J13<>"",Matches!K13<>""),Matches!K13,0),"") -> 0 | DD12: =Matches!M13 -> Curacao | DE12: =IF(AND(Matches!J13<>"",Matches!K13<>""),IF(DB12>DC12,"W",IF(DB12=DC12,"D","L")),"") | DF12: =IF(DE12<>"",IF(DE12="W","L",IF(DE12="L","W","D")),"") | DS12: =EE12 -> Bosnia and Herzegovina | DT12: DR12 | DV12: 6 | DW12: -9.5 | DY12: 6 | DZ12: =EA12 -> 46187 | EA12: 46187 | EB12: =EA12+TimeZoneData/24 -> 46187 | EE12: =INDEX(Language!$A$1:$K$177,MATCH(Setup!B13,Language!$B$1:$B$177,0),MATCH(Setup!$C$5,Language!$A$1:$J$1,0)) -> Bosnia and Herzegovina
A13: =Setup!F14+100 -> 156 | B13: =VLOOKUP(C13,CX$11:CY$15,2,FALSE) -> 3 | C13: =EE13 -> Qatar | D13: =SUMPRODUCT((DA$3:DA$105=C13)*(DE$3:DE$105="W"))+SUMPRODUCT((DD$3:DD$105=C13)*(DF$3:DF$105="W")) -> 0 | E13: =SUMPRODUCT((DA$3:DA$105=C13)*(DE$3:DE$105="D"))+SUMPRODUCT((DD$3:DD$105=C13)*(DF$3:DF$105="D")) -> 0 | F13: =SUMPRODUCT((DA$3:DA$105=C13)*(DE$3:DE$105="L"))+SUMPRODUCT((DD$3:DD$105=C13)*(DF$3:DF$105="L")) -> 0 | G13: =SUMIF(DA3:DA123,C13,DB3:DB123)+SUMIF(DD3:DD123,C13,DC3:DC123) -> 0 | H13: =SUMIF(DD3:DD123,C13,DB3:DB123)+SUMIF(DA3:DA123,C13,DC3:DC123) -> 0 | I13: =G13-H13+1000 -> 1000 | J13: =D13*3+E13*1 -> 0 | K13: =IF(Setup!G14<>"",Setup!G14,-A13) -> -156 | L13: =IF(COUNTIF(J11:J15,4)<>4,RANK(J13,J11:J15),J92) -> 1 | N13: =SUMPRODUCT((L11:L14=L13)*(K11:K14<K13))+L13 -> 2 | O13: =INDEX(C11:C15,MATCH(3,N11:N15,0),0) -> Canada | P13: =INDEX(L11:L15,MATCH(O13,C11:C15,0),0) -> 1 | Q13: =IF(AND(Q12<>"",P13=1),O13,"") -> Canada | R13: =IF(AND(R12<>"",P14=2),O14,"") | S13: =IF(AND(S12<>"",P15=3),O15,"") | V13: =IF(Q13<>"",Q13,"") -> Canada | W13: =SUMPRODUCT((DA$3:DA$105=V13)*(DD$3:DD$105=V14)*(DE$3:DE$105="W"))+SUMPRODUCT((DA$3:DA$105=V13)*(DD$3:DD$105=V15)*(DE$3:DE$105="W"))+SUMPRODUCT((DA$3:DA$105=V13)*(DD$3:DD$105=V11)*(DE$3:DE$105="W"))+SUMPRODUCT((DA$3:DA$105=V13)*(DD$3:DD$105=V12)*(DE$3:DE$105="W"))+SUMPRODUCT((DA$3:DA$105=V14)*(DD$3:DD$105=V13)*(DF$3:DF$105="W"))+SUMPRODUCT((DA$3:DA$105=V15)*(DD$3:DD$105=V13)*(DF$3:DF$105="W"))+SUMPRODUCT((DA$3:DA$105=V11)*(DD$3:DD$105=V13)*(DF$3:DF$105="W"))+SUMPRODUCT((DA$3:DA$105=V12)*(DD$3:DD$105=V13)*(DF$3:DF$105="W")) -> 0 | X13: =SUMPRODUCT((DA$3:DA$105=V13)*(DD$3:DD$105=V14)*(DE$3:DE$105="D"))+SUMPRODUCT((DA$3:DA$105=V13)*(DD$3:DD$105=V15)*(DE$3:DE$105="D"))+SUMPRODUCT((DA$3:DA$105=V13)*(DD$3:DD$105=V11)*(DE$3:DE$105="D"))+SUMPRODUCT((DA$3:DA$105=V13)*(DD$3:DD$105=V12)*(DE$3:DE$105="D"))+SUMPRODUCT((DA$3:DA$105=V14)*(DD$3:DD$105=V13)*(DE$3:DE$105="D"))+SUMPRODUCT((DA$3:DA$105=V15)*(DD$3:DD$105=V13)*(DE$3:DE$105="D"))+SUMPRODUCT((DA$3:DA$105=V11)*(DD$3:DD$105=V13)*(DE$3:DE$105="D"))+SUMPRODUCT((DA$3:DA$105=V12)*(DD$3:DD$105=V13)*(DE$3:DE$105="D")) -> 0 | Y13: =SUMPRODUCT((DA$3:DA$105=V13)*(DD$3:DD$105=V14)*(DE$3:DE$105="L"))+SUMPRODUCT((DA$3:DA$105=V13)*(DD$3:DD$105=V15)*(DE$3:DE$105="L"))+SUMPRODUCT((DA$3:DA$105=V13)*(DD$3:DD$105=V11)*(DE$3:DE$105="L"))+SUMPRODUCT((DA$3:DA$105=V13)*(DD$3:DD$105=V12)*(DE$3:DE$105="L"))+SUMPRODUCT((DA$3:DA$105=V14)*(DD$3:DD$105=V13)*(DF$3:DF$105="L"))+SUMPRODUCT((DA$3:DA$105=V15)*(DD$3:DD$105=V13)*(DF$3:DF$105="L"))+SUMPRODUCT((DA$3:DA$105=V11)*(DD$3:DD$105=V13)*(DF$3:DF$105="L"))+SUMPRODUCT((DA$3:DA$105=V12)*(DD$3:DD$105=V13)*(DF$3:DF$105="L")) -> 0 | Z13: =SUMPRODUCT((DA$3:DA$105=V13)*(DD$3:DD$105=V14)*DB$3:DB$105)+SUMPRODUCT((DA$3:DA$105=V13)*(DD$3:DD$105=V15)*DB$3:DB$105)+SUMPRODUCT((DA$3:DA$105=V13)*(DD$3:DD$105=V11)*DB$3:DB$105)+SUMPRODUCT((DA$3:DA$105=V13)*(DD$3:DD$105=V12)*DB$3:DB$105)+SUMPRODUCT((DA$3:DA$105=V14)*(DD$3:DD$105=V13)*DC$3:DC$105)+SUMPRODUCT((DA$3:DA$105=V15)*(DD$3:DD$105=V13)*DC$3:DC$105)+SUMPRODUCT((DA$3:DA$105=V11)*(DD$3:DD$105=V13)*DC$3:DC$105)+SUMPRODUCT((DA$3:DA$105=V12)*(DD$3:DD$105=V13)*DC$3:DC$105) -> 0 | AA13: =SUMPRODUCT((DA$3:DA$105=V13)*(DD$3:DD$105=V14)*DC$3:DC$105)+SUMPRODUCT((DA$3:DA$105=V13)*(DD$3:DD$105=V15)*DC$3:DC$105)+SUMPRODUCT((DA$3:DA$105=V13)*(DD$3:DD$105=V11)*DC$3:DC$105)+SUMPRODUCT((DA$3:DA$105=V13)*(DD$3:DD$105=V12)*DC$3:DC$105)+SUMPRODUCT((DA$3:DA$105=V14)*(DD$3:DD$105=V13)*DB$3:DB$105)+SUMPRODUCT((DA$3:DA$105=V15)*(DD$3:DD$105=V13)*DB$3:DB$105)+SUMPRODUCT((DA$3:DA$105=V11)*(DD$3:DD$105=V13)*DB$3:DB$105)+SUMPRODUCT((DA$3:DA$105=V12)*(DD$3:DD$105=V13)*DB$3:DB$105) -> 0 | AB13: =Z13-AA13+1000 -> 1000 | AC13: =IF(V13<>"",W13*3+X13*1,"") -> 0 | AD13: =IF(V13<>"",VLOOKUP(V13,C$4:I$52,7,FALSE),"") -> 1000 | AE13: =IF(V13<>"",VLOOKUP(V13,C$4:I$52,5,FALSE),"") -> 0 | AF13: =IF(V13<>"",VLOOKUP(V13,C$4:K$52,9,FALSE),"") -> -129 | AG13: =AC13 -> 0 | AH13: =IF(V13<>"",RANK(AG13,AG11:AG15),"") -> 1 | AI13: =IF(V13<>"",SUMPRODUCT((AG11:AG15=AG13)*(AB11:AB15>AB13)),"") -> 0 | AJ13: =IF(V13<>"",SUMPRODUCT((AG11:AG15=AG13)*(AB11:AB15=AB13)*(Z11:Z15>Z13)),"") -> 0 | AK13: =IF(V13<>"",SUMPRODUCT((AG11:AG15=AG13)*(AB11:AB15=AB13)*(Z11:Z15=Z13)*(AD11:AD15>AD13)),"") -> 0 | AL13: =IF(V13<>"",SUMPRODUCT((AG11:AG15=AG13)*(AB11:AB15=AB13)*(Z11:Z15=Z13)*(AD11:AD15=AD13)*(AE11:AE15>AE13)),"") -> 0 | AM13: =IF(V13<>"",SUMPRODUCT((AG11:AG15=AG13)*(AB11:AB15=AB13)*(Z11:Z15=Z13)*(AD11:AD15=AD13)*(AE11:AE15=AE13)*(AF11:AF15>AF13)),"") -> 1 | AN13: =IF(V13<>"",IF(AN92<>"",IF(U89=3,AN92,AN92+U89),SUM(AH13:AM13)),"") -> 2 | AO13: =IF(V13<>"",INDEX(V11:V15,MATCH(3,AN11:AN15,0),0),"") -> Qatar | AP13: =IF(R12<>"",R12,"") | AQ13: =SUMPRODUCT((DA$3:DA$105=AP13)*(DD$3:DD$105=AP14)*(DE$3:DE$105="W"))+SUMPRODUCT((DA$3:DA$105=AP13)*(DD$3:DD$105=AP15)*(DE$3:DE$105="W"))+SUMPRODUCT((DA$3:DA$105=AP13)*(DD$3:DD$105=AP12)*(DE$3:DE$105="W"))+SUMPRODUCT((DA$3:DA$105=AP14)*(DD$3:DD$105=AP13)*(DF$3:DF$105="W"))+SUMPRODUCT((DA$3:DA$105=AP15)*(DD$3:DD$105=AP13)*(DF$3:DF$105="W"))+SUMPRODUCT((DA$3:DA$105=AP12)*(DD$3:DD$105=AP13)*(DF$3:DF$105="W")) -> 0 | AR13: =SUMPRODUCT((DA$3:DA$105=AP13)*(DD$3:DD$105=AP14)*(DE$3:DE$105="D"))+SUMPRODUCT((DA$3:DA$105=AP13)*(DD$3:DD$105=AP15)*(DE$3:DE$105="D"))+SUMPRODUCT((DA$3:DA$105=AP13)*(DD$3:DD$105=AP12)*(DE$3:DE$105="D"))+SUMPRODUCT((DA$3:DA$105=AP14)*(DD$3:DD$105=AP13)*(DE$3:DE$105="D"))+SUMPRODUCT((DA$3:DA$105=AP15)*(DD$3:DD$105=AP13)*(DE$3:DE$105="D"))+SUMPRODUCT((DA$3:DA$105=AP12)*(DD$3:DD$105=AP13)*(DE$3:DE$105="D")) -> 0 | AS13: =SUMPRODUCT((DA$3:DA$105=AP13)*(DD$3:DD$105=AP14)*(DE$3:DE$105="L"))+SUMPRODUCT((DA$3:DA$105=AP13)*(DD$3:DD$105=AP15)*(DE$3:DE$105="L"))+SUMPRODUCT((DA$3:DA$105=AP13)*(DD$3:DD$105=AP12)*(DE$3:DE$105="L"))+SUMPRODUCT((DA$3:DA$105=AP14)*(DD$3:DD$105=AP13)*(DF$3:DF$105="L"))+SUMPRODUCT((DA$3:DA$105=AP15)*(DD$3:DD$105=AP13)*(DF$3:DF$105="L"))+SUMPRODUCT((DA$3:DA$105=AP12)*(DD$3:DD$105=AP13)*(DF$3:DF$105="L")) -> 0 | AT13: =SUMPRODUCT((DA$3:DA$105=AP13)*(DD$3:DD$105=AP14)*DB$3:DB$105)+SUMPRODUCT((DA$3:DA$105=AP13)*(DD$3:DD$105=AP15)*DB$3:DB$105)+SUMPRODUCT((DA$3:DA$105=AP13)*(DD$3:DD$105=AP11)*DB$3:DB$105)+SUMPRODUCT((DA$3:DA$105=AP13)*(DD$3:DD$105=AP12)*DB$3:DB$105)+SUMPRODUCT((DA$3:DA$105=AP14)*(DD$3:DD$105=AP13)*DC$3:DC$105)+SUMPRODUCT((DA$3:DA$105=AP15)*(DD$3:DD$105=AP13)*DC$3:DC$105)+SUMPRODUCT((DA$3:DA$105=AP11)*(DD$3:DD$105=AP13)*DC$3:DC$105)+SUMPRODUCT((DA$3:DA$105=AP12)*(DD$3:DD$105=AP13)*DC$3:DC$105) -> 0 | AU13: =SUMPRODUCT((DA$3:DA$105=AP13)*(DD$3:DD$105=AP14)*DC$3:DC$105)+SUMPRODUCT((DA$3:DA$105=AP13)*(DD$3:DD$105=AP15)*DC$3:DC$105)+SUMPRODUCT((DA$3:DA$105=AP13)*(DD$3:DD$105=AP11)*DC$3:DC$105)+SUMPRODUCT((DA$3:DA$105=AP13)*(DD$3:DD$105=AP12)*DC$3:DC$105)+SUMPRODUCT((DA$3:DA$105=AP14)*(DD$3:DD$105=AP13)*DB$3:DB$105)+SUMPRODUCT((DA$3:DA$105=AP15)*(DD$3:DD$105=AP13)*DB$3:DB$105)+SUMPRODUCT((DA$3:DA$105=AP11)*(DD$3:DD$105=AP13)*DB$3:DB$105)+SUMPRODUCT((DA$3:DA$105=AP12)*(DD$3:DD$105=AP13)*DB$3:DB$105) -> 0 | AV13: =AT13-AU13+1000 -> 1000 | AW13: =IF(AP13<>"",AQ13*3+AR13*1,"") | AX13: =IF(AP13<>"",VLOOKUP(AP13,C$4:I$52,7,FALSE),"") | AY13: =IF(AP13<>"",VLOOKUP(AP13,C$4:I$52,5,FALSE),"") | AZ13: =IF(AP13<>"",VLOOKUP(AP13,C$4:K$52,9,FALSE),"") | BA13: =AW13 | BB13: =IF(AP13<>"",RANK(BA13,BA11:BA15),"") | BC13: =IF(AP13<>"",SUMPRODUCT((BA11:BA15=BA13)*(AV11:AV15>AV13)),"") | BD13: =IF(AP13<>"",SUMPRODUCT((BA11:BA15=BA13)*(AV11:AV15=AV13)*(AT11:AT15>AT13)),"") | BE13: =IF(AP13<>"",SUMPRODUCT((BA11:BA15=BA13)*(AV11:AV15=AV13)*(AT11:AT15=AT13)*(AX11:AX15>AX13)),"") | BF13: =IF(AP13<>"",SUMPRODUCT((BA11:BA15=BA13)*(AV11:AV15=AV13)*(AT11:AT15=AT13)*(AX11:AX15=AX13)*(AY11:AY15>AY13)),"") | BG13: =IF(AP13<>"",SUMPRODUCT((BA11:BA15=BA13)*(AV11:AV15=AV13)*(AT11:AT15=AT13)*(AX11:AX15=AX13)*(AY11:AY15=AY13)*(AZ11:AZ15>AZ13)),"") | BH13: =IF(AP13<>"",IF(BH92<>"",IF(AO89=3,BH92,BH92+AO89),SUM(BB13:BG13)+1),"") | BI13: =IF(AP13<>"",INDEX(AP12:AP15,MATCH(3,BH12:BH15,0),0),"") | BJ13: =IF(S11<>"",S11,"") | BK13: =SUMPRODUCT((DA$3:DA$105=BJ13)*(DD$3:DD$105=BJ14)*(DE$3:DE$105="W"))+SUMPRODUCT((DA$3:DA$105=BJ13)*(DD$3:DD$105=BJ15)*(DE$3:DE$105="W"))+SUMPRODUCT((DA$3:DA$105=BJ13)*(DD$3:DD$105=BJ16)*(DE$3:DE$105="W"))+SUMPRODUCT((DA$3:DA$105=BJ14)*(DD$3:DD$105=BJ13)*(DF$3:DF$105="W"))+SUMPRODUCT((DA$3:DA$105=BJ15)*(DD$3:DD$105=BJ13)*(DF$3:DF$105="W"))+SUMPRODUCT((DA$3:DA$105=BJ16)*(DD$3:DD$105=BJ13)*(DF$3:DF$105="W")) -> 0 | BL13: =SUMPRODUCT((DA$3:DA$105=BJ13)*(DD$3:DD$105=BJ14)*(DE$3:DE$105="D"))+SUMPRODUCT((DA$3:DA$105=BJ13)*(DD$3:DD$105=BJ15)*(DE$3:DE$105="D"))+SUMPRODUCT((DA$3:DA$105=BJ13)*(DD$3:DD$105=BJ16)*(DE$3:DE$105="D"))+SUMPRODUCT((DA$3:DA$105=BJ14)*(DD$3:DD$105=BJ13)*(DE$3:DE$105="D"))+SUMPRODUCT((DA$3:DA$105=BJ15)*(DD$3:DD$105=BJ13)*(DE$3:DE$105="D"))+SUMPRODUCT((DA$3:DA$105=BJ16)*(DD$3:DD$105=BJ13)*(DE$3:DE$105="D")) -> 0 | BM13: =SUMPRODUCT((DA$3:DA$105=BJ13)*(DD$3:DD$105=BJ14)*(DE$3:DE$105="L"))+SUMPRODUCT((DA$3:DA$105=BJ13)*(DD$3:DD$105=BJ15)*(DE$3:DE$105="L"))+SUMPRODUCT((DA$3:DA$105=BJ13)*(DD$3:DD$105=BJ16)*(DE$3:DE$105="L"))+SUMPRODUCT((DA$3:DA$105=BJ14)*(DD$3:DD$105=BJ13)*(DF$3:DF$105="L"))+SUMPRODUCT((DA$3:DA$105=BJ15)*(DD$3:DD$105=BJ13)*(DF$3:DF$105="L"))+SUMPRODUCT((DA$3:DA$105=BJ16)*(DD$3:DD$105=BJ13)*(DF$3:DF$105="L")) -> 0 | BN13: =SUMPRODUCT((DA$3:DA$105=BJ13)*(DD$3:DD$105=BJ14)*DB$3:DB$105)+SUMPRODUCT((DA$3:DA$105=BJ13)*(DD$3:DD$105=BJ15)*DB$3:DB$105)+SUMPRODUCT((DA$3:DA$105=BJ13)*(DD$3:DD$105=BJ11)*DB$3:DB$105)+SUMPRODUCT((DA$3:DA$105=BJ13)*(DD$3:DD$105=BJ12)*DB$3:DB$105)+SUMPRODUCT((DA$3:DA$105=BJ14)*(DD$3:DD$105=BJ13)*DC$3:DC$105)+SUMPRODUCT((DA$3:DA$105=BJ15)*(DD$3:DD$105=BJ13)*DC$3:DC$105)+SUMPRODUCT((DA$3:DA$105=BJ11)*(DD$3:DD$105=BJ13)*DC$3:DC$105)+SUMPRODUCT((DA$3:DA$105=BJ12)*(DD$3:DD$105=BJ13)*DC$3:DC$105) -> 0 | BO13: =SUMPRODUCT((DA$3:DA$105=BJ13)*(DD$3:DD$105=BJ14)*DC$3:DC$105)+SUMPRODUCT((DA$3:DA$105=BJ13)*(DD$3:DD$105=BJ15)*DC$3:DC$105)+SUMPRODUCT((DA$3:DA$105=BJ13)*(DD$3:DD$105=BJ11)*DC$3:DC$105)+SUMPRODUCT((DA$3:DA$105=BJ13)*(DD$3:DD$105=BJ12)*DC$3:DC$105)+SUMPRODUCT((DA$3:DA$105=BJ14)*(DD$3:DD$105=BJ13)*DB$3:DB$105)+SUMPRODUCT((DA$3:DA$105=BJ15)*(DD$3:DD$105=BJ13)*DB$3:DB$105)+SUMPRODUCT((DA$3:DA$105=BJ11)*(DD$3:DD$105=BJ13)*DB$3:DB$105)+SUMPRODUCT((DA$3:DA$105=BJ12)*(DD$3:DD$105=BJ13)*DB$3:DB$105) -> 0 | BP13: =BN13-BO13+1000 -> 1000 | BQ13: =IF(BJ13<>"",BK13*3+BL13*1,"") | BR13: =IF(BJ13<>"",VLOOKUP(BJ13,C$4:I$52,7,FALSE),"") | BS13: =IF(BJ13<>"",VLOOKUP(BJ13,C$4:I$52,5,FALSE),"") | BT13: =IF(BJ13<>"",VLOOKUP(BJ13,C$4:K$52,9,FALSE),"") | BU13: =BQ13 | BV13: =IF(BJ13<>"",RANK(BU13,BU11:BU15),"") | BW13: =IF(BJ13<>"",SUMPRODUCT((BU11:BU15=BU13)*(BP11:BP15>BP13)),"") | BX13: =IF(BJ13<>"",SUMPRODUCT((BU11:BU15=BU13)*(BP11:BP15=BP13)*(BN11:BN15>BN13)),"") | BY13: =IF(BJ13<>"",SUMPRODUCT((BU11:BU15=BU13)*(BP11:BP15=BP13)*(BN11:BN15=BN13)*(BR11:BR15>BR13)),"") | BZ13: =IF(BJ13<>"",SUMPRODUCT((BU11:BU15=BU13)*(BP11:BP15=BP13)*(BN11:BN15=BN13)*(BR11:BR15=BR13)*(BS11:BS15>BS13)),"") | CA13: =IF(BJ13<>"",SUMPRODUCT((BU11:BU15=BU13)*(BP11:BP15=BP13)*(BN11:BN15=BN13)*(BR11:BR15=BR13)*(BS11:BS15=BS13)*(BT11:BT15>BT13)),"") | CB13: =IF(BJ13<>"",SUM(BV13:CA13)+2,"") | CC13: =IF(BJ13<>"",INDEX(BJ13:BJ15,MATCH(3,CB13:CB15,0),0),"") | CX13: =IF(CC13<>"",CC13,IF(BI13<>"",BI13,IF(AO13<>"",AO13,O13))) -> Qatar | CY13: 3 | CZ13: 11 | DA13: =Matches!H14 -> Netherlands | DB13: =IF($DA$2<>"",IF(AND(Matches!J14<>"",Matches!K14<>""),Matches!J14,0),"") -> 0 | DC13: =IF($DA$2<>"",IF(AND(Matches!J14<>"",Matches!K14<>""),Matches!K14,0),"") -> 0 | DD13: =Matches!M14 -> Japan | DE13: =IF(AND(Matches!J14<>"",Matches!K14<>""),IF(DB13>DC13,"W",IF(DB13=DC13,"D","L")),"") | DF13: =IF(DE13<>"",IF(DE13="W","L",IF(DE13="L","W","D")),"") | DS13: =EE13 -> Qatar | DT13: DR13 | DV13: 7 | DW13: -9 | DY13: 7 | DZ13: =EA13 -> 46186.75 | EA13: 46186.75 | EB13: =EA13+TimeZoneData/24 -> 46186.75 | ED13: =SUM(Matches!S11:S14) -> 10 | EE13: =INDEX(Language!$A$1:$K$177,MATCH(Setup!B14,Language!$B$1:$B$177,0),MATCH(Setup!$C$5,Language!$A$1:$J$1,0)) -> Qatar
A14: =Setup!F15+100 -> 118 | B14: =VLOOKUP(C14,CX$11:CY$15,2,FALSE) -> 1 | C14: =EE14 -> Switzerland | D14: =SUMPRODUCT((DA$3:DA$105=C14)*(DE$3:DE$105="W"))+SUMPRODUCT((DD$3:DD$105=C14)*(DF$3:DF$105="W")) -> 0 | E14: =SUMPRODUCT((DA$3:DA$105=C14)*(DE$3:DE$105="D"))+SUMPRODUCT((DD$3:DD$105=C14)*(DF$3:DF$105="D")) -> 0 | F14: =SUMPRODUCT((DA$3:DA$105=C14)*(DE$3:DE$105="L"))+SUMPRODUCT((DD$3:DD$105=C14)*(DF$3:DF$105="L")) -> 0 | G14: =SUMIF(DA3:DA123,C14,DB3:DB123)+SUMIF(DD3:DD123,C14,DC3:DC123) -> 0 | H14: =SUMIF(DD3:DD123,C14,DB3:DB123)+SUMIF(DA3:DA123,C14,DC3:DC123) -> 0 | I14: =G14-H14+1000 -> 1000 | J14: =D14*3+E14*1 -> 0 | K14: =IF(Setup!G15<>"",Setup!G15,-A14) -> -118 | L14: =IF(COUNTIF(J11:J15,4)<>4,RANK(J14,J11:J15),J93) -> 1 | N14: =SUMPRODUCT((L11:L14=L14)*(K11:K14<K14))+L14 -> 4 | O14: =INDEX(C11:C15,MATCH(4,N11:N15,0),0) -> Switzerland | P14: =INDEX(L11:L15,MATCH(O14,C11:C15,0),0) -> 1 | Q14: =IF(AND(Q13<>"",P14=1),O14,"") -> Switzerland | R14: =IF(AND(R13<>"",P15=2),O15,"") | V14: =IF(Q14<>"",Q14,"") -> Switzerland | W14: =SUMPRODUCT((DA$3:DA$105=V14)*(DD$3:DD$105=V15)*(DE$3:DE$105="W"))+SUMPRODUCT((DA$3:DA$105=V14)*(DD$3:DD$105=V11)*(DE$3:DE$105="W"))+SUMPRODUCT((DA$3:DA$105=V14)*(DD$3:DD$105=V12)*(DE$3:DE$105="W"))+SUMPRODUCT((DA$3:DA$105=V14)*(DD$3:DD$105=V13)*(DE$3:DE$105="W"))+SUMPRODUCT((DA$3:DA$105=V15)*(DD$3:DD$105=V14)*(DF$3:DF$105="W"))+SUMPRODUCT((DA$3:DA$105=V11)*(DD$3:DD$105=V14)*(DF$3:DF$105="W"))+SUMPRODUCT((DA$3:DA$105=V12)*(DD$3:DD$105=V14)*(DF$3:DF$105="W"))+SUMPRODUCT((DA$3:DA$105=V13)*(DD$3:DD$105=V14)*(DF$3:DF$105="W")) -> 0 | X14: =SUMPRODUCT((DA$3:DA$105=V14)*(DD$3:DD$105=V15)*(DE$3:DE$105="D"))+SUMPRODUCT((DA$3:DA$105=V14)*(DD$3:DD$105=V11)*(DE$3:DE$105="D"))+SUMPRODUCT((DA$3:DA$105=V14)*(DD$3:DD$105=V12)*(DE$3:DE$105="D"))+SUMPRODUCT((DA$3:DA$105=V14)*(DD$3:DD$105=V13)*(DE$3:DE$105="D"))+SUMPRODUCT((DA$3:DA$105=V15)*(DD$3:DD$105=V14)*(DE$3:DE$105="D"))+SUMPRODUCT((DA$3:DA$105=V11)*(DD$3:DD$105=V14)*(DE$3:DE$105="D"))+SUMPRODUCT((DA$3:DA$105=V12)*(DD$3:DD$105=V14)*(DE$3:DE$105="D"))+SUMPRODUCT((DA$3:DA$105=V13)*(DD$3:DD$105=V14)*(DE$3:DE$105="D")) -> 0 | Y14: =SUMPRODUCT((DA$3:DA$105=V14)*(DD$3:DD$105=V15)*(DE$3:DE$105="L"))+SUMPRODUCT((DA$3:DA$105=V14)*(DD$3:DD$105=V11)*(DE$3:DE$105="L"))+SUMPRODUCT((DA$3:DA$105=V14)*(DD$3:DD$105=V12)*(DE$3:DE$105="L"))+SUMPRODUCT((DA$3:DA$105=V14)*(DD$3:DD$105=V13)*(DE$3:DE$105="L"))+SUMPRODUCT((DA$3:DA$105=V15)*(DD$3:DD$105=V14)*(DF$3:DF$105="L"))+SUMPRODUCT((DA$3:DA$105=V11)*(DD$3:DD$105=V14)*(DF$3:DF$105="L"))+SUMPRODUCT((DA$3:DA$105=V12)*(DD$3:DD$105=V14)*(DF$3:DF$105="L"))+SUMPRODUCT((DA$3:DA$105=V13)*(DD$3:DD$105=V14)*(DF$3:DF$105="L")) -> 0 | Z14: =SUMPRODUCT((DA$3:DA$105=V14)*(DD$3:DD$105=V15)*DB$3:DB$105)+SUMPRODUCT((DA$3:DA$105=V14)*(DD$3:DD$105=V11)*DB$3:DB$105)+SUMPRODUCT((DA$3:DA$105=V14)*(DD$3:DD$105=V12)*DB$3:DB$105)+SUMPRODUCT((DA$3:DA$105=V14)*(DD$3:DD$105=V13)*DB$3:DB$105)+SUMPRODUCT((DA$3:DA$105=V15)*(DD$3:DD$105=V14)*DC$3:DC$105)+SUMPRODUCT((DA$3:DA$105=V11)*(DD$3:DD$105=V14)*DC$3:DC$105)+SUMPRODUCT((DA$3:DA$105=V12)*(DD$3:DD$105=V14)*DC$3:DC$105)+SUMPRODUCT((DA$3:DA$105=V13)*(DD$3:DD$105=V14)*DC$3:DC$105) -> 0 | AA14: =SUMPRODUCT((DA$3:DA$105=V14)*(DD$3:DD$105=V15)*DC$3:DC$105)+SUMPRODUCT((DA$3:DA$105=V14)*(DD$3:DD$105=V11)*DC$3:DC$105)+SUMPRODUCT((DA$3:DA$105=V14)*(DD$3:DD$105=V12)*DC$3:DC$105)+SUMPRODUCT((DA$3:DA$105=V14)*(DD$3:DD$105=V13)*DC$3:DC$105)+SUMPRODUCT((DA$3:DA$105=V15)*(DD$3:DD$105=V14)*DB$3:DB$105)+SUMPRODUCT((DA$3:DA$105=V11)*(DD$3:DD$105=V14)*DB$3:DB$105)+SUMPRODUCT((DA$3:DA$105=V12)*(DD$3:DD$105=V14)*DB$3:DB$105)+SUMPRODUCT((DA$3:DA$105=V13)*(DD$3:DD$105=V14)*DB$3:DB$105) -> 0 | AB14: =Z14-AA14+1000 -> 1000 | AC14: =IF(V14<>"",W14*3+X14*1,"") -> 0 | AD14: =IF(V14<>"",VLOOKUP(V14,C$4:I$52,7,FALSE),"") -> 1000 | AE14: =IF(V14<>"",VLOOKUP(V14,C$4:I$52,5,FALSE),"") -> 0 | AF14: =IF(V14<>"",VLOOKUP(V14,C$4:K$52,9,FALSE),"") -> -118 | AG14: =AC14 -> 0 | AH14: =IF(V14<>"",RANK(AG14,AG11:AG15),"") -> 1 | AI14: =IF(V14<>"",SUMPRODUCT((AG11:AG15=AG14)*(AB11:AB15>AB14)),"") -> 0 | AJ14: =IF(V14<>"",SUMPRODUCT((AG11:AG15=AG14)*(AB11:AB15=AB14)*(Z11:Z15>Z14)),"") -> 0 | AK14: =IF(V14<>"",SUMPRODUCT((AG11:AG15=AG14)*(AB11:AB15=AB14)*(Z11:Z15=Z14)*(AD11:AD15>AD14)),"") -> 0 | AL14: =IF(V14<>"",SUMPRODUCT((AG11:AG15=AG14)*(AB11:AB15=AB14)*(Z11:Z15=Z14)*(AD11:AD15=AD14)*(AE11:AE15>AE14)),"") -> 0 | AM14: =IF(V14<>"",SUMPRODUCT((AG11:AG15=AG14)*(AB11:AB15=AB14)*(Z11:Z15=Z14)*(AD11:AD15=AD14)*(AE11:AE15=AE14)*(AF11:AF15>AF14)),"") -> 0 | AN14: =IF(V14<>"",IF(AN93<>"",IF(U89=3,AN93,AN93+U89),SUM(AH14:AM14)),"") -> 1 | AO14: =IF(V14<>"",INDEX(V11:V15,MATCH(4,AN11:AN15,0),0),"") -> Bosnia and Herzegovina | AP14: =IF(R13<>"",R13,"") | AQ14: =IF(AP14<>"",SUMPRODUCT((DA$3:DA$105=AP14)*(DD$3:DD$105=AP15)*(DE$3:DE$105="W"))+SUMPRODUCT((DA$3:DA$105=AP14)*(DD$3:DD$105=AP12)*(DE$3:DE$105="W"))+SUMPRODUCT((DA$3:DA$105=AP14)*(DD$3:DD$105=AP13)*(DE$3:DE$105="W"))+SUMPRODUCT((DA$3:DA$105=AP15)*(DD$3:DD$105=AP14)*(DF$3:DF$105="W"))+SUMPRODUCT((DA$3:DA$105=AP12)*(DD$3:DD$105=AP14)*(DF$3:DF$105="W"))+SUMPRODUCT((DA$3:DA$105=AP13)*(DD$3:DD$105=AP14)*(DF$3:DF$105="W")),"") | AR14: =IF(AP14<>"",SUMPRODUCT((DA$3:DA$105=AP14)*(DD$3:DD$105=AP15)*(DE$3:DE$105="D"))+SUMPRODUCT((DA$3:DA$105=AP14)*(DD$3:DD$105=AP12)*(DE$3:DE$105="D"))+SUMPRODUCT((DA$3:DA$105=AP14)*(DD$3:DD$105=AP13)*(DE$3:DE$105="D"))+SUMPRODUCT((DA$3:DA$105=AP15)*(DD$3:DD$105=AP14)*(DE$3:DE$105="D"))+SUMPRODUCT((DA$3:DA$105=AP12)*(DD$3:DD$105=AP14)*(DE$3:DE$105="D"))+SUMPRODUCT((DA$3:DA$105=AP13)*(DD$3:DD$105=AP14)*(DE$3:DE$105="D")),"") | AS14: =IF(AP14<>"",SUMPRODUCT((DA$3:DA$105=AP14)*(DD$3:DD$105=AP15)*(DE$3:DE$105="L"))+SUMPRODUCT((DA$3:DA$105=AP14)*(DD$3:DD$105=AP12)*(DE$3:DE$105="L"))+SUMPRODUCT((DA$3:DA$105=AP14)*(DD$3:DD$105=AP13)*(DE$3:DE$105="L"))+SUMPRODUCT((DA$3:DA$105=AP15)*(DD$3:DD$105=AP14)*(DF$3:DF$105="L"))+SUMPRODUCT((DA$3:DA$105=AP12)*(DD$3:DD$105=AP14)*(DF$3:DF$105="L"))+SUMPRODUCT((DA$3:DA$105=AP13)*(DD$3:DD$105=AP14)*(DF$3:DF$105="L")),"") | AT14: =SUMPRODUCT((DA$3:DA$105=AP14)*(DD$3:DD$105=AP15)*DB$3:DB$105)+SUMPRODUCT((DA$3:DA$105=AP14)*(DD$3:DD$105=AP11)*DB$3:DB$105)+SUMPRODUCT((DA$3:DA$105=AP14)*(DD$3:DD$105=AP12)*DB$3:DB$105)+SUMPRODUCT((DA$3:DA$105=AP14)*(DD$3:DD$105=AP13)*DB$3:DB$105)+SUMPRODUCT((DA$3:DA$105=AP15)*(DD$3:DD$105=AP14)*DC$3:DC$105)+SUMPRODUCT((DA$3:DA$105=AP11)*(DD$3:DD$105=AP14)*DC$3:DC$105)+SUMPRODUCT((DA$3:DA$105=AP12)*(DD$3:DD$105=AP14)*DC$3:DC$105)+SUMPRODUCT((DA$3:DA$105=AP13)*(DD$3:DD$105=AP14)*DC$3:DC$105) -> 0 | AU14: =SUMPRODUCT((DA$3:DA$105=AP14)*(DD$3:DD$105=AP15)*DC$3:DC$105)+SUMPRODUCT((DA$3:DA$105=AP14)*(DD$3:DD$105=AP11)*DC$3:DC$105)+SUMPRODUCT((DA$3:DA$105=AP14)*(DD$3:DD$105=AP12)*DC$3:DC$105)+SUMPRODUCT((DA$3:DA$105=AP14)*(DD$3:DD$105=AP13)*DC$3:DC$105)+SUMPRODUCT((DA$3:DA$105=AP15)*(DD$3:DD$105=AP14)*DB$3:DB$105)+SUMPRODUCT((DA$3:DA$105=AP11)*(DD$3:DD$105=AP14)*DB$3:DB$105)+SUMPRODUCT((DA$3:DA$105=AP12)*(DD$3:DD$105=AP14)*DB$3:DB$105)+SUMPRODUCT((DA$3:DA$105=AP13)*(DD$3:DD$105=AP14)*DB$3:DB$105) -> 0 | AV14: =AT14-AU14+1000 -> 1000 | AW14: =IF(AP14<>"",AQ14*3+AR14*1,"") | AX14: =IF(AP14<>"",VLOOKUP(AP14,C$4:I$52,7,FALSE),"") | AY14: =IF(AP14<>"",VLOOKUP(AP14,C$4:I$52,5,FALSE),"") | AZ14: =IF(AP14<>"",VLOOKUP(AP14,C$4:K$52,9,FALSE),"") | BA14: =AW14 | BB14: =IF(AP14<>"",RANK(BA14,BA11:BA15),"") | BC14: =IF(AP14<>"",SUMPRODUCT((BA11:BA15=BA14)*(AV11:AV15>AV14)),"") | BD14: =IF(AP14<>"",SUMPRODUCT((BA11:BA15=BA14)*(AV11:AV15=AV14)*(AT11:AT15>AT14)),"") | BE14: =IF(AP14<>"",SUMPRODUCT((BA11:BA15=BA14)*(AV11:AV15=AV14)*(AT11:AT15=AT14)*(AX11:AX15>AX14)),"") | BF14: =IF(AP14<>"",SUMPRODUCT((BA11:BA15=BA14)*(AV11:AV15=AV14)*(AT11:AT15=AT14)*(AX11:AX15=AX14)*(AY11:AY15>AY14)),"") | BG14: =IF(AP14<>"",SUMPRODUCT((BA11:BA15=BA14)*(AV11:AV15=AV14)*(AT11:AT15=AT14)*(AX11:AX15=AX14)*(AY11:AY15=AY14)*(AZ11:AZ15>AZ14)),"") | BH14: =IF(AP14<>"",IF(BH93<>"",IF(AO89=3,BH93,BH93+AO89),SUM(BB14:BG14)+1),"") | BI14: =IF(AP14<>"",INDEX(AP12:AP15,MATCH(4,BH12:BH15,0),0),"") | BJ14: =IF(S12<>"",S12,"") | BK14: =SUMPRODUCT((DA$3:DA$105=BJ14)*(DD$3:DD$105=BJ15)*(DE$3:DE$105="W"))+SUMPRODUCT((DA$3:DA$105=BJ14)*(DD$3:DD$105=BJ16)*(DE$3:DE$105="W"))+SUMPRODUCT((DA$3:DA$105=BJ14)*(DD$3:DD$105=BJ13)*(DE$3:DE$105="W"))+SUMPRODUCT((DA$3:DA$105=BJ15)*(DD$3:DD$105=BJ14)*(DF$3:DF$105="W"))+SUMPRODUCT((DA$3:DA$105=BJ16)*(DD$3:DD$105=BJ14)*(DF$3:DF$105="W"))+SUMPRODUCT((DA$3:DA$105=BJ13)*(DD$3:DD$105=BJ14)*(DF$3:DF$105="W")) -> 0 | BL14: =SUMPRODUCT((DA$3:DA$105=BJ14)*(DD$3:DD$105=BJ15)*(DE$3:DE$105="D"))+SUMPRODUCT((DA$3:DA$105=BJ14)*(DD$3:DD$105=BJ16)*(DE$3:DE$105="D"))+SUMPRODUCT((DA$3:DA$105=BJ14)*(DD$3:DD$105=BJ13)*(DE$3:DE$105="D"))+SUMPRODUCT((DA$3:DA$105=BJ15)*(DD$3:DD$105=BJ14)*(DE$3:DE$105="D"))+SUMPRODUCT((DA$3:DA$105=BJ16)*(DD$3:DD$105=BJ14)*(DE$3:DE$105="D"))+SUMPRODUCT((DA$3:DA$105=BJ13)*(DD$3:DD$105=BJ14)*(DE$3:DE$105="D")) -> 0 | BM14: =SUMPRODUCT((DA$3:DA$105=BJ14)*(DD$3:DD$105=BJ15)*(DE$3:DE$105="L"))+SUMPRODUCT((DA$3:DA$105=BJ14)*(DD$3:DD$105=BJ16)*(DE$3:DE$105="L"))+SUMPRODUCT((DA$3:DA$105=BJ14)*(DD$3:DD$105=BJ13)*(DE$3:DE$105="L"))+SUMPRODUCT((DA$3:DA$105=BJ15)*(DD$3:DD$105=BJ14)*(DF$3:DF$105="L"))+SUMPRODUCT((DA$3:DA$105=BJ16)*(DD$3:DD$105=BJ14)*(DF$3:DF$105="L"))+SUMPRODUCT((DA$3:DA$105=BJ13)*(DD$3:DD$105=BJ14)*(DF$3:DF$105="L")) -> 0 | BN14: =SUMPRODUCT((DA$3:DA$105=BJ14)*(DD$3:DD$105=BJ15)*DB$3:DB$105)+SUMPRODUCT((DA$3:DA$105=BJ14)*(DD$3:DD$105=BJ11)*DB$3:DB$105)+SUMPRODUCT((DA$3:DA$105=BJ14)*(DD$3:DD$105=BJ12)*DB$3:DB$105)+SUMPRODUCT((DA$3:DA$105=BJ14)*(DD$3:DD$105=BJ13)*DB$3:DB$105)+SUMPRODUCT((DA$3:DA$105=BJ15)*(DD$3:DD$105=BJ14)*DC$3:DC$105)+SUMPRODUCT((DA$3:DA$105=BJ11)*(DD$3:DD$105=BJ14)*DC$3:DC$105)+SUMPRODUCT((DA$3:DA$105=BJ12)*(DD$3:DD$105=BJ14)*DC$3:DC$105)+SUMPRODUCT((DA$3:DA$105=BJ13)*(DD$3:DD$105=BJ14)*DC$3:DC$105) -> 0 | BO14: =SUMPRODUCT((DA$3:DA$105=BJ14)*(DD$3:DD$105=BJ15)*DC$3:DC$105)+SUMPRODUCT((DA$3:DA$105=BJ14)*(DD$3:DD$105=BJ11)*DC$3:DC$105)+SUMPRODUCT((DA$3:DA$105=BJ14)*(DD$3:DD$105=BJ12)*DC$3:DC$105)+SUMPRODUCT((DA$3:DA$105=BJ14)*(DD$3:DD$105=BJ13)*DC$3:DC$105)+SUMPRODUCT((DA$3:DA$105=BJ15)*(DD$3:DD$105=BJ14)*DB$3:DB$105)+SUMPRODUCT((DA$3:DA$105=BJ11)*(DD$3:DD$105=BJ14)*DB$3:DB$105)+SUMPRODUCT((DA$3:DA$105=BJ12)*(DD$3:DD$105=BJ14)*DB$3:DB$105)+SUMPRODUCT((DA$3:DA$105=BJ13)*(DD$3:DD$105=BJ14)*DB$3:DB$105) -> 0 | BP14: =BN14-BO14+1000 -> 1000 | BQ14: =IF(BJ14<>"",BK14*3+BL14*1,"") | BR14: =IF(BJ14<>"",VLOOKUP(BJ14,C$4:I$52,7,FALSE),"") | BS14: =IF(BJ14<>"",VLOOKUP(BJ14,C$4:I$52,5,FALSE),"") | BT14: =IF(BJ14<>"",VLOOKUP(BJ14,C$4:K$52,9,FALSE),"") | BU14: =BQ14 | BV14: =IF(BJ14<>"",RANK(BU14,BU11:BU15),"") | BW14: =IF(BJ14<>"",SUMPRODUCT((BU11:BU15=BU14)*(BP11:BP15>BP14)),"") | BX14: =IF(BJ14<>"",SUMPRODUCT((BU11:BU15=BU14)*(BP11:BP15=BP14)*(BN11:BN15>BN14)),"") | BY14: =IF(BJ14<>"",SUMPRODUCT((BU11:BU15=BU14)*(BP11:BP15=BP14)*(BN11:BN15=BN14)*(BR11:BR15>BR14)),"") | BZ14: =IF(BJ14<>"",SUMPRODUCT((BU11:BU15=BU14)*(BP11:BP15=BP14)*(BN11:BN15=BN14)*(BR11:BR15=BR14)*(BS11:BS15>BS14)),"") | CA14: =IF(BJ14<>"",SUMPRODUCT((BU11:BU15=BU14)*(BP11:BP15=BP14)*(BN11:BN15=BN14)*(BR11:BR15=BR14)*(BS11:BS15=BS14)*(BT11:BT15>BT14)),"") | CB14: =IF(BJ14<>"",SUM(BV14:CA14)+2,"") | CC14: =IF(BJ14<>"",INDEX(BJ13:BJ15,MATCH(4,CB13:CB15,0),0),"") | CD14: =IF(T11<>"",T11,"") | CE14: =SUMPRODUCT((DA$3:DA$105=CD14)*(DD$3:DD$105=CD15)*(DE$3:DE$105="W"))+SUMPRODUCT((DA$3:DA$105=CD14)*(DD$3:DD$105=CD16)*(DE$3:DE$105="W"))+SUMPRODUCT((DA$3:DA$105=CD14)*(DD$3:DD$105=CD17)*(DE$3:DE$105="W"))+SUMPRODUCT((DA$3:DA$105=CD15)*(DD$3:DD$105=CD14)*(DF$3:DF$105="W"))+SUMPRODUCT((DA$3:DA$105=CD16)*(DD$3:DD$105=CD14)*(DF$3:DF$105="W"))+SUMPRODUCT((DA$3:DA$105=CD17)*(DD$3:DD$105=CD14)*(DF$3:DF$105="W")) -> 0 | CF14: =SUMPRODUCT((DA$3:DA$105=CD14)*(DD$3:DD$105=CD15)*(DE$3:DE$105="D"))+SUMPRODUCT((DA$3:DA$105=CD14)*(DD$3:DD$105=CD16)*(DE$3:DE$105="D"))+SUMPRODUCT((DA$3:DA$105=CD14)*(DD$3:DD$105=CD17)*(DE$3:DE$105="D"))+SUMPRODUCT((DA$3:DA$105=CD15)*(DD$3:DD$105=CD14)*(DE$3:DE$105="D"))+SUMPRODUCT((DA$3:DA$105=CD16)*(DD$3:DD$105=CD14)*(DE$3:DE$105="D"))+SUMPRODUCT((DA$3:DA$105=CD17)*(DD$3:DD$105=CD14)*(DE$3:DE$105="D")) -> 0 | CG14: =SUMPRODUCT((DA$3:DA$105=CD14)*(DD$3:DD$105=CD15)*(DE$3:DE$105="L"))+SUMPRODUCT((DA$3:DA$105=CD14)*(DD$3:DD$105=CD16)*(DE$3:DE$105="L"))+SUMPRODUCT((DA$3:DA$105=CD14)*(DD$3:DD$105=CD17)*(DE$3:DE$105="L"))+SUMPRODUCT((DA$3:DA$105=CD15)*(DD$3:DD$105=CD14)*(DF$3:DF$105="L"))+SUMPRODUCT((DA$3:DA$105=CD16)*(DD$3:DD$105=CD14)*(DF$3:DF$105="L"))+SUMPRODUCT((DA$3:DA$105=CD17)*(DD$3:DD$105=CD14)*(DF$3:DF$105="L")) -> 0 | CH14: =SUMPRODUCT((DA$3:DA$105=CD14)*(DD$3:DD$105=CD15)*DB$3:DB$105)+SUMPRODUCT((DA$3:DA$105=CD14)*(DD$3:DD$105=CD11)*DB$3:DB$105)+SUMPRODUCT((DA$3:DA$105=CD14)*(DD$3:DD$105=CD12)*DB$3:DB$105)+SUMPRODUCT((DA$3:DA$105=CD14)*(DD$3:DD$105=CD13)*DB$3:DB$105)+SUMPRODUCT((DA$3:DA$105=CD15)*(DD$3:DD$105=CD14)*DC$3:DC$105)+SUMPRODUCT((DA$3:DA$105=CD11)*(DD$3:DD$105=CD14)*DC$3:DC$105)+SUMPRODUCT((DA$3:DA$105=CD12)*(DD$3:DD$105=CD14)*DC$3:DC$105)+SUMPRODUCT((DA$3:DA$105=CD13)*(DD$3:DD$105=CD14)*DC$3:DC$105) -> 0 | CI14: =SUMPRODUCT((DA$3:DA$105=CD14)*(DD$3:DD$105=CD15)*DC$3:DC$105)+SUMPRODUCT((DA$3:DA$105=CD14)*(DD$3:DD$105=CD11)*DC$3:DC$105)+SUMPRODUCT((DA$3:DA$105=CD14)*(DD$3:DD$105=CD12)*DC$3:DC$105)+SUMPRODUCT((DA$3:DA$105=CD14)*(DD$3:DD$105=CD13)*DC$3:DC$105)+SUMPRODUCT((DA$3:DA$105=CD15)*(DD$3:DD$105=CD14)*DB$3:DB$105)+SUMPRODUCT((DA$3:DA$105=CD11)*(DD$3:DD$105=CD14)*DB$3:DB$105)+SUMPRODUCT((DA$3:DA$105=CD12)*(DD$3:DD$105=CD14)*DB$3:DB$105)+SUMPRODUCT((DA$3:DA$105=CD13)*(DD$3:DD$105=CD14)*DB$3:DB$105) -> 0 | CJ14: =CH14-CI14+1000 -> 1000 | CK14: =IF(CD14<>"",CE14*3+CF14*1,"") | CL14: =IF(CD14<>"",VLOOKUP(CD14,C$4:I$52,7,FALSE),"") | CM14: =IF(CD14<>"",VLOOKUP(CD14,C$4:I$52,5,FALSE),"") | CN14: =IF(CD14<>"",VLOOKUP(CD14,C$4:K$52,9,FALSE),"") | CO14: =CK14 | CP14: =IF(CD14<>"",RANK(CO14,CO11:CO15),"") | CQ14: =IF(CD14<>"",SUMPRODUCT((CO11:CO15=CO14)*(CJ11:CJ15>CJ14)),"") | CR14: =IF(CD14<>"",SUMPRODUCT((CO11:CO15=CO14)*(CJ11:CJ15=CJ14)*(CH11:CH15>CH14)),"") | CS14: =IF(CD14<>"",SUMPRODUCT((CO11:CO15=CO14)*(CJ11:CJ15=CJ14)*(CH11:CH15=CH14)*(CL11:CL15>CL14)),"") | CT14: =IF(CD14<>"",SUMPRODUCT((CO11:CO15=CO14)*(CJ11:CJ15=CJ14)*(CH11:CH15=CH14)*(CL11:CL15=CL14)*(CM11:CM15>CM14)),"") | CU14: =IF(CD14<>"",SUMPRODUCT((CO11:CO15=CO14)*(CJ11:CJ15=CJ14)*(CH11:CH15=CH14)*(CL11:CL15=CL14)*(CM11:CM15=CM14)*(CN11:CN15>CN14)),"") | CV14: =IF(CD14<>"",SUM(CP14:CU14)+3,"") | CW14: =IF(CD14<>"",IF(CV14=4,CD14,CD15),"") | CX14: =IF(CW14<>"",CW14,IF(CC14<>"",CC14,IF(BI14<>"",BI14,IF(AO14<>"",AO14,O14)))) -> Bosnia and Herzegovina | CY14: 4 | CZ14: 12 | DA14: =Matches!H15 -> Sweden | DB14: =IF($DA$2<>"",IF(AND(Matches!J15<>"",Matches!K15<>""),Matches!J15,0),"") -> 0 | DC14: =IF($DA$2<>"",IF(AND(Matches!J15<>"",Matches!K15<>""),Matches!K15,0),"") -> 0 | DD14: =Matches!M15 -> Tunisia | DE14: =IF(AND(Matches!J15<>"",Matches!K15<>""),IF(DB14>DC14,"W",IF(DB14=DC14,"D","L")),"") | DF14: =IF(DE14<>"",IF(DE14="W","L",IF(DE14="L","W","D")),"") | DS14: =EE14 -> Switzerland | DT14: DR14 | DV14: 8 | DW14: -8.5 | DY14: 8 | DZ14: =EA14 -> 46186.625 | EA14: 46186.625 | EB14: =EA14+TimeZoneData/24 -> 46186.625 | EE14: =INDEX(Language!$A$1:$K$177,MATCH(Setup!B15,Language!$B$1:$B$177,0),MATCH(Setup!$C$5,Language!$A$1:$J$1,0)) -> Switzerland
CZ15: 13 | DA15: =Matches!H16 -> Saudi Arabia | DB15: =IF($DA$2<>"",IF(AND(Matches!J16<>"",Matches!K16<>""),Matches!J16,0),"") -> 0 | DC15: =IF($DA$2<>"",IF(AND(Matches!J16<>"",Matches!K16<>""),Matches!K16,0),"") -> 0 | DD15: =Matches!M16 -> Uruguay | DE15: =IF(AND(Matches!J16<>"",Matches!K16<>""),IF(DB15>DC15,"W",IF(DB15=DC15,"D","L")),"") | DF15: =IF(DE15<>"",IF(DE15="W","L",IF(DE15="L","W","D")),"") | DQ15: C | DS15: =EE15 -> Brazil | DT15: DR15 | DV15: 9 | DW15: -8 | DY15: 9 | DZ15: =EA15 -> 46187.792 | EA15: 46187.792 | EB15: =EA15+TimeZoneData/24 -> 46187.792 | EE15: =INDEX(Language!$A$1:$K$177,MATCH(Setup!B16,Language!$B$1:$B$177,0),MATCH(Setup!$C$5,Language!$A$1:$J$1,0)) -> Brazil
CZ16: 14 | DA16: =Matches!H17 -> Spain | DB16: =IF($DA$2<>"",IF(AND(Matches!J17<>"",Matches!K17<>""),Matches!J17,0),"") -> 0 | DC16: =IF($DA$2<>"",IF(AND(Matches!J17<>"",Matches!K17<>""),Matches!K17,0),"") -> 0 | DD16: =Matches!M17 -> Cabo Verde | DE16: =IF(AND(Matches!J17<>"",Matches!K17<>""),IF(DB16>DC16,"W",IF(DB16=DC16,"D","L")),"") | DF16: =IF(DE16<>"",IF(DE16="W","L",IF(DE16="L","W","D")),"") | DS16: =EE16 -> Morocco | DT16: DR16 | DV16: 10 | DW16: -7.5 | DY16: 10 | DZ16: =EA16 -> 46187.542 | EA16: 46187.542 | EB16: =EA16+TimeZoneData/24 -> 46187.542 | EE16: =INDEX(Language!$A$1:$K$177,MATCH(Setup!B17,Language!$B$1:$B$177,0),MATCH(Setup!$C$5,Language!$A$1:$J$1,0)) -> Morocco
W17: A | CZ17: 15 | DA17: =Matches!H18 -> Iran | DB17: =IF($DA$2<>"",IF(AND(Matches!J18<>"",Matches!K18<>""),Matches!J18,0),"") -> 0 | DC17: =IF($DA$2<>"",IF(AND(Matches!J18<>"",Matches!K18<>""),Matches!K18,0),"") -> 0 | DD17: =Matches!M18 -> New Zealand | DE17: =IF(AND(Matches!J18<>"",Matches!K18<>""),IF(DB17>DC17,"W",IF(DB17=DC17,"D","L")),"") | DF17: =IF(DE17<>"",IF(DE17="W","L",IF(DE17="L","W","D")),"") | DS17: =EE17 -> Haiti | DT17: DR17 | DV17: 11 | DW17: -7 | DY17: 11 | DZ17: =EA17 -> 46187.667 | EA17: 46187.667 | EB17: =EA17+TimeZoneData/24 -> 46187.667 | EE17: =INDEX(Language!$A$1:$K$177,MATCH(Setup!B18,Language!$B$1:$B$177,0),MATCH(Setup!$C$5,Language!$A$1:$J$1,0)) -> Haiti
A18: =Setup!F16+100 -> 105 | B18: =VLOOKUP(C18,CX$18:CY$22,2,FALSE) -> 1 | C18: =EE15 -> Brazil | D18: =SUMPRODUCT((DA$3:DA$105=C18)*(DE$3:DE$105="W"))+SUMPRODUCT((DD$3:DD$105=C18)*(DF$3:DF$105="W")) -> 0 | E18: =SUMPRODUCT((DA$3:DA$105=C18)*(DE$3:DE$105="D"))+SUMPRODUCT((DD$3:DD$105=C18)*(DF$3:DF$105="D")) -> 0 | F18: =SUMPRODUCT((DA$3:DA$105=C18)*(DE$3:DE$105="L"))+SUMPRODUCT((DD$3:DD$105=C18)*(DF$3:DF$105="L")) -> 0 | G18: =SUMIF(DA3:DA123,C18,DB3:DB123)+SUMIF(DD3:DD123,C18,DC3:DC123) -> 0 | H18: =SUMIF(DD3:DD123,C18,DB3:DB123)+SUMIF(DA3:DA123,C18,DC3:DC123) -> 0 | I18: =G18-H18+1000 -> 1000 | J18: =D18*3+E18*1 -> 0 | K18: =IF(Setup!G16<>"",Setup!G16,-A18) -> -105 | L18: =IF(COUNTIF(J18:J22,4)<>4,RANK(J18,J18:J22),J97) -> 1 | N18: =SUMPRODUCT((L18:L21=L18)*(K18:K21<K18))+L18 -> 4 | O18: =INDEX(C18:C22,MATCH(1,N18:N22,0),0) -> Haiti | P18: =INDEX(L18:L22,MATCH(O18,C18:C22,0),0) -> 1 | Q18: =IF(P19=1,O18,"") -> Haiti | R18: =IF(P20=2,O19,"") | S18: =IF(P21=3,O20,"") | T18: =IF(P22=4,O21,"") | V18: =IF(Q18<>"",Q18,"") -> Haiti | W18: =SUMPRODUCT((DA$3:DA$105=V18)*(DD$3:DD$105=V19)*(DE$3:DE$105="W"))+SUMPRODUCT((DA$3:DA$105=V18)*(DD$3:DD$105=V20)*(DE$3:DE$105="W"))+SUMPRODUCT((DA$3:DA$105=V18)*(DD$3:DD$105=V21)*(DE$3:DE$105="W"))+SUMPRODUCT((DA$3:DA$105=V18)*(DD$3:DD$105=V22)*(DE$3:DE$105="W"))+SUMPRODUCT((DA$3:DA$105=V19)*(DD$3:DD$105=V18)*(DF$3:DF$105="W"))+SUMPRODUCT((DA$3:DA$105=V20)*(DD$3:DD$105=V18)*(DF$3:DF$105="W"))+SUMPRODUCT((DA$3:DA$105=V21)*(DD$3:DD$105=V18)*(DF$3:DF$105="W"))+SUMPRODUCT((DA$3:DA$105=V22)*(DD$3:DD$105=V18)*(DF$3:DF$105="W")) -> 0 | X18: =SUMPRODUCT((DA$3:DA$105=V18)*(DD$3:DD$105=V19)*(DE$3:DE$105="D"))+SUMPRODUCT((DA$3:DA$105=V18)*(DD$3:DD$105=V20)*(DE$3:DE$105="D"))+SUMPRODUCT((DA$3:DA$105=V18)*(DD$3:DD$105=V21)*(DE$3:DE$105="D"))+SUMPRODUCT((DA$3:DA$105=V18)*(DD$3:DD$105=V22)*(DE$3:DE$105="D"))+SUMPRODUCT((DA$3:DA$105=V19)*(DD$3:DD$105=V18)*(DE$3:DE$105="D"))+SUMPRODUCT((DA$3:DA$105=V20)*(DD$3:DD$105=V18)*(DE$3:DE$105="D"))+SUMPRODUCT((DA$3:DA$105=V21)*(DD$3:DD$105=V18)*(DE$3:DE$105="D"))+SUMPRODUCT((DA$3:DA$105=V22)*(DD$3:DD$105=V18)*(DE$3:DE$105="D")) -> 0 | Y18: =SUMPRODUCT((DA$3:DA$105=V18)*(DD$3:DD$105=V19)*(DE$3:DE$105="L"))+SUMPRODUCT((DA$3:DA$105=V18)*(DD$3:DD$105=V20)*(DE$3:DE$105="L"))+SUMPRODUCT((DA$3:DA$105=V18)*(DD$3:DD$105=V21)*(DE$3:DE$105="L"))+SUMPRODUCT((DA$3:DA$105=V18)*(DD$3:DD$105=V22)*(DE$3:DE$105="L"))+SUMPRODUCT((DA$3:DA$105=V19)*(DD$3:DD$105=V18)*(DF$3:DF$105="L"))+SUMPRODUCT((DA$3:DA$105=V20)*(DD$3:DD$105=V18)*(DF$3:DF$105="L"))+SUMPRODUCT((DA$3:DA$105=V21)*(DD$3:DD$105=V18)*(DF$3:DF$105="L"))+SUMPRODUCT((DA$3:DA$105=V22)*(DD$3:DD$105=V18)*(DF$3:DF$105="L")) -> 0 | Z18: =SUMPRODUCT((DA$3:DA$105=V18)*(DD$3:DD$105=V19)*DB$3:DB$105)+SUMPRODUCT((DA$3:DA$105=V18)*(DD$3:DD$105=V20)*DB$3:DB$105)+SUMPRODUCT((DA$3:DA$105=V18)*(DD$3:DD$105=V21)*DB$3:DB$105)+SUMPRODUCT((DA$3:DA$105=V18)*(DD$3:DD$105=V22)*DB$3:DB$105)+SUMPRODUCT((DA$3:DA$105=V19)*(DD$3:DD$105=V18)*DC$3:DC$105)+SUMPRODUCT((DA$3:DA$105=V20)*(DD$3:DD$105=V18)*DC$3:DC$105)+SUMPRODUCT((DA$3:DA$105=V21)*(DD$3:DD$105=V18)*DC$3:DC$105)+SUMPRODUCT((DA$3:DA$105=V22)*(DD$3:DD$105=V18)*DC$3:DC$105) -> 0 | AA18: =SUMPRODUCT((DA$3:DA$105=V18)*(DD$3:DD$105=V19)*DC$3:DC$105)+SUMPRODUCT((DA$3:DA$105=V18)*(DD$3:DD$105=V20)*DC$3:DC$105)+SUMPRODUCT((DA$3:DA$105=V18)*(DD$3:DD$105=V21)*DC$3:DC$105)+SUMPRODUCT((DA$3:DA$105=V18)*(DD$3:DD$105=V22)*DC$3:DC$105)+SUMPRODUCT((DA$3:DA$105=V19)*(DD$3:DD$105=V18)*DB$3:DB$105)+SUMPRODUCT((DA$3:DA$105=V20)*(DD$3:DD$105=V18)*DB$3:DB$105)+SUMPRODUCT((DA$3:DA$105=V21)*(DD$3:DD$105=V18)*DB$3:DB$105)+SUMPRODUCT((DA$3:DA$105=V22)*(DD$3:DD$105=V18)*DB$3:DB$105) -> 0 | AB18: =Z18-AA18+1000 -> 1000 | AC18: =IF(V18<>"",W18*3+X18*1,"") -> 0 | AD18: =IF(V18<>"",VLOOKUP(V18,C$4:I$52,7,FALSE),"") -> 1000 | AE18: =IF(V18<>"",VLOOKUP(V18,C$4:I$52,5,FALSE),"") -> 0 | AF18: =IF(V18<>"",VLOOKUP(V18,C$4:K$52,9,FALSE),"") -> -183 | AG18: =AC18 -> 0 | AH18: =IF(V18<>"",RANK(AG18,AG18:AG22),"") -> 1 | AI18: =IF(V18<>"",SUMPRODUCT((AG18:AG22=AG18)*(AB18:AB22>AB18)),"") -> 0 | AJ18: =IF(V18<>"",SUMPRODUCT((AG18:AG22=AG18)*(AB18:AB22=AB18)*(Z18:Z22>Z18)),"") -> 0 | AK18: =IF(V18<>"",SUMPRODUCT((AG18:AG22=AG18)*(AB18:AB22=AB18)*(Z18:Z22=Z18)*(AD18:AD22>AD18)),"") -> 0 | AL18: =IF(V18<>"",SUMPRODUCT((AG18:AG22=AG18)*(AB18:AB22=AB18)*(Z18:Z22=Z18)*(AD18:AD22=AD18)*(AE18:AE22>AE18)),"") -> 0 | AM18: =IF(V18<>"",SUMPRODUCT((AG18:AG22=AG18)*(AB18:AB22=AB18)*(Z18:Z22=Z18)*(AD18:AD22=AD18)*(AE18:AE22=AE18)*(AF18:AF22>AF18)),"") -> 3 | AN18: =IF(V18<>"",IF(AN97<>"",IF(U96=3,AN97,AN97+U96),SUM(AH18:AM18)),"") -> 4 | AO18: =IF(V18<>"",INDEX(V18:V22,MATCH(1,AN18:AN22,0),0),"") -> Brazil | CX18: =IF(AO18<>"",AO18,O18) -> Brazil | CY18: 1 | CZ18: 16 | DA18: =Matches!H19 -> Belgium | DB18: =IF($DA$2<>"",IF(AND(Matches!J19<>"",Matches!K19<>""),Matches!J19,0),"") -> 0 | DC18: =IF($DA$2<>"",IF(AND(Matches!J19<>"",Matches!K19<>""),Matches!K19,0),"") -> 0 | DD18: =Matches!M19 -> Egypt | DE18: =IF(AND(Matches!J19<>"",Matches!K19<>""),IF(DB18>DC18,"W",IF(DB18=DC18,"D","L")),"") | DF18: =IF(DE18<>"",IF(DE18="W","L",IF(DE18="L","W","D")),"") | DS18: =EE18 -> Scotland | DT18: DR18 | DV18: 12 | DW18: -6.5 | DY18: 12 | DZ18: =EA18 -> 46187.917 | EA18: 46187.917 | EB18: =EA18+TimeZoneData/24 -> 46187.917 | EE18: =INDEX(Language!$A$1:$K$177,MATCH(Setup!B19,Language!$B$1:$B$177,0),MATCH(Setup!$C$5,Language!$A$1:$J$1,0)) -> Scotland
A19: =Setup!F17+100 -> 108 | B19: =VLOOKUP(C19,CX$18:CY$22,2,FALSE) -> 2 | C19: =EE16 -> Morocco | D19: =SUMPRODUCT((DA$3:DA$105=C19)*(DE$3:DE$105="W"))+SUMPRODUCT((DD$3:DD$105=C19)*(DF$3:DF$105="W")) -> 0 | E19: =SUMPRODUCT((DA$3:DA$105=C19)*(DE$3:DE$105="D"))+SUMPRODUCT((DD$3:DD$105=C19)*(DF$3:DF$105="D")) -> 0 | F19: =SUMPRODUCT((DA$3:DA$105=C19)*(DE$3:DE$105="L"))+SUMPRODUCT((DD$3:DD$105=C19)*(DF$3:DF$105="L")) -> 0 | G19: =SUMIF(DA3:DA123,C19,DB3:DB123)+SUMIF(DD3:DD123,C19,DC3:DC123) -> 0 | H19: =SUMIF(DD3:DD123,C19,DB3:DB123)+SUMIF(DA3:DA123,C19,DC3:DC123) -> 0 | I19: =G19-H19+1000 -> 1000 | J19: =D19*3+E19*1 -> 0 | K19: =IF(Setup!G17<>"",Setup!G17,-A19) -> -108 | L19: =IF(COUNTIF(J18:J22,4)<>4,RANK(J19,J18:J22),J98) -> 1 | N19: =SUMPRODUCT((L18:L21=L19)*(K18:K21<K19))+L19 -> 3 | O19: =INDEX(C18:C22,MATCH(2,N18:N22,0),0) -> Scotland | P19: =INDEX(L18:L22,MATCH(O19,C18:C22,0),0) -> 1 | Q19: =IF(Q18<>"",O19,"") -> Scotland | R19: =IF(R18<>"",O20,"") | S19: =IF(S18<>"",O21,"") | T19: =IF(T18<>"",O22,"") | V19: =IF(Q19<>"",Q19,"") -> Scotland | W19: =SUMPRODUCT((DA$3:DA$105=V19)*(DD$3:DD$105=V20)*(DE$3:DE$105="W"))+SUMPRODUCT((DA$3:DA$105=V19)*(DD$3:DD$105=V21)*(DE$3:DE$105="W"))+SUMPRODUCT((DA$3:DA$105=V19)*(DD$3:DD$105=V22)*(DE$3:DE$105="W"))+SUMPRODUCT((DA$3:DA$105=V19)*(DD$3:DD$105=V18)*(DE$3:DE$105="W"))+SUMPRODUCT((DA$3:DA$105=V20)*(DD$3:DD$105=V19)*(DF$3:DF$105="W"))+SUMPRODUCT((DA$3:DA$105=V21)*(DD$3:DD$105=V19)*(DF$3:DF$105="W"))+SUMPRODUCT((DA$3:DA$105=V22)*(DD$3:DD$105=V19)*(DF$3:DF$105="W"))+SUMPRODUCT((DA$3:DA$105=V18)*(DD$3:DD$105=V19)*(DF$3:DF$105="W")) -> 0 | X19: =SUMPRODUCT((DA$3:DA$105=V19)*(DD$3:DD$105=V20)*(DE$3:DE$105="D"))+SUMPRODUCT((DA$3:DA$105=V19)*(DD$3:DD$105=V21)*(DE$3:DE$105="D"))+SUMPRODUCT((DA$3:DA$105=V19)*(DD$3:DD$105=V22)*(DE$3:DE$105="D"))+SUMPRODUCT((DA$3:DA$105=V19)*(DD$3:DD$105=V18)*(DE$3:DE$105="D"))+SUMPRODUCT((DA$3:DA$105=V20)*(DD$3:DD$105=V19)*(DE$3:DE$105="D"))+SUMPRODUCT((DA$3:DA$105=V21)*(DD$3:DD$105=V19)*(DE$3:DE$105="D"))+SUMPRODUCT((DA$3:DA$105=V22)*(DD$3:DD$105=V19)*(DE$3:DE$105="D"))+SUMPRODUCT((DA$3:DA$105=V18)*(DD$3:DD$105=V19)*(DE$3:DE$105="D")) -> 0 | Y19: =SUMPRODUCT((DA$3:DA$105=V19)*(DD$3:DD$105=V20)*(DE$3:DE$105="L"))+SUMPRODUCT((DA$3:DA$105=V19)*(DD$3:DD$105=V21)*(DE$3:DE$105="L"))+SUMPRODUCT((DA$3:DA$105=V19)*(DD$3:DD$105=V22)*(DE$3:DE$105="L"))+SUMPRODUCT((DA$3:DA$105=V19)*(DD$3:DD$105=V18)*(DE$3:DE$105="L"))+SUMPRODUCT((DA$3:DA$105=V20)*(DD$3:DD$105=V19)*(DF$3:DF$105="L"))+SUMPRODUCT((DA$3:DA$105=V21)*(DD$3:DD$105=V19)*(DF$3:DF$105="L"))+SUMPRODUCT((DA$3:DA$105=V22)*(DD$3:DD$105=V19)*(DF$3:DF$105="L"))+SUMPRODUCT((DA$3:DA$105=V18)*(DD$3:DD$105=V19)*(DF$3:DF$105="L")) -> 0 | Z19: =SUMPRODUCT((DA$3:DA$105=V19)*(DD$3:DD$105=V20)*DB$3:DB$105)+SUMPRODUCT((DA$3:DA$105=V19)*(DD$3:DD$105=V21)*DB$3:DB$105)+SUMPRODUCT((DA$3:DA$105=V19)*(DD$3:DD$105=V22)*DB$3:DB$105)+SUMPRODUCT((DA$3:DA$105=V19)*(DD$3:DD$105=V18)*DB$3:DB$105)+SUMPRODUCT((DA$3:DA$105=V20)*(DD$3:DD$105=V19)*DC$3:DC$105)+SUMPRODUCT((DA$3:DA$105=V21)*(DD$3:DD$105=V19)*DC$3:DC$105)+SUMPRODUCT((DA$3:DA$105=V22)*(DD$3:DD$105=V19)*DC$3:DC$105)+SUMPRODUCT((DA$3:DA$105=V18)*(DD$3:DD$105=V19)*DC$3:DC$105) -> 0 | AA19: =SUMPRODUCT((DA$3:DA$105=V19)*(DD$3:DD$105=V20)*DC$3:DC$105)+SUMPRODUCT((DA$3:DA$105=V19)*(DD$3:DD$105=V21)*DC$3:DC$105)+SUMPRODUCT((DA$3:DA$105=V19)*(DD$3:DD$105=V22)*DC$3:DC$105)+SUMPRODUCT((DA$3:DA$105=V19)*(DD$3:DD$105=V18)*DC$3:DC$105)+SUMPRODUCT((DA$3:DA$105=V20)*(DD$3:DD$105=V19)*DB$3:DB$105)+SUMPRODUCT((DA$3:DA$105=V21)*(DD$3:DD$105=V19)*DB$3:DB$105)+SUMPRODUCT((DA$3:DA$105=V22)*(DD$3:DD$105=V19)*DB$3:DB$105)+SUMPRODUCT((DA$3:DA$105=V18)*(DD$3:DD$105=V19)*DB$3:DB$105) -> 0 | AB19: =Z19-AA19+1000 -> 1000 | AC19: =IF(V19<>"",W19*3+X19*1,"") -> 0 | AD19: =IF(V19<>"",VLOOKUP(V19,C$4:I$52,7,FALSE),"") -> 1000 | AE19: =IF(V19<>"",VLOOKUP(V19,C$4:I$52,5,FALSE),"") -> 0 | AF19: =IF(V19<>"",VLOOKUP(V19,C$4:K$52,9,FALSE),"") -> -138 | AG19: =AC19 -> 0 | AH19: =IF(V19<>"",RANK(AG19,AG18:AG22),"") -> 1 | AI19: =IF(V19<>"",SUMPRODUCT((AG18:AG22=AG19)*(AB18:AB22>AB19)),"") -> 0 | AJ19: =IF(V19<>"",SUMPRODUCT((AG18:AG22=AG19)*(AB18:AB22=AB19)*(Z18:Z22>Z19)),"") -> 0 | AK19: =IF(V19<>"",SUMPRODUCT((AG18:AG22=AG19)*(AB18:AB22=AB19)*(Z18:Z22=Z19)*(AD18:AD22>AD19)),"") -> 0 | AL19: =IF(V19<>"",SUMPRODUCT((AG18:AG22=AG19)*(AB18:AB22=AB19)*(Z18:Z22=Z19)*(AD18:AD22=AD19)*(AE18:AE22>AE19)),"") -> 0 | AM19: =IF(V19<>"",SUMPRODUCT((AG18:AG22=AG19)*(AB18:AB22=AB19)*(Z18:Z22=Z19)*(AD18:AD22=AD19)*(AE18:AE22=AE19)*(AF18:AF22>AF19)),"") -> 2 | AN19: =IF(V19<>"",IF(AN98<>"",IF(U96=3,AN98,AN98+U96),SUM(AH19:AM19)),"") -> 3 | AO19: =IF(V19<>"",INDEX(V18:V22,MATCH(2,AN18:AN22,0),0),"") -> Morocco | AP19: =IF(R18<>"",R18,"") | AQ19: =SUMPRODUCT((DA$3:DA$105=AP19)*(DD$3:DD$105=AP20)*(DE$3:DE$105="W"))+SUMPRODUCT((DA$3:DA$105=AP19)*(DD$3:DD$105=AP21)*(DE$3:DE$105="W"))+SUMPRODUCT((DA$3:DA$105=AP19)*(DD$3:DD$105=AP22)*(DE$3:DE$105="W"))+SUMPRODUCT((DA$3:DA$105=AP20)*(DD$3:DD$105=AP19)*(DF$3:DF$105="W"))+SUMPRODUCT((DA$3:DA$105=AP21)*(DD$3:DD$105=AP19)*(DF$3:DF$105="W"))+SUMPRODUCT((DA$3:DA$105=AP22)*(DD$3:DD$105=AP19)*(DF$3:DF$105="W")) -> 0 | AR19: =SUMPRODUCT((DA$3:DA$105=AP19)*(DD$3:DD$105=AP20)*(DE$3:DE$105="D"))+SUMPRODUCT((DA$3:DA$105=AP19)*(DD$3:DD$105=AP21)*(DE$3:DE$105="D"))+SUMPRODUCT((DA$3:DA$105=AP19)*(DD$3:DD$105=AP22)*(DE$3:DE$105="D"))+SUMPRODUCT((DA$3:DA$105=AP20)*(DD$3:DD$105=AP19)*(DE$3:DE$105="D"))+SUMPRODUCT((DA$3:DA$105=AP21)*(DD$3:DD$105=AP19)*(DE$3:DE$105="D"))+SUMPRODUCT((DA$3:DA$105=AP22)*(DD$3:DD$105=AP19)*(DE$3:DE$105="D")) -> 0 | AS19: =SUMPRODUCT((DA$3:DA$105=AP19)*(DD$3:DD$105=AP20)*(DE$3:DE$105="L"))+SUMPRODUCT((DA$3:DA$105=AP19)*(DD$3:DD$105=AP21)*(DE$3:DE$105="L"))+SUMPRODUCT((DA$3:DA$105=AP19)*(DD$3:DD$105=AP22)*(DE$3:DE$105="L"))+SUMPRODUCT((DA$3:DA$105=AP20)*(DD$3:DD$105=AP19)*(DF$3:DF$105="L"))+SUMPRODUCT((DA$3:DA$105=AP21)*(DD$3:DD$105=AP19)*(DF$3:DF$105="L"))+SUMPRODUCT((DA$3:DA$105=AP22)*(DD$3:DD$105=AP19)*(DF$3:DF$105="L")) -> 0 | AT19: =SUMPRODUCT((DA$3:DA$105=AP19)*(DD$3:DD$105=AP20)*DB$3:DB$105)+SUMPRODUCT((DA$3:DA$105=AP19)*(DD$3:DD$105=AP21)*DB$3:DB$105)+SUMPRODUCT((DA$3:DA$105=AP19)*(DD$3:DD$105=AP22)*DB$3:DB$105)+SUMPRODUCT((DA$3:DA$105=AP19)*(DD$3:DD$105=AP18)*DB$3:DB$105)+SUMPRODUCT((DA$3:DA$105=AP20)*(DD$3:DD$105=AP19)*DC$3:DC$105)+SUMPRODUCT((DA$3:DA$105=AP21)*(DD$3:DD$105=AP19)*DC$3:DC$105)+SUMPRODUCT((DA$3:DA$105=AP22)*(DD$3:DD$105=AP19)*DC$3:DC$105)+SUMPRODUCT((DA$3:DA$105=AP18)*(DD$3:DD$105=AP19)*DC$3:DC$105) -> 0 | AU19: =SUMPRODUCT((DA$3:DA$105=AP19)*(DD$3:DD$105=AP20)*DC$3:DC$105)+SUMPRODUCT((DA$3:DA$105=AP19)*(DD$3:DD$105=AP21)*DC$3:DC$105)+SUMPRODUCT((DA$3:DA$105=AP19)*(DD$3:DD$105=AP22)*DC$3:DC$105)+SUMPRODUCT((DA$3:DA$105=AP19)*(DD$3:DD$105=AP18)*DC$3:DC$105)+SUMPRODUCT((DA$3:DA$105=AP20)*(DD$3:DD$105=AP19)*DB$3:DB$105)+SUMPRODUCT((DA$3:DA$105=AP21)*(DD$3:DD$105=AP19)*DB$3:DB$105)+SUMPRODUCT((DA$3:DA$105=AP22)*(DD$3:DD$105=AP19)*DB$3:DB$105)+SUMPRODUCT((DA$3:DA$105=AP18)*(DD$3:DD$105=AP19)*DB$3:DB$105) -> 0 | AV19: =AT19-AU19+1000 -> 1000 | AW19: =IF(AP19<>"",AQ19*3+AR19*1,"") | AX19: =IF(AP19<>"",VLOOKUP(AP19,C$4:I$52,7,FALSE),"") | AY19: =IF(AP19<>"",VLOOKUP(AP19,C$4:I$52,5,FALSE),"") | AZ19: =IF(AP19<>"",VLOOKUP(AP19,C$4:K$52,9,FALSE),"") | BA19: =AW19 | BB19: =IF(AP19<>"",RANK(BA19,BA18:BA22),"") | BC19: =IF(AP19<>"",SUMPRODUCT((BA18:BA22=BA19)*(AV18:AV22>AV19)),"") | BD19: =IF(AP19<>"",SUMPRODUCT((BA18:BA22=BA19)*(AV18:AV22=AV19)*(AT18:AT22>AT19)),"") | BE19: =IF(AP19<>"",SUMPRODUCT((BA18:BA22=BA19)*(AV18:AV22=AV19)*(AT18:AT22=AT19)*(AX18:AX22>AX19)),"") | BF19: =IF(AP19<>"",SUMPRODUCT((BA18:BA22=BA19)*(AV18:AV22=AV19)*(AT18:AT22=AT19)*(AX18:AX22=AX19)*(AY18:AY22>AY19)),"") | BG19: =IF(AP19<>"",SUMPRODUCT((BA18:BA22=BA19)*(AV18:AV22=AV19)*(AT18:AT22=AT19)*(AX18:AX22=AX19)*(AY18:AY22=AY19)*(AZ18:AZ22>AZ19)),"") | BH19: =IF(AP19<>"",IF(BH98<>"",IF(AO96=3,BH98,BH98+AO96),SUM(BB19:BG19)+1),"") | BI19: =IF(AP19<>"",INDEX(AP19:AP22,MATCH(2,BH19:BH22,0),0),"") | CX19: =IF(BI19<>"",BI19,IF(AO19<>"",AO19,O19)) -> Morocco | CY19: 2 | CZ19: 17 | DA19: =Matches!H20 -> France | DB19: =IF($DA$2<>"",IF(AND(Matches!J20<>"",Matches!K20<>""),Matches!J20,0),"") -> 0 | DC19: =IF($DA$2<>"",IF(AND(Matches!J20<>"",Matches!K20<>""),Matches!K20,0),"") -> 0 | DD19: =Matches!M20 -> Senegal | DE19: =IF(AND(Matches!J20<>"",Matches!K20<>""),IF(DB19>DC19,"W",IF(DB19=DC19,"D","L")),"") | DF19: =IF(DE19<>"",IF(DE19="W","L",IF(DE19="L","W","D")),"") | DQ19: D | DS19: =EE19 -> USA | DT19: DR19 | DV19: 13 | DW19: -6 | DY19: 13 | DZ19: =EA19 -> 46188.75 | EA19: 46188.75 | EB19: =EA19+TimeZoneData/24 -> 46188.75 | ED19: =SUM(Matches!S17:S20) -> 10 | EE19: =INDEX(Language!$A$1:$K$177,MATCH(Setup!B20,Language!$B$1:$B$177,0),MATCH(Setup!$C$5,Language!$A$1:$J$1,0)) -> USA
A20: =Setup!F18+100 -> 183 | B20: =VLOOKUP(C20,CX$18:CY$22,2,FALSE) -> 4 | C20: =EE17 -> Haiti | D20: =SUMPRODUCT((DA$3:DA$105=C20)*(DE$3:DE$105="W"))+SUMPRODUCT((DD$3:DD$105=C20)*(DF$3:DF$105="W")) -> 0 | E20: =SUMPRODUCT((DA$3:DA$105=C20)*(DE$3:DE$105="D"))+SUMPRODUCT((DD$3:DD$105=C20)*(DF$3:DF$105="D")) -> 0 | F20: =SUMPRODUCT((DA$3:DA$105=C20)*(DE$3:DE$105="L"))+SUMPRODUCT((DD$3:DD$105=C20)*(DF$3:DF$105="L")) -> 0 | G20: =SUMIF(DA3:DA123,C20,DB3:DB123)+SUMIF(DD3:DD123,C20,DC3:DC123) -> 0 | H20: =SUMIF(DD3:DD123,C20,DB3:DB123)+SUMIF(DA3:DA123,C20,DC3:DC123) -> 0 | I20: =G20-H20+1000 -> 1000 | J20: =D20*3+E20*1 -> 0 | K20: =IF(Setup!G18<>"",Setup!G18,-A20) -> -183 | L20: =IF(COUNTIF(J18:J22,4)<>4,RANK(J20,J18:J22),J99) -> 1 | N20: =SUMPRODUCT((L18:L21=L20)*(K18:K21<K20))+L20 -> 1 | O20: =INDEX(C18:C22,MATCH(3,N18:N22,0),0) -> Morocco | P20: =INDEX(L18:L22,MATCH(O20,C18:C22,0),0) -> 1 | Q20: =IF(AND(Q19<>"",P20=1),O20,"") -> Morocco | R20: =IF(AND(R19<>"",P21=2),O21,"") | S20: =IF(AND(S19<>"",P22=3),O22,"") | V20: =IF(Q20<>"",Q20,"") -> Morocco | W20: =SUMPRODUCT((DA$3:DA$105=V20)*(DD$3:DD$105=V21)*(DE$3:DE$105="W"))+SUMPRODUCT((DA$3:DA$105=V20)*(DD$3:DD$105=V22)*(DE$3:DE$105="W"))+SUMPRODUCT((DA$3:DA$105=V20)*(DD$3:DD$105=V18)*(DE$3:DE$105="W"))+SUMPRODUCT((DA$3:DA$105=V20)*(DD$3:DD$105=V19)*(DE$3:DE$105="W"))+SUMPRODUCT((DA$3:DA$105=V21)*(DD$3:DD$105=V20)*(DF$3:DF$105="W"))+SUMPRODUCT((DA$3:DA$105=V22)*(DD$3:DD$105=V20)*(DF$3:DF$105="W"))+SUMPRODUCT((DA$3:DA$105=V18)*(DD$3:DD$105=V20)*(DF$3:DF$105="W"))+SUMPRODUCT((DA$3:DA$105=V19)*(DD$3:DD$105=V20)*(DF$3:DF$105="W")) -> 0 | X20: =SUMPRODUCT((DA$3:DA$105=V20)*(DD$3:DD$105=V21)*(DE$3:DE$105="D"))+SUMPRODUCT((DA$3:DA$105=V20)*(DD$3:DD$105=V22)*(DE$3:DE$105="D"))+SUMPRODUCT((DA$3:DA$105=V20)*(DD$3:DD$105=V18)*(DE$3:DE$105="D"))+SUMPRODUCT((DA$3:DA$105=V20)*(DD$3:DD$105=V19)*(DE$3:DE$105="D"))+SUMPRODUCT((DA$3:DA$105=V21)*(DD$3:DD$105=V20)*(DE$3:DE$105="D"))+SUMPRODUCT((DA$3:DA$105=V22)*(DD$3:DD$105=V20)*(DE$3:DE$105="D"))+SUMPRODUCT((DA$3:DA$105=V18)*(DD$3:DD$105=V20)*(DE$3:DE$105="D"))+SUMPRODUCT((DA$3:DA$105=V19)*(DD$3:DD$105=V20)*(DE$3:DE$105="D")) -> 0 | Y20: =SUMPRODUCT((DA$3:DA$105=V20)*(DD$3:DD$105=V21)*(DE$3:DE$105="L"))+SUMPRODUCT((DA$3:DA$105=V20)*(DD$3:DD$105=V22)*(DE$3:DE$105="L"))+SUMPRODUCT((DA$3:DA$105=V20)*(DD$3:DD$105=V18)*(DE$3:DE$105="L"))+SUMPRODUCT((DA$3:DA$105=V20)*(DD$3:DD$105=V19)*(DE$3:DE$105="L"))+SUMPRODUCT((DA$3:DA$105=V21)*(DD$3:DD$105=V20)*(DF$3:DF$105="L"))+SUMPRODUCT((DA$3:DA$105=V22)*(DD$3:DD$105=V20)*(DF$3:DF$105="L"))+SUMPRODUCT((DA$3:DA$105=V18)*(DD$3:DD$105=V20)*(DF$3:DF$105="L"))+SUMPRODUCT((DA$3:DA$105=V19)*(DD$3:DD$105=V20)*(DF$3:DF$105="L")) -> 0 | Z20: =SUMPRODUCT((DA$3:DA$105=V20)*(DD$3:DD$105=V21)*DB$3:DB$105)+SUMPRODUCT((DA$3:DA$105=V20)*(DD$3:DD$105=V22)*DB$3:DB$105)+SUMPRODUCT((DA$3:DA$105=V20)*(DD$3:DD$105=V18)*DB$3:DB$105)+SUMPRODUCT((DA$3:DA$105=V20)*(DD$3:DD$105=V19)*DB$3:DB$105)+SUMPRODUCT((DA$3:DA$105=V21)*(DD$3:DD$105=V20)*DC$3:DC$105)+SUMPRODUCT((DA$3:DA$105=V22)*(DD$3:DD$105=V20)*DC$3:DC$105)+SUMPRODUCT((DA$3:DA$105=V18)*(DD$3:DD$105=V20)*DC$3:DC$105)+SUMPRODUCT((DA$3:DA$105=V19)*(DD$3:DD$105=V20)*DC$3:DC$105) -> 0 | AA20: =SUMPRODUCT((DA$3:DA$105=V20)*(DD$3:DD$105=V21)*DC$3:DC$105)+SUMPRODUCT((DA$3:DA$105=V20)*(DD$3:DD$105=V22)*DC$3:DC$105)+SUMPRODUCT((DA$3:DA$105=V20)*(DD$3:DD$105=V18)*DC$3:DC$105)+SUMPRODUCT((DA$3:DA$105=V20)*(DD$3:DD$105=V19)*DC$3:DC$105)+SUMPRODUCT((DA$3:DA$105=V21)*(DD$3:DD$105=V20)*DB$3:DB$105)+SUMPRODUCT((DA$3:DA$105=V22)*(DD$3:DD$105=V20)*DB$3:DB$105)+SUMPRODUCT((DA$3:DA$105=V18)*(DD$3:DD$105=V20)*DB$3:DB$105)+SUMPRODUCT((DA$3:DA$105=V19)*(DD$3:DD$105=V20)*DB$3:DB$105) -> 0 | AB20: =Z20-AA20+1000 -> 1000 | AC20: =IF(V20<>"",W20*3+X20*1,"") -> 0 | AD20: =IF(V20<>"",VLOOKUP(V20,C$4:I$52,7,FALSE),"") -> 1000 | AE20: =IF(V20<>"",VLOOKUP(V20,C$4:I$52,5,FALSE),"") -> 0 | AF20: =IF(V20<>"",VLOOKUP(V20,C$4:K$52,9,FALSE),"") -> -108 | AG20: =AC20 -> 0 | AH20: =IF(V20<>"",RANK(AG20,AG18:AG22),"") -> 1 | AI20: =IF(V20<>"",SUMPRODUCT((AG18:AG22=AG20)*(AB18:AB22>AB20)),"") -> 0 | AJ20: =IF(V20<>"",SUMPRODUCT((AG18:AG22=AG20)*(AB18:AB22=AB20)*(Z18:Z22>Z20)),"") -> 0 | AK20: =IF(V20<>"",SUMPRODUCT((AG18:AG22=AG20)*(AB18:AB22=AB20)*(Z18:Z22=Z20)*(AD18:AD22>AD20)),"") -> 0 | AL20: =IF(V20<>"",SUMPRODUCT((AG18:AG22=AG20)*(AB18:AB22=AB20)*(Z18:Z22=Z20)*(AD18:AD22=AD20)*(AE18:AE22>AE20)),"") -> 0 | AM20: =IF(V20<>"",SUMPRODUCT((AG18:AG22=AG20)*(AB18:AB22=AB20)*(Z18:Z22=Z20)*(AD18:AD22=AD20)*(AE18:AE22=AE20)*(AF18:AF22>AF20)),"") -> 1 | AN20: =IF(V20<>"",IF(AN99<>"",IF(U96=3,AN99,AN99+U96),SUM(AH20:AM20)),"") -> 2 | AO20: =IF(V20<>"",INDEX(V18:V22,MATCH(3,AN18:AN22,0),0),"") -> Scotland | AP20: =IF(R19<>"",R19,"") | AQ20: =SUMPRODUCT((DA$3:DA$105=AP20)*(DD$3:DD$105=AP21)*(DE$3:DE$105="W"))+SUMPRODUCT((DA$3:DA$105=AP20)*(DD$3:DD$105=AP22)*(DE$3:DE$105="W"))+SUMPRODUCT((DA$3:DA$105=AP20)*(DD$3:DD$105=AP19)*(DE$3:DE$105="W"))+SUMPRODUCT((DA$3:DA$105=AP21)*(DD$3:DD$105=AP20)*(DF$3:DF$105="W"))+SUMPRODUCT((DA$3:DA$105=AP22)*(DD$3:DD$105=AP20)*(DF$3:DF$105="W"))+SUMPRODUCT((DA$3:DA$105=AP19)*(DD$3:DD$105=AP20)*(DF$3:DF$105="W")) -> 0 | AR20: =SUMPRODUCT((DA$3:DA$105=AP20)*(DD$3:DD$105=AP21)*(DE$3:DE$105="D"))+SUMPRODUCT((DA$3:DA$105=AP20)*(DD$3:DD$105=AP22)*(DE$3:DE$105="D"))+SUMPRODUCT((DA$3:DA$105=AP20)*(DD$3:DD$105=AP19)*(DE$3:DE$105="D"))+SUMPRODUCT((DA$3:DA$105=AP21)*(DD$3:DD$105=AP20)*(DE$3:DE$105="D"))+SUMPRODUCT((DA$3:DA$105=AP22)*(DD$3:DD$105=AP20)*(DE$3:DE$105="D"))+SUMPRODUCT((DA$3:DA$105=AP19)*(DD$3:DD$105=AP20)*(DE$3:DE$105="D")) -> 0 | AS20: =SUMPRODUCT((DA$3:DA$105=AP20)*(DD$3:DD$105=AP21)*(DE$3:DE$105="L"))+SUMPRODUCT((DA$3:DA$105=AP20)*(DD$3:DD$105=AP22)*(DE$3:DE$105="L"))+SUMPRODUCT((DA$3:DA$105=AP20)*(DD$3:DD$105=AP19)*(DE$3:DE$105="L"))+SUMPRODUCT((DA$3:DA$105=AP21)*(DD$3:DD$105=AP20)*(DF$3:DF$105="L"))+SUMPRODUCT((DA$3:DA$105=AP22)*(DD$3:DD$105=AP20)*(DF$3:DF$105="L"))+SUMPRODUCT((DA$3:DA$105=AP19)*(DD$3:DD$105=AP20)*(DF$3:DF$105="L")) -> 0 | AT20: =SUMPRODUCT((DA$3:DA$105=AP20)*(DD$3:DD$105=AP21)*DB$3:DB$105)+SUMPRODUCT((DA$3:DA$105=AP20)*(DD$3:DD$105=AP22)*DB$3:DB$105)+SUMPRODUCT((DA$3:DA$105=AP20)*(DD$3:DD$105=AP18)*DB$3:DB$105)+SUMPRODUCT((DA$3:DA$105=AP20)*(DD$3:DD$105=AP19)*DB$3:DB$105)+SUMPRODUCT((DA$3:DA$105=AP21)*(DD$3:DD$105=AP20)*DC$3:DC$105)+SUMPRODUCT((DA$3:DA$105=AP22)*(DD$3:DD$105=AP20)*DC$3:DC$105)+SUMPRODUCT((DA$3:DA$105=AP18)*(DD$3:DD$105=AP20)*DC$3:DC$105)+SUMPRODUCT((DA$3:DA$105=AP19)*(DD$3:DD$105=AP20)*DC$3:DC$105) -> 0 | AU20: =SUMPRODUCT((DA$3:DA$105=AP20)*(DD$3:DD$105=AP21)*DC$3:DC$105)+SUMPRODUCT((DA$3:DA$105=AP20)*(DD$3:DD$105=AP22)*DC$3:DC$105)+SUMPRODUCT((DA$3:DA$105=AP20)*(DD$3:DD$105=AP18)*DC$3:DC$105)+SUMPRODUCT((DA$3:DA$105=AP20)*(DD$3:DD$105=AP19)*DC$3:DC$105)+SUMPRODUCT((DA$3:DA$105=AP21)*(DD$3:DD$105=AP20)*DB$3:DB$105)+SUMPRODUCT((DA$3:DA$105=AP22)*(DD$3:DD$105=AP20)*DB$3:DB$105)+SUMPRODUCT((DA$3:DA$105=AP18)*(DD$3:DD$105=AP20)*DB$3:DB$105)+SUMPRODUCT((DA$3:DA$105=AP19)*(DD$3:DD$105=AP20)*DB$3:DB$105) -> 0 | AV20: =AT20-AU20+1000 -> 1000 | AW20: =IF(AP20<>"",AQ20*3+AR20*1,"") | AX20: =IF(AP20<>"",VLOOKUP(AP20,C$4:I$52,7,FALSE),"") | AY20: =IF(AP20<>"",VLOOKUP(AP20,C$4:I$52,5,FALSE),"") | AZ20: =IF(AP20<>"",VLOOKUP(AP20,C$4:K$52,9,FALSE),"") | BA20: =AW20 | BB20: =IF(AP20<>"",RANK(BA20,BA18:BA22),"") | BC20: =IF(AP20<>"",SUMPRODUCT((BA18:BA22=BA20)*(AV18:AV22>AV20)),"") | BD20: =IF(AP20<>"",SUMPRODUCT((BA18:BA22=BA20)*(AV18:AV22=AV20)*(AT18:AT22>AT20)),"") | BE20: =IF(AP20<>"",SUMPRODUCT((BA18:BA22=BA20)*(AV18:AV22=AV20)*(AT18:AT22=AT20)*(AX18:AX22>AX20)),"") | BF20: =IF(AP20<>"",SUMPRODUCT((BA18:BA22=BA20)*(AV18:AV22=AV20)*(AT18:AT22=AT20)*(AX18:AX22=AX20)*(AY18:AY22>AY20)),"") | BG20: =IF(AP20<>"",SUMPRODUCT((BA18:BA22=BA20)*(AV18:AV22=AV20)*(AT18:AT22=AT20)*(AX18:AX22=AX20)*(AY18:AY22=AY20)*(AZ18:AZ22>AZ20)),"") | BH20: =IF(AP20<>"",IF(BH99<>"",IF(AO96=3,BH99,BH99+AO96),SUM(BB20:BG20)+1),"") | BI20: =IF(AP20<>"",INDEX(AP19:AP22,MATCH(3,BH19:BH22,0),0),"") | BJ20: =IF(S18<>"",S18,"") | BK20: =SUMPRODUCT((DA$3:DA$105=BJ20)*(DD$3:DD$105=BJ21)*(DE$3:DE$105="W"))+SUMPRODUCT((DA$3:DA$105=BJ20)*(DD$3:DD$105=BJ22)*(DE$3:DE$105="W"))+SUMPRODUCT((DA$3:DA$105=BJ20)*(DD$3:DD$105=BJ23)*(DE$3:DE$105="W"))+SUMPRODUCT((DA$3:DA$105=BJ21)*(DD$3:DD$105=BJ20)*(DF$3:DF$105="W"))+SUMPRODUCT((DA$3:DA$105=BJ22)*(DD$3:DD$105=BJ20)*(DF$3:DF$105="W"))+SUMPRODUCT((DA$3:DA$105=BJ23)*(DD$3:DD$105=BJ20)*(DF$3:DF$105="W")) -> 0 | BL20: =SUMPRODUCT((DA$3:DA$105=BJ20)*(DD$3:DD$105=BJ21)*(DE$3:DE$105="D"))+SUMPRODUCT((DA$3:DA$105=BJ20)*(DD$3:DD$105=BJ22)*(DE$3:DE$105="D"))+SUMPRODUCT((DA$3:DA$105=BJ20)*(DD$3:DD$105=BJ23)*(DE$3:DE$105="D"))+SUMPRODUCT((DA$3:DA$105=BJ21)*(DD$3:DD$105=BJ20)*(DE$3:DE$105="D"))+SUMPRODUCT((DA$3:DA$105=BJ22)*(DD$3:DD$105=BJ20)*(DE$3:DE$105="D"))+SUMPRODUCT((DA$3:DA$105=BJ23)*(DD$3:DD$105=BJ20)*(DE$3:DE$105="D")) -> 0 | BM20: =SUMPRODUCT((DA$3:DA$105=BJ20)*(DD$3:DD$105=BJ21)*(DE$3:DE$105="L"))+SUMPRODUCT((DA$3:DA$105=BJ20)*(DD$3:DD$105=BJ22)*(DE$3:DE$105="L"))+SUMPRODUCT((DA$3:DA$105=BJ20)*(DD$3:DD$105=BJ23)*(DE$3:DE$105="L"))+SUMPRODUCT((DA$3:DA$105=BJ21)*(DD$3:DD$105=BJ20)*(DF$3:DF$105="L"))+SUMPRODUCT((DA$3:DA$105=BJ22)*(DD$3:DD$105=BJ20)*(DF$3:DF$105="L"))+SUMPRODUCT((DA$3:DA$105=BJ23)*(DD$3:DD$105=BJ20)*(DF$3:DF$105="L")) -> 0 | BN20: =SUMPRODUCT((DA$3:DA$105=BJ20)*(DD$3:DD$105=BJ21)*DB$3:DB$105)+SUMPRODUCT((DA$3:DA$105=BJ20)*(DD$3:DD$105=BJ22)*DB$3:DB$105)+SUMPRODUCT((DA$3:DA$105=BJ20)*(DD$3:DD$105=BJ18)*DB$3:DB$105)+SUMPRODUCT((DA$3:DA$105=BJ20)*(DD$3:DD$105=BJ19)*DB$3:DB$105)+SUMPRODUCT((DA$3:DA$105=BJ21)*(DD$3:DD$105=BJ20)*DC$3:DC$105)+SUMPRODUCT((DA$3:DA$105=BJ22)*(DD$3:DD$105=BJ20)*DC$3:DC$105)+SUMPRODUCT((DA$3:DA$105=BJ18)*(DD$3:DD$105=BJ20)*DC$3:DC$105)+SUMPRODUCT((DA$3:DA$105=BJ19)*(DD$3:DD$105=BJ20)*DC$3:DC$105) -> 0 | BO20: =SUMPRODUCT((DA$3:DA$105=BJ20)*(DD$3:DD$105=BJ21)*DC$3:DC$105)+SUMPRODUCT((DA$3:DA$105=BJ20)*(DD$3:DD$105=BJ22)*DC$3:DC$105)+SUMPRODUCT((DA$3:DA$105=BJ20)*(DD$3:DD$105=BJ18)*DC$3:DC$105)+SUMPRODUCT((DA$3:DA$105=BJ20)*(DD$3:DD$105=BJ19)*DC$3:DC$105)+SUMPRODUCT((DA$3:DA$105=BJ21)*(DD$3:DD$105=BJ20)*DB$3:DB$105)+SUMPRODUCT((DA$3:DA$105=BJ22)*(DD$3:DD$105=BJ20)*DB$3:DB$105)+SUMPRODUCT((DA$3:DA$105=BJ18)*(DD$3:DD$105=BJ20)*DB$3:DB$105)+SUMPRODUCT((DA$3:DA$105=BJ19)*(DD$3:DD$105=BJ20)*DB$3:DB$105) -> 0 | BP20: =BN20-BO20+1000 -> 1000 | BQ20: =IF(BJ20<>"",BK20*3+BL20*1,"") | BR20: =IF(BJ20<>"",VLOOKUP(BJ20,C$4:I$52,7,FALSE),"") | BS20: =IF(BJ20<>"",VLOOKUP(BJ20,C$4:I$52,5,FALSE),"") | BT20: =IF(BJ20<>"",VLOOKUP(BJ20,C$4:K$52,9,FALSE),"") | BU20: =BQ20 | BV20: =IF(BJ20<>"",RANK(BU20,BU18:BU22),"") | BW20: =IF(BJ20<>"",SUMPRODUCT((BU18:BU22=BU20)*(BP18:BP22>BP20)),"") | BX20: =IF(BJ20<>"",SUMPRODUCT((BU18:BU22=BU20)*(BP18:BP22=BP20)*(BN18:BN22>BN20)),"") | BY20: =IF(BJ20<>"",SUMPRODUCT((BU18:BU22=BU20)*(BP18:BP22=BP20)*(BN18:BN22=BN20)*(BR18:BR22>BR20)),"") | BZ20: =IF(BJ20<>"",SUMPRODUCT((BU18:BU22=BU20)*(BP18:BP22=BP20)*(BN18:BN22=BN20)*(BR18:BR22=BR20)*(BS18:BS22>BS20)),"") | CA20: =IF(BJ20<>"",SUMPRODUCT((BU18:BU22=BU20)*(BP18:BP22=BP20)*(BN18:BN22=BN20)*(BR18:BR22=BR20)*(BS18:BS22=BS20)*(BT18:BT22>BT20)),"") | CB20: =IF(BJ20<>"",SUM(BV20:CA20)+2,"") | CC20: =IF(BJ20<>"",INDEX(BJ20:BJ22,MATCH(3,CB20:CB22,0),0),"") | CX20: =IF(CC20<>"",CC20,IF(BI20<>"",BI20,IF(AO20<>"",AO20,O20))) -> Scotland | CY20: 3 | CZ20: 18 | DA20: =Matches!H21 -> Iraq | DB20: =IF($DA$2<>"",IF(AND(Matches!J21<>"",Matches!K21<>""),Matches!J21,0),"") -> 0 | DC20: =IF($DA$2<>"",IF(AND(Matches!J21<>"",Matches!K21<>""),Matches!K21,0),"") -> 0 | DD20: =Matches!M21 -> Norway | DE20: =IF(AND(Matches!J21<>"",Matches!K21<>""),IF(DB20>DC20,"W",IF(DB20=DC20,"D","L")),"") | DF20: =IF(DE20<>"",IF(DE20="W","L",IF(DE20="L","W","D")),"") | DS20: =EE20 -> Paraguay | DT20: DR20 | DV20: 14 | DW20: -5.5 | DY20: 14 | DZ20: =EA20 -> 46188.5 | EA20: 46188.5 | EB20: =EA20+TimeZoneData/24 -> 46188.5 | EE20: =INDEX(Language!$A$1:$K$177,MATCH(Setup!B21,Language!$B$1:$B$177,0),MATCH(Setup!$C$5,Language!$A$1:$J$1,0)) -> Paraguay
A21: =Setup!F19+100 -> 138 | B21: =VLOOKUP(C21,CX$18:CY$22,2,FALSE) -> 3 | C21: =EE18 -> Scotland | D21: =SUMPRODUCT((DA$3:DA$105=C21)*(DE$3:DE$105="W"))+SUMPRODUCT((DD$3:DD$105=C21)*(DF$3:DF$105="W")) -> 0 | E21: =SUMPRODUCT((DA$3:DA$105=C21)*(DE$3:DE$105="D"))+SUMPRODUCT((DD$3:DD$105=C21)*(DF$3:DF$105="D")) -> 0 | F21: =SUMPRODUCT((DA$3:DA$105=C21)*(DE$3:DE$105="L"))+SUMPRODUCT((DD$3:DD$105=C21)*(DF$3:DF$105="L")) -> 0 | G21: =SUMIF(DA3:DA123,C21,DB3:DB123)+SUMIF(DD3:DD123,C21,DC3:DC123) -> 0 | H21: =SUMIF(DD3:DD123,C21,DB3:DB123)+SUMIF(DA3:DA123,C21,DC3:DC123) -> 0 | I21: =G21-H21+1000 -> 1000 | J21: =D21*3+E21*1 -> 0 | K21: =IF(Setup!G19<>"",Setup!G19,-A21) -> -138 | L21: =IF(COUNTIF(J18:J22,4)<>4,RANK(J21,J18:J22),J100) -> 1 | N21: =SUMPRODUCT((L18:L21=L21)*(K18:K21<K21))+L21 -> 2 | O21: =INDEX(C18:C22,MATCH(4,N18:N22,0),0) -> Brazil | P21: =INDEX(L18:L22,MATCH(O21,C18:C22,0),0) -> 1 | Q21: =IF(AND(Q20<>"",P21=1),O21,"") -> Brazil | R21: =IF(AND(R20<>"",P22=2),O22,"") | V21: =IF(Q21<>"",Q21,"") -> Brazil | W21: =SUMPRODUCT((DA$3:DA$105=V21)*(DD$3:DD$105=V22)*(DE$3:DE$105="W"))+SUMPRODUCT((DA$3:DA$105=V21)*(DD$3:DD$105=V18)*(DE$3:DE$105="W"))+SUMPRODUCT((DA$3:DA$105=V21)*(DD$3:DD$105=V19)*(DE$3:DE$105="W"))+SUMPRODUCT((DA$3:DA$105=V21)*(DD$3:DD$105=V20)*(DE$3:DE$105="W"))+SUMPRODUCT((DA$3:DA$105=V22)*(DD$3:DD$105=V21)*(DF$3:DF$105="W"))+SUMPRODUCT((DA$3:DA$105=V18)*(DD$3:DD$105=V21)*(DF$3:DF$105="W"))+SUMPRODUCT((DA$3:DA$105=V19)*(DD$3:DD$105=V21)*(DF$3:DF$105="W"))+SUMPRODUCT((DA$3:DA$105=V20)*(DD$3:DD$105=V21)*(DF$3:DF$105="W")) -> 0 | X21: =SUMPRODUCT((DA$3:DA$105=V21)*(DD$3:DD$105=V22)*(DE$3:DE$105="D"))+SUMPRODUCT((DA$3:DA$105=V21)*(DD$3:DD$105=V18)*(DE$3:DE$105="D"))+SUMPRODUCT((DA$3:DA$105=V21)*(DD$3:DD$105=V19)*(DE$3:DE$105="D"))+SUMPRODUCT((DA$3:DA$105=V21)*(DD$3:DD$105=V20)*(DE$3:DE$105="D"))+SUMPRODUCT((DA$3:DA$105=V22)*(DD$3:DD$105=V21)*(DE$3:DE$105="D"))+SUMPRODUCT((DA$3:DA$105=V18)*(DD$3:DD$105=V21)*(DE$3:DE$105="D"))+SUMPRODUCT((DA$3:DA$105=V19)*(DD$3:DD$105=V21)*(DE$3:DE$105="D"))+SUMPRODUCT((DA$3:DA$105=V20)*(DD$3:DD$105=V21)*(DE$3:DE$105="D")) -> 0 | Y21: =SUMPRODUCT((DA$3:DA$105=V21)*(DD$3:DD$105=V22)*(DE$3:DE$105="L"))+SUMPRODUCT((DA$3:DA$105=V21)*(DD$3:DD$105=V18)*(DE$3:DE$105="L"))+SUMPRODUCT((DA$3:DA$105=V21)*(DD$3:DD$105=V19)*(DE$3:DE$105="L"))+SUMPRODUCT((DA$3:DA$105=V21)*(DD$3:DD$105=V20)*(DE$3:DE$105="L"))+SUMPRODUCT((DA$3:DA$105=V22)*(DD$3:DD$105=V21)*(DF$3:DF$105="L"))+SUMPRODUCT((DA$3:DA$105=V18)*(DD$3:DD$105=V21)*(DF$3:DF$105="L"))+SUMPRODUCT((DA$3:DA$105=V19)*(DD$3:DD$105=V21)*(DF$3:DF$105="L"))+SUMPRODUCT((DA$3:DA$105=V20)*(DD$3:DD$105=V21)*(DF$3:DF$105="L")) -> 0 | Z21: =SUMPRODUCT((DA$3:DA$105=V21)*(DD$3:DD$105=V22)*DB$3:DB$105)+SUMPRODUCT((DA$3:DA$105=V21)*(DD$3:DD$105=V18)*DB$3:DB$105)+SUMPRODUCT((DA$3:DA$105=V21)*(DD$3:DD$105=V19)*DB$3:DB$105)+SUMPRODUCT((DA$3:DA$105=V21)*(DD$3:DD$105=V20)*DB$3:DB$105)+SUMPRODUCT((DA$3:DA$105=V22)*(DD$3:DD$105=V21)*DC$3:DC$105)+SUMPRODUCT((DA$3:DA$105=V18)*(DD$3:DD$105=V21)*DC$3:DC$105)+SUMPRODUCT((DA$3:DA$105=V19)*(DD$3:DD$105=V21)*DC$3:DC$105)+SUMPRODUCT((DA$3:DA$105=V20)*(DD$3:DD$105=V21)*DC$3:DC$105) -> 0 | AA21: =SUMPRODUCT((DA$3:DA$105=V21)*(DD$3:DD$105=V22)*DC$3:DC$105)+SUMPRODUCT((DA$3:DA$105=V21)*(DD$3:DD$105=V18)*DC$3:DC$105)+SUMPRODUCT((DA$3:DA$105=V21)*(DD$3:DD$105=V19)*DC$3:DC$105)+SUMPRODUCT((DA$3:DA$105=V21)*(DD$3:DD$105=V20)*DC$3:DC$105)+SUMPRODUCT((DA$3:DA$105=V22)*(DD$3:DD$105=V21)*DB$3:DB$105)+SUMPRODUCT((DA$3:DA$105=V18)*(DD$3:DD$105=V21)*DB$3:DB$105)+SUMPRODUCT((DA$3:DA$105=V19)*(DD$3:DD$105=V21)*DB$3:DB$105)+SUMPRODUCT((DA$3:DA$105=V20)*(DD$3:DD$105=V21)*DB$3:DB$105) -> 0 | AB21: =Z21-AA21+1000 -> 1000 | AC21: =IF(V21<>"",W21*3+X21*1,"") -> 0 | AD21: =IF(V21<>"",VLOOKUP(V21,C$4:I$52,7,FALSE),"") -> 1000 | AE21: =IF(V21<>"",VLOOKUP(V21,C$4:I$52,5,FALSE),"") -> 0 | AF21: =IF(V21<>"",VLOOKUP(V21,C$4:K$52,9,FALSE),"") -> -105 | AG21: =AC21 -> 0 | AH21: =IF(V21<>"",RANK(AG21,AG18:AG22),"") -> 1 | AI21: =IF(V21<>"",SUMPRODUCT((AG18:AG22=AG21)*(AB18:AB22>AB21)),"") -> 0 | AJ21: =IF(V21<>"",SUMPRODUCT((AG18:AG22=AG21)*(AB18:AB22=AB21)*(Z18:Z22>Z21)),"") -> 0 | AK21: =IF(V21<>"",SUMPRODUCT((AG18:AG22=AG21)*(AB18:AB22=AB21)*(Z18:Z22=Z21)*(AD18:AD22>AD21)),"") -> 0 | AL21: =IF(V21<>"",SUMPRODUCT((AG18:AG22=AG21)*(AB18:AB22=AB21)*(Z18:Z22=Z21)*(AD18:AD22=AD21)*(AE18:AE22>AE21)),"") -> 0 | AM21: =IF(V21<>"",SUMPRODUCT((AG18:AG22=AG21)*(AB18:AB22=AB21)*(Z18:Z22=Z21)*(AD18:AD22=AD21)*(AE18:AE22=AE21)*(AF18:AF22>AF21)),"") -> 0 | AN21: =IF(V21<>"",IF(AN100<>"",IF(U96=3,AN100,AN100+U96),SUM(AH21:AM21)),"") -> 1 | AO21: =IF(V21<>"",INDEX(V18:V22,MATCH(4,AN18:AN22,0),0),"") -> Haiti | AP21: =IF(R20<>"",R20,"") | AQ21: =IF(AP21<>"",SUMPRODUCT((DA$3:DA$105=AP21)*(DD$3:DD$105=AP22)*(DE$3:DE$105="W"))+SUMPRODUCT((DA$3:DA$105=AP21)*(DD$3:DD$105=AP19)*(DE$3:DE$105="W"))+SUMPRODUCT((DA$3:DA$105=AP21)*(DD$3:DD$105=AP20)*(DE$3:DE$105="W"))+SUMPRODUCT((DA$3:DA$105=AP22)*(DD$3:DD$105=AP21)*(DF$3:DF$105="W"))+SUMPRODUCT((DA$3:DA$105=AP19)*(DD$3:DD$105=AP21)*(DF$3:DF$105="W"))+SUMPRODUCT((DA$3:DA$105=AP20)*(DD$3:DD$105=AP21)*(DF$3:DF$105="W")),"") | AR21: =IF(AP21<>"",SUMPRODUCT((DA$3:DA$105=AP21)*(DD$3:DD$105=AP22)*(DE$3:DE$105="D"))+SUMPRODUCT((DA$3:DA$105=AP21)*(DD$3:DD$105=AP19)*(DE$3:DE$105="D"))+SUMPRODUCT((DA$3:DA$105=AP21)*(DD$3:DD$105=AP20)*(DE$3:DE$105="D"))+SUMPRODUCT((DA$3:DA$105=AP22)*(DD$3:DD$105=AP21)*(DE$3:DE$105="D"))+SUMPRODUCT((DA$3:DA$105=AP19)*(DD$3:DD$105=AP21)*(DE$3:DE$105="D"))+SUMPRODUCT((DA$3:DA$105=AP20)*(DD$3:DD$105=AP21)*(DE$3:DE$105="D")),"") | AS21: =IF(AP21<>"",SUMPRODUCT((DA$3:DA$105=AP21)*(DD$3:DD$105=AP22)*(DE$3:DE$105="L"))+SUMPRODUCT((DA$3:DA$105=AP21)*(DD$3:DD$105=AP19)*(DE$3:DE$105="L"))+SUMPRODUCT((DA$3:DA$105=AP21)*(DD$3:DD$105=AP20)*(DE$3:DE$105="L"))+SUMPRODUCT((DA$3:DA$105=AP22)*(DD$3:DD$105=AP21)*(DF$3:DF$105="L"))+SUMPRODUCT((DA$3:DA$105=AP19)*(DD$3:DD$105=AP21)*(DF$3:DF$105="L"))+SUMPRODUCT((DA$3:DA$105=AP20)*(DD$3:DD$105=AP21)*(DF$3:DF$105="L")),"") | AT21: =SUMPRODUCT((DA$3:DA$105=AP21)*(DD$3:DD$105=AP22)*DB$3:DB$105)+SUMPRODUCT((DA$3:DA$105=AP21)*(DD$3:DD$105=AP18)*DB$3:DB$105)+SUMPRODUCT((DA$3:DA$105=AP21)*(DD$3:DD$105=AP19)*DB$3:DB$105)+SUMPRODUCT((DA$3:DA$105=AP21)*(DD$3:DD$105=AP20)*DB$3:DB$105)+SUMPRODUCT((DA$3:DA$105=AP22)*(DD$3:DD$105=AP21)*DC$3:DC$105)+SUMPRODUCT((DA$3:DA$105=AP18)*(DD$3:DD$105=AP21)*DC$3:DC$105)+SUMPRODUCT((DA$3:DA$105=AP19)*(DD$3:DD$105=AP21)*DC$3:DC$105)+SUMPRODUCT((DA$3:DA$105=AP20)*(DD$3:DD$105=AP21)*DC$3:DC$105) -> 0 | AU21: =SUMPRODUCT((DA$3:DA$105=AP21)*(DD$3:DD$105=AP22)*DC$3:DC$105)+SUMPRODUCT((DA$3:DA$105=AP21)*(DD$3:DD$105=AP18)*DC$3:DC$105)+SUMPRODUCT((DA$3:DA$105=AP21)*(DD$3:DD$105=AP19)*DC$3:DC$105)+SUMPRODUCT((DA$3:DA$105=AP21)*(DD$3:DD$105=AP20)*DC$3:DC$105)+SUMPRODUCT((DA$3:DA$105=AP22)*(DD$3:DD$105=AP21)*DB$3:DB$105)+SUMPRODUCT((DA$3:DA$105=AP18)*(DD$3:DD$105=AP21)*DB$3:DB$105)+SUMPRODUCT((DA$3:DA$105=AP19)*(DD$3:DD$105=AP21)*DB$3:DB$105)+SUMPRODUCT((DA$3:DA$105=AP20)*(DD$3:DD$105=AP21)*DB$3:DB$105) -> 0 | AV21: =AT21-AU21+1000 -> 1000 | AW21: =IF(AP21<>"",AQ21*3+AR21*1,"") | AX21: =IF(AP21<>"",VLOOKUP(AP21,C$4:I$52,7,FALSE),"") | AY21: =IF(AP21<>"",VLOOKUP(AP21,C$4:I$52,5,FALSE),"") | AZ21: =IF(AP21<>"",VLOOKUP(AP21,C$4:K$52,9,FALSE),"") | BA21: =AW21 | BB21: =IF(AP21<>"",RANK(BA21,BA18:BA22),"") | BC21: =IF(AP21<>"",SUMPRODUCT((BA18:BA22=BA21)*(AV18:AV22>AV21)),"") | BD21: =IF(AP21<>"",SUMPRODUCT((BA18:BA22=BA21)*(AV18:AV22=AV21)*(AT18:AT22>AT21)),"") | BE21: =IF(AP21<>"",SUMPRODUCT((BA18:BA22=BA21)*(AV18:AV22=AV21)*(AT18:AT22=AT21)*(AX18:AX22>AX21)),"") | BF21: =IF(AP21<>"",SUMPRODUCT((BA18:BA22=BA21)*(AV18:AV22=AV21)*(AT18:AT22=AT21)*(AX18:AX22=AX21)*(AY18:AY22>AY21)),"") | BG21: =IF(AP21<>"",SUMPRODUCT((BA18:BA22=BA21)*(AV18:AV22=AV21)*(AT18:AT22=AT21)*(AX18:AX22=AX21)*(AY18:AY22=AY21)*(AZ18:AZ22>AZ21)),"") | BH21: =IF(AP21<>"",IF(BH100<>"",IF(AO96=3,BH100,BH100+AO96),SUM(BB21:BG21)+1),"") | BI21: =IF(AP21<>"",INDEX(AP19:AP22,MATCH(4,BH19:BH22,0),0),"") | BJ21: =IF(S19<>"",S19,"") | BK21: =SUMPRODUCT((DA$3:DA$105=BJ21)*(DD$3:DD$105=BJ22)*(DE$3:DE$105="W"))+SUMPRODUCT((DA$3:DA$105=BJ21)*(DD$3:DD$105=BJ23)*(DE$3:DE$105="W"))+SUMPRODUCT((DA$3:DA$105=BJ21)*(DD$3:DD$105=BJ20)*(DE$3:DE$105="W"))+SUMPRODUCT((DA$3:DA$105=BJ22)*(DD$3:DD$105=BJ21)*(DF$3:DF$105="W"))+SUMPRODUCT((DA$3:DA$105=BJ23)*(DD$3:DD$105=BJ21)*(DF$3:DF$105="W"))+SUMPRODUCT((DA$3:DA$105=BJ20)*(DD$3:DD$105=BJ21)*(DF$3:DF$105="W")) -> 0 | BL21: =SUMPRODUCT((DA$3:DA$105=BJ21)*(DD$3:DD$105=BJ22)*(DE$3:DE$105="D"))+SUMPRODUCT((DA$3:DA$105=BJ21)*(DD$3:DD$105=BJ23)*(DE$3:DE$105="D"))+SUMPRODUCT((DA$3:DA$105=BJ21)*(DD$3:DD$105=BJ20)*(DE$3:DE$105="D"))+SUMPRODUCT((DA$3:DA$105=BJ22)*(DD$3:DD$105=BJ21)*(DE$3:DE$105="D"))+SUMPRODUCT((DA$3:DA$105=BJ23)*(DD$3:DD$105=BJ21)*(DE$3:DE$105="D"))+SUMPRODUCT((DA$3:DA$105=BJ20)*(DD$3:DD$105=BJ21)*(DE$3:DE$105="D")) -> 0 | BM21: =SUMPRODUCT((DA$3:DA$105=BJ21)*(DD$3:DD$105=BJ22)*(DE$3:DE$105="L"))+SUMPRODUCT((DA$3:DA$105=BJ21)*(DD$3:DD$105=BJ23)*(DE$3:DE$105="L"))+SUMPRODUCT((DA$3:DA$105=BJ21)*(DD$3:DD$105=BJ20)*(DE$3:DE$105="L"))+SUMPRODUCT((DA$3:DA$105=BJ22)*(DD$3:DD$105=BJ21)*(DF$3:DF$105="L"))+SUMPRODUCT((DA$3:DA$105=BJ23)*(DD$3:DD$105=BJ21)*(DF$3:DF$105="L"))+SUMPRODUCT((DA$3:DA$105=BJ20)*(DD$3:DD$105=BJ21)*(DF$3:DF$105="L")) -> 0 | BN21: =SUMPRODUCT((DA$3:DA$105=BJ21)*(DD$3:DD$105=BJ22)*DB$3:DB$105)+SUMPRODUCT((DA$3:DA$105=BJ21)*(DD$3:DD$105=BJ18)*DB$3:DB$105)+SUMPRODUCT((DA$3:DA$105=BJ21)*(DD$3:DD$105=BJ19)*DB$3:DB$105)+SUMPRODUCT((DA$3:DA$105=BJ21)*(DD$3:DD$105=BJ20)*DB$3:DB$105)+SUMPRODUCT((DA$3:DA$105=BJ22)*(DD$3:DD$105=BJ21)*DC$3:DC$105)+SUMPRODUCT((DA$3:DA$105=BJ18)*(DD$3:DD$105=BJ21)*DC$3:DC$105)+SUMPRODUCT((DA$3:DA$105=BJ19)*(DD$3:DD$105=BJ21)*DC$3:DC$105)+SUMPRODUCT((DA$3:DA$105=BJ20)*(DD$3:DD$105=BJ21)*DC$3:DC$105) -> 0 | BO21: =SUMPRODUCT((DA$3:DA$105=BJ21)*(DD$3:DD$105=BJ22)*DC$3:DC$105)+SUMPRODUCT((DA$3:DA$105=BJ21)*(DD$3:DD$105=BJ18)*DC$3:DC$105)+SUMPRODUCT((DA$3:DA$105=BJ21)*(DD$3:DD$105=BJ19)*DC$3:DC$105)+SUMPRODUCT((DA$3:DA$105=BJ21)*(DD$3:DD$105=BJ20)*DC$3:DC$105)+SUMPRODUCT((DA$3:DA$105=BJ22)*(DD$3:DD$105=BJ21)*DB$3:DB$105)+SUMPRODUCT((DA$3:DA$105=BJ18)*(DD$3:DD$105=BJ21)*DB$3:DB$105)+SUMPRODUCT((DA$3:DA$105=BJ19)*(DD$3:DD$105=BJ21)*DB$3:DB$105)+SUMPRODUCT((DA$3:DA$105=BJ20)*(DD$3:DD$105=BJ21)*DB$3:DB$105) -> 0 | BP21: =BN21-BO21+1000 -> 1000 | BQ21: =IF(BJ21<>"",BK21*3+BL21*1,"") | BR21: =IF(BJ21<>"",VLOOKUP(BJ21,C$4:I$52,7,FALSE),"") | BS21: =IF(BJ21<>"",VLOOKUP(BJ21,C$4:I$52,5,FALSE),"") | BT21: =IF(BJ21<>"",VLOOKUP(BJ21,C$4:K$52,9,FALSE),"") | BU21: =BQ21 | BV21: =IF(BJ21<>"",RANK(BU21,BU18:BU22),"") | BW21: =IF(BJ21<>"",SUMPRODUCT((BU18:BU22=BU21)*(BP18:BP22>BP21)),"") | BX21: =IF(BJ21<>"",SUMPRODUCT((BU18:BU22=BU21)*(BP18:BP22=BP21)*(BN18:BN22>BN21)),"") | BY21: =IF(BJ21<>"",SUMPRODUCT((BU18:BU22=BU21)*(BP18:BP22=BP21)*(BN18:BN22=BN21)*(BR18:BR22>BR21)),"") | BZ21: =IF(BJ21<>"",SUMPRODUCT((BU18:BU22=BU21)*(BP18:BP22=BP21)*(BN18:BN22=BN21)*(BR18:BR22=BR21)*(BS18:BS22>BS21)),"") | CA21: =IF(BJ21<>"",SUMPRODUCT((BU18:BU22=BU21)*(BP18:BP22=BP21)*(BN18:BN22=BN21)*(BR18:BR22=BR21)*(BS18:BS22=BS21)*(BT18:BT22>BT21)),"") | CB21: =IF(BJ21<>"",SUM(BV21:CA21)+2,"") | CC21: =IF(BJ21<>"",INDEX(BJ20:BJ22,MATCH(4,CB20:CB22,0),0),"") | CD21: =IF(T18<>"",T18,"") | CE21: =SUMPRODUCT((DA$3:DA$105=CD21)*(DD$3:DD$105=CD22)*(DE$3:DE$105="W"))+SUMPRODUCT((DA$3:DA$105=CD21)*(DD$3:DD$105=CD23)*(DE$3:DE$105="W"))+SUMPRODUCT((DA$3:DA$105=CD21)*(DD$3:DD$105=CD24)*(DE$3:DE$105="W"))+SUMPRODUCT((DA$3:DA$105=CD22)*(DD$3:DD$105=CD21)*(DF$3:DF$105="W"))+SUMPRODUCT((DA$3:DA$105=CD23)*(DD$3:DD$105=CD21)*(DF$3:DF$105="W"))+SUMPRODUCT((DA$3:DA$105=CD24)*(DD$3:DD$105=CD21)*(DF$3:DF$105="W")) -> 0 | CF21: =SUMPRODUCT((DA$3:DA$105=CD21)*(DD$3:DD$105=CD22)*(DE$3:DE$105="D"))+SUMPRODUCT((DA$3:DA$105=CD21)*(DD$3:DD$105=CD23)*(DE$3:DE$105="D"))+SUMPRODUCT((DA$3:DA$105=CD21)*(DD$3:DD$105=CD24)*(DE$3:DE$105="D"))+SUMPRODUCT((DA$3:DA$105=CD22)*(DD$3:DD$105=CD21)*(DE$3:DE$105="D"))+SUMPRODUCT((DA$3:DA$105=CD23)*(DD$3:DD$105=CD21)*(DE$3:DE$105="D"))+SUMPRODUCT((DA$3:DA$105=CD24)*(DD$3:DD$105=CD21)*(DE$3:DE$105="D")) -> 0 | CG21: =SUMPRODUCT((DA$3:DA$105=CD21)*(DD$3:DD$105=CD22)*(DE$3:DE$105="L"))+SUMPRODUCT((DA$3:DA$105=CD21)*(DD$3:DD$105=CD23)*(DE$3:DE$105="L"))+SUMPRODUCT((DA$3:DA$105=CD21)*(DD$3:DD$105=CD24)*(DE$3:DE$105="L"))+SUMPRODUCT((DA$3:DA$105=CD22)*(DD$3:DD$105=CD21)*(DF$3:DF$105="L"))+SUMPRODUCT((DA$3:DA$105=CD23)*(DD$3:DD$105=CD21)*(DF$3:DF$105="L"))+SUMPRODUCT((DA$3:DA$105=CD24)*(DD$3:DD$105=CD21)*(DF$3:DF$105="L")) -> 0 | CH21: =SUMPRODUCT((DA$3:DA$105=CD21)*(DD$3:DD$105=CD22)*DB$3:DB$105)+SUMPRODUCT((DA$3:DA$105=CD21)*(DD$3:DD$105=CD18)*DB$3:DB$105)+SUMPRODUCT((DA$3:DA$105=CD21)*(DD$3:DD$105=CD19)*DB$3:DB$105)+SUMPRODUCT((DA$3:DA$105=CD21)*(DD$3:DD$105=CD20)*DB$3:DB$105)+SUMPRODUCT((DA$3:DA$105=CD22)*(DD$3:DD$105=CD21)*DC$3:DC$105)+SUMPRODUCT((DA$3:DA$105=CD18)*(DD$3:DD$105=CD21)*DC$3:DC$105)+SUMPRODUCT((DA$3:DA$105=CD19)*(DD$3:DD$105=CD21)*DC$3:DC$105)+SUMPRODUCT((DA$3:DA$105=CD20)*(DD$3:DD$105=CD21)*DC$3:DC$105) -> 0 | CI21: =SUMPRODUCT((DA$3:DA$105=CD21)*(DD$3:DD$105=CD22)*DC$3:DC$105)+SUMPRODUCT((DA$3:DA$105=CD21)*(DD$3:DD$105=CD18)*DC$3:DC$105)+SUMPRODUCT((DA$3:DA$105=CD21)*(DD$3:DD$105=CD19)*DC$3:DC$105)+SUMPRODUCT((DA$3:DA$105=CD21)*(DD$3:DD$105=CD20)*DC$3:DC$105)+SUMPRODUCT((DA$3:DA$105=CD22)*(DD$3:DD$105=CD21)*DB$3:DB$105)+SUMPRODUCT((DA$3:DA$105=CD18)*(DD$3:DD$105=CD21)*DB$3:DB$105)+SUMPRODUCT((DA$3:DA$105=CD19)*(DD$3:DD$105=CD21)*DB$3:DB$105)+SUMPRODUCT((DA$3:DA$105=CD20)*(DD$3:DD$105=CD21)*DB$3:DB$105) -> 0 | CJ21: =CH21-CI21+1000 -> 1000 | CK21: =IF(CD21<>"",CE21*3+CF21*1,"") | CL21: =IF(CD21<>"",VLOOKUP(CD21,C$4:I$52,7,FALSE),"") | CM21: =IF(CD21<>"",VLOOKUP(CD21,C$4:I$52,5,FALSE),"") | CN21: =IF(CD21<>"",VLOOKUP(CD21,C$4:K$52,9,FALSE),"") | CO21: =CK21 | CP21: =IF(CD21<>"",RANK(CO21,CO18:CO22),"") | CQ21: =IF(CD21<>"",SUMPRODUCT((CO18:CO22=CO21)*(CJ18:CJ22>CJ21)),"") | CR21: =IF(CD21<>"",SUMPRODUCT((CO18:CO22=CO21)*(CJ18:CJ22=CJ21)*(CH18:CH22>CH21)),"") | CS21: =IF(CD21<>"",SUMPRODUCT((CO18:CO22=CO21)*(CJ18:CJ22=CJ21)*(CH18:CH22=CH21)*(CL18:CL22>CL21)),"") | CT21: =IF(CD21<>"",SUMPRODUCT((CO18:CO22=CO21)*(CJ18:CJ22=CJ21)*(CH18:CH22=CH21)*(CL18:CL22=CL21)*(CM18:CM22>CM21)),"") | CU21: =IF(CD21<>"",SUMPRODUCT((CO18:CO22=CO21)*(CJ18:CJ22=CJ21)*(CH18:CH22=CH21)*(CL18:CL22=CL21)*(CM18:CM22=CM21)*(CN18:CN22>CN21)),"") | CV21: =IF(CD21<>"",SUM(CP21:CU21)+3,"") | CW21: =IF(CD21<>"",IF(CV21=4,CD21,CD22),"") | CX21: =IF(CW21<>"",CW21,IF(CC21<>"",CC21,IF(BI21<>"",BI21,IF(AO21<>"",AO21,O21)))) -> Haiti | CY21: 4 | CZ21: 19 | DA21: =IF(LEFT(About!C5,2)="jo",Matches!H22,"Argentine") -> Argentina | DB21: =IF($DA$2<>"",IF(AND(Matches!J22<>"",Matches!K22<>""),Matches!J22,0),"") -> 0 | DC21: =IF($DA$2<>"",IF(AND(Matches!J22<>"",Matches!K22<>""),Matches!K22,0),"") -> 0 | DD21: =Matches!M22 -> Algeria | DE21: =IF(AND(Matches!J22<>"",Matches!K22<>""),IF(DB21>DC21,"W",IF(DB21=DC21,"D","L")),"") | DF21: =IF(DE21<>"",IF(DE21="W","L",IF(DE21="L","W","D")),"") | DS21: =EE21 -> Australia | DT21: DR21 | DV21: 15 | DW21: -5 | DY21: 15 | DZ21: =EA21 -> 46188.875 | EA21: 46188.875 | EB21: =EA21+TimeZoneData/24 -> 46188.875 | EE21: =INDEX(Language!$A$1:$K$177,MATCH(Setup!B22,Language!$B$1:$B$177,0),MATCH(Setup!$C$5,Language!$A$1:$J$1,0)) -> Australia
